{"text_format":"1","workbook":"xlsx","n_sheets":11,"sheets":["Set-Up","Paye Calculator","NSSF","NHIF","P10-Report","Payslip","P9A","EmpGenInfo(ESS1P)","Monthly PayeDB","Validator","SUMMARY"],"not_rendered":{"charts":0,"images":30,"macros":1,"external_links":0,"defined_names":25,"comments":0,"pivot_tables":0},"unopened":[],"bounds":{"document_bytes":16777216,"sheet_cells":100000,"rows_first":2000,"rows_last":500,"rows_between":2000,"halvings":0,"cell_chars":16384,"cell_head_chars":4096},"cells_cut":0,"cells_raw":0,"read":"whole","date_system":"1900"}

{"sheet":"Set-Up","index":0,"n_rows":120,"n_cols":6,"rows_kept":120,"cut":false,"hidden":false,"merged":[[0,3,1,11],[4,3,4,5]]}
[{"$f":"IFERROR(IF(AND(D7<>\"\",D8<>\"\",D9<>\"\"),TRUE,FALSE),FALSE)","v":true},null,null,"SET UP "]
[{"$f":"IFERROR(IF(AND(#REF!<>\"\",#REF!<>\"\",#REF!<>\"\"),TRUE,FALSE),FALSE)","v":false}]
[]
["Update Number"]
[14,null,null,"TAXATION RATE"]
["Next Emp Number",null,null,"NORMAL","RATES","Personal Relife"]
[{"$f":"IFERROR(MAX(Employee_ID)+1,1)","v":15},null,null,24000,0.1,2400]
["Delete Row",null,null,8333,0.25]
[{"$f":"IFERROR(MATCH(A5,Employee_ID,0)+5,\"\")","v":19},null,null,32332,0.3]
["PicPath"]
[]
["Test"]
[14]
["Save"]
[{"$f":"IFERROR(MATCH(A13,Employee_ID,0),\"\")","v":14}]
["Duplicate"]
[{"$f":"IF(A15<>\"\",TRUE,FALSE)","v":true}]
[]
["Residental Status"]
["Resident"]
["Non-Resident"]
[]
["Type of Employee"]
["Primary Employee"]
["Secondary Employee"]
[]
["Type Of Housing"]
["Benefit not given"]
["Employer's Owned House"]
["Employer's Rented House"]
["Agriculture Farm"]
["House to Non full time service Director"]
[]
["Years"]
[2000]
[{"$f":"A35+1","v":2001}]
[{"$f":"A36+1","v":2002}]
[2003]
[2004]
[2005]
[2006]
[2007]
[2008]
[2009]
[2010]
[2011]
[2012]
[2013]
[2014]
[2015]
[2016]
[2017]
[2018]
[2019]
[2020]
[2021]
[2022]
[2023]
[2024]
[2025]
[2026]
[2027]
[2028]
[2029]
[2030]
[2031]
[2032]
[2033]
[2034]
[2035]
[2036]
[2037]
[2038]
[2039]
[2040]
[2041]
[2042]
[2043]
[2044]
[2045]
[2046]
[2047]
[2048]
[2049]
[2050]
[2051]
[2052]
[2053]
[2054]
[2055]
[2056]
[2057]
[2058]
[2059]
[2060]
[2061]
[2062]
[2063]
[2064]
[2065]
[{"$f":"A100+1","v":2066}]
[2067]
[2068]
[2069]
[2070]
[2071]
[2072]
[2073]
[2074]
[2075]
[2076]
[2077]
[2078]
[2079]
[2080]
[2081]
[2082]
[2083]
[2084]
[2085]

{"sheet":"Paye Calculator","index":1,"n_rows":42,"n_cols":45,"rows_kept":42,"cut":false,"hidden":true,"merged":[[1,2,2,2],[4,7,4,8],[4,38,4,44],[0,3,0,8],[18,38,18,44],[11,38,11,44],[1,3,2,8],[1,9,2,15]]}
[null,null,null,"PAYE CALCULATIOR",null,null,null,null,null,null,null,null,null,null,null,null,null,null,null,null,null,null,null,null,null,null,null,null,null,null,null,null,null,null,null,null," "]
["Emp Row",{"$f":"IFERROR(MATCH(E7,Employee_ID)+5,\"\")","v":""}]
["Total Cash Pay",{"$f":"SUM(G9,G11,G13,G15,G17,I9,I11)","v":0}]
["Total Non-Cash Pay",{"$f":"SUM(I13,I15)","v":0}]
["Emp Income",{"$f":"B3+B4","v":0},null,null,null,null,null,"Update Transaction Controls",null,null,null,null,null,null,null,null,null,null,null,null,null,null,null,null,null,null,null,null,null,null,null,null,null,null,null,null,null,null,"Paye Normal"]
["Total Allo Deductions",{"$f":"E32+E34+E36","v":0},null,"Emp Income","Paye",null,null,"EmpID","Months",null,null,null,null,null,null,null,null,null,null,null,null,null,null,null,null,null,null,null,null,null,null,null,null,null,null,null,null,null,"NORMAL","RATES"]
["Paye",{"$f":"IFERROR(IF((AP10-G32-G34)>0,(AP10-G32-G34),0),0)","v":0},null,"Load Emp No:",null,"Year",null,null,null,null,null,null,null,null,null,null,null,null,null,null,null,null,null,null,null,null,null,null,null,null,null,null,null,null,null,null,null,null,{"$f":"'Set-Up'!$D$7","v":24000},{"$f":"'Set-Up'!$E$7","v":0.1},null,{"$f":"IFERROR(IF(($B$12-$AM$7)>1,$AM$7*AN7,0),\"\")","v":0}]
["Personal Relief",{"$f":"G32","v":0},null,null,null,null,null,null,null,null,null,null,null,null,null,null,null,null,null,null,null,null,null,null,null,null,null,null,null,null,null,null,null,null,null,null,null,null,{"$f":"'Set-Up'!$D$8","v":8333},{"$f":"'Set-Up'!$E$8","v":0.25},null,{"$f":"IFERROR(IF(($B$12-$AM$7)>$AM$8,$AM$8*$AN$8,$AS$8),0)","v":0},null,null,{"$f":"IF(AND(($B$12-$AM$7)<$AM$8,($B$12-$AM$7)>0),(($B$12-$AM$7)/$AM$8*($AM$8*$AN$8)),0)","v":0}]
["Insurance Relief",{"$f":"G34","v":0},null,"Emp Pin Number(A)",null,"Basic Salary(A)",null,"Lumpsum(A)",null,null,null,null,null,null,null,null,null,null,null,null,null,null,null,null,null,null,null,null,null,null,null,null,null,null,null,null,null,null,{"$f":"'Set-Up'!$D$9","v":32332},{"$f":"'Set-Up'!$E$9","v":0.3},null,{"$f":"IFERROR(IF(($B$12-$AM$7-$AM$8)>$AM$9,($B$12-$AM$9)*$AN$9,$AS$9),0)","v":0},null,null,{"$f":"IF(AND(($B$12-$AM$7-$AM$8)<$AM$9,($B$12-$AM$7-$AM$8)>0),(($B$12-$AM$7-$AM$8)/$AM$9*($AM$9*$AN$9)),0)","v":0}]
["FirstOccEmpDI",{"$f":"IFERROR(MATCH(H7,'Monthly PayeDB'!A6:A469,0)+5,\"\")","v":""},null,null,null,null,null,null,null,null,null,null,null,null,null,null,null,null,null,null,null,null,null,null,null,null,null,null,null,null,null,null,null,null,null,null,null,null,null,null,null,{"$f":"SUM(AP7:AP9)","v":0}]
["FirstOccMonth",null,null,"Name Of Employee(A)",null,"Housing Allowance(A)",null,"Other Allowance(A)"]
["Taxable Income",{"$f":"B5-B6","v":0},null,null,null,null,null,null,null,null,null,null,null,null,null,null,null,null,null,null,null,null,null,null,null,null,null,null,null,null,null,null,null,null,null,null,null,null,"NSSF"]
["Active Col",5,null,"Residental Status(A)",null,"Transport Allowance(A)",null,"Car Benefit(A)",null,null,null,null,null,null,null,null,null,null,null,null,null,null,null,null,null,null,null,null,null,null,null,null,null,null,null,null,null,null,"Rates","Amount",null,"Result"]
[null,null,null,null,null,null,null,null,null,null,null,null,null,null,null,null,null,null,null,null,null,null,null,null,null,null,null,null,null,null,null,null,null,null,null,null,null,null,0.06,18000]
[null,null,null,"Type of Employee(A)",null,"Leave Pay(A)",null,"Other Non-Cash Benefit(B)",null,null,null,null,null,null,null,null,null,null,null,null,null,null,null,null,null,null,null,null,null,null,null,null,null,null,null,null,null,null,"Above Limit",{"$f":"AM14*AN14","v":1080},null,{"$f":"IFERROR(IF(B3>=AN14,1080,B3*AM14),0)","v":0}]
[]
[null,null,null,"Month Of Filling(A)",null,"Director's Fee(A)",null,"Net Value Of Housing(B)"]
["Months"]
["January",null,null,"Total Cash Pay",null,"Total Non-Cash Pay(B)",null,"Overtime Allowance",null,null,null,null,null,null,null,null,null,null,null,null,null,null,null,null,null,null,null,null,null,null,null,null,null,null,null,null,null,null,"NSSF"]
["February",null,null,null,null,null,null,null,null,null,null,null,null,null,null,null,null,null,null,null,null,null,null,null,null,null,null,null,null,null,null,null,null,null,null,null,null,null,"Rates","Amount",null,"Result"]
["March",null,null,null,"Employment Income(A+B)",null,null,null,null,null,null,null,null,null,null,null,null,null,null,null,null,null,null,null,null,null,null,null,null,null,null,null,null,null,null,null,null,null,0,150,null,"Cash Pay","OutPut","Relief"]
["April",null,null,null,null,null,null,null,null,null,null,null,null,null,null,null,null,null,null,null,null,null,null,null,null,null,null,null,null,null,null,null,null,null,null,null,null,null,6000,300,null,{"$f":"B3","v":0},{"$f":"VLOOKUP(AP22,AM21:AN37,2,TRUE)","v":150},{"$f":"AQ22*15%","v":22.5}]
["May",null,null,null,null,null,null,null,null,null,null,null,null,null,null,null,null,null,null,null,null,null,null,null,null,null,null,null,null,null,null,null,null,null,null,null,null,null,8000,400]
["June",null,null,null,null,null,null,null,null,null,null,null,null,null,null,null,null,null,null,null,null,null,null,null,null,null,null,null,null,null,null,null,null,null,null,null,null,null,12000,500]
["July",null,null,null,null,null,null,null,null,null,null,null,null,null,null,null,null,null,null,null,null,null,null,null,null,null,null,null,null,null,null,null,null,null,null,null,null,null,15000,600]
["August",null,null,null,null,null,null,null,null,null,null,null,null,null,null,null,null,null,null,null,null,null,null,null,null,null,null,null,null,null,null,null,null,null,null,null,null,null,20000,750]
["September",null,null,null,null,null,null,null,null,null,null,null,null,null,null,null,null,null,null,null,null,null,null,null,null,null,null,null,null,null,null,null,null,null,null,null,null,null,25000,850]
["October",null,null,null,null,null,null,null,null,null,null,null,null,null,null,null,null,null,null,null,null,null,null,null,null,null,null,null,null,null,null,null,null,null,null,null,null,null,30000,900]
["November",null,null,null,null,null,null,null,null,null,null,null,null,null,null,null,null,null,null,null,null,null,null,null,null,null,null,null,null,null,null,null,null,null,null,null,null,null,35000,950]
["December",null,null,null,null,null,null,null,null,null,null,null,null,null,null,null,null,null,null,null,null,null,null,null,null,null,null,null,null,null,null,null,null,null,null,null,null,null,40000,1000]
["January",null,null,null,null,null,null,null,null,null,null,null,null,null,null,null,null,null,null,null,null,null,null,null,null,null,null,null,null,null,null,null,null,null,null,null,null,null,45000,1100]
["February",null,null,"Pension",null,"Monthly Relief",null,null,null,null,null,null,null,null,null,null,null,null,null,null,null,null,null,null,null,null,null,null,null,null,null,null,null,null,null,null,null,null,50000,1200]
["March",null,null,null,null,null,null,null,null,null,null,null,null,null,null,null,null,null,null,null,null,null,null,null,null,null,null,null,null,null,null,null,null,null,null,null,null,null,60000,1300]
["April",null,null,"Mortgage Interest",null,"Insurance Relief",null,null,null,null,null,null,null,null,null,null,null,null,null,null,null,null,null,null,null,null,null,null,null,null,null,null,null,null,null,null,null,null,70000,1400]
["May",null,null,null,null,null,null,null,null,null,null,null,null,null,null,null,null,null,null,null,null,null,null,null,null,null,null,null,null,null,null,null,null,null,null,null,null,null,80000,1500]
["June",null,null,"HOSP",null,"Type Of Housing",null,null,null,null,null,null,null,null,null,null,null,null,null,null,null,null,null,null,null,null,null,null,null,null,null,null,null,null,null,null,null,null,90000,1600]
["July",null,null,null,null,null,null,null,null,null,null,null,null,null,null,null,null,null,null,null,null,null,null,null,null,null,null,null,null,null,null,null,null,null,null,null,null,null,100000,1700]
["August",null,null,"PAYE"]
["September"]
["October"]
["November"]
["December"]

{"sheet":"NSSF","index":2,"n_rows":200,"n_cols":63,"rows_kept":200,"cut":false,"hidden":true,"merged":[[4,0,4,7]]}
[]
["Year",2023]
["Month","February",null,null,null,null,null,null,null,null,null,null,null,null,"Criteria","Criteria"]
[null,null,null,null,null,null,null,null,null,null,null,null,null,null,"Month Of Filling","years",null,null,null,null,"Employee Number","Month Of Filling","Pin Of Employee","Name Of Employee","Residental-Status","Type of Employee","Basic Salary","Housing Allowance","Transport Allowance","Leave Pay","Director's Fee","Lumpsum","Other Allowance","Total Cash Paye","Car Benefit","Other Non-Cash Benefit","Total Non-Cash Pay","Net-Value Of Housing","Total Gross Pay","Pension","Mortgage Interest","HOSP","Monthly Relief","Insurance Relief","Paye","Type Of Housing","Over Time Allowance","years",null,null,null,"PAYROLL NUMBER","SURNAME","OTHER NAMES","ID NO","KRA PIN","NSSF NO","GROSS PAY","VOLUNTARY",null,"Employee ID","NSSF NO","ID Number"]
["NSSF",null,null,null,null,null,null,null,null,null,null,null,null,null,{"$f":"B3","v":"February"},{"$f":"B2","v":2023},null,null,null,null,1,"February","A34578678450P","Brian Kombe Gode","Resident","Primary Employee",60000,null,null,null,null,null,null,60000,null,null,0,null,60000,1080,null,null,2400,195,9864.3499999999985,"Benefit not given",null,2023,null,null,null,{"$f":"IFERROR(U5,0)","v":1},{"$f":"IFERROR(RIGHT(X5,LEN(X5)-SEARCH(\" \",X5,FIND(\" \",X5,1)+1)),0)","v":"Gode"},{"$f":"IFERROR(LEFT(X5,SEARCH(\" \",X5,FIND(\" \",X5,1)+1)),0)","v":"Brian Kombe "},{"$f":"IFERROR(VLOOKUP(AZ5,$BI$5:$BK$200,3,FALSE),0)","v":334567890},{"$f":"IFERROR(W5,0)","v":"A34578678450P"},{"$f":"IFERROR(VLOOKUP(AZ5,$BI$5:$BK$200,2,FALSE),0)","v":84537},{"$f":"IFERROR(AH5,0)","v":60000},null,null,1,84537,334567890]
["PAYROLL NUMBER","SURNAME","OTHER NAMES","ID NO","KRA PIN","NSSF NO","GROSS PAY","VOLUNTARY",null,null,null,null,null,null,null,null,null,null,null,null,2,"February","A49898479409","Timothy Brian Odongo","Resident","Primary Employee",100000,20000,10000,null,5000,null,null,135000,null,null,0,null,135000,1080,null,null,2400,255,32304.649999999994,"Benefit not given",null,2023,null,null,null,{"$f":"IFERROR(U6,0)","v":2},{"$f":"IFERROR(RIGHT(X6,LEN(X6)-SEARCH(\" \",X6,FIND(\" \",X6,1)+1)),0)","v":"Odongo"},{"$f":"IFERROR(LEFT(X6,SEARCH(\" \",X6,FIND(\" \",X6,1)+1)),0)","v":"Timothy Brian "},{"$f":"IFERROR(VLOOKUP(AZ6,$BI$5:$BK$200,3,FALSE),0)","v":2345671},{"$f":"IFERROR(W6,0)","v":"A49898479409"},{"$f":"IFERROR(VLOOKUP(AZ6,$BI$5:$BK$200,2,FALSE),0)","v":479347},{"$f":"IFERROR(AH6,0)","v":135000},null,null,2,479347,2345671]
[null,null,null,null,null,null,null,null,null,null,null,null,null,null,null,null,null,null,null,null,3,"February","A4378678570K","Bshora Wayu Nzamo","Resident","Primary Employee",50000,null,null,null,null,null,null,50000,null,null,0,null,50000,1080,null,null,2400,180,6879.35,"Benefit not given",null,2023,null,null,null,3,{"$f":"IFERROR(RIGHT(X7,LEN(X7)-SEARCH(\" \",X7,FIND(\" \",X7,1)+1)),0)","v":"Nzamo"},"Bshora Wayu ",29675430,"A4378678570K",45768,50000,null,null,3,45768,29675430]
[null,null,null,null,null,null,null,null,null,null,null,null,null,null,null,null,null,null,null,null,4,"February","A646834690O","Wanyoni Agala Musando","Resident","Primary Employee",45000,null,null,null,null,null,null,45000,null,null,0,null,45000,1080,null,null,2400,165,5394.35,"Benefit not given",null,2023,null,null,null,4,"Musando","Wanyoni Agala ",33456789,"A646834690O",3468,45000,null,null,4,3468,33456789]
[null,null,null,null,null,null,null,null,null,null,null,null,null,null,null,null,null,null,null,null,5,"February","A745878980P","Benerd Kimani Njorioge","Resident","Primary Employee",45000,null,null,null,null,null,null,45000,null,null,0,null,45000,1080,null,null,2400,165,5394.35,"Benefit not given",null,2023,null,null,null,5,"Njorioge","Benerd Kimani ",30456789,"A745878980P",456687,45000,null,null,5,456687,30456789]
[null,null,null,null,null,null,null,null,null,null,null,null,null,null,null,null,null,null,null,null,6,"February","A457899480p","Sam Jacob Mroki","Resident","Primary Employee",35000,null,null,null,null,null,null,35000,null,null,0,null,35000,1080,null,null,2400,142.5,2416.8500000000004,"Benefit not given",null,2023,null,null,null,6,"Mroki","Sam Jacob ",31567823,"A457899480p",4587,35000,null,null,6,4587,31567823]
[null,null,null,null,null,null,null,null,null,null,null,null,null,null,null,null,null,null,null,null,7,"February","A5783458890P","Joy Mueni Mutinda","Resident","Primary Employee",40000,null,null,null,null,null,null,40000,null,null,0,null,40000,1080,null,null,2400,150,3909.3500000000004,"Benefit not given",null,2023,null,null,null,7,"Mutinda","Joy Mueni ",32897938,"A5783458890P",874587,40000,null,null,7,874587,32897938]
[null,null,null,null,null,null,null,null,null,null,null,null,null,null,null,null,null,null,null,null,8,"February","A34778457890p","Kahindi Mwero Boga","Resident","Primary Employee",40000,null,null,null,null,null,null,40000,null,null,0,null,40000,1080,null,null,2400,150,3909.3500000000004,"Benefit not given",null,2023,null,null,null,8,"Boga","Kahindi Mwero ",2934567,"A34778457890p",45789,40000,null,null,8,45789,2934567]
[null,null,null,null,null,null,null,null,null,null,null,null,null,null,null,null,null,null,null,null,9,"February","A034897489E","John Boscco Bosire","Resident","Primary Employee",50000,null,null,null,null,null,null,50000,null,null,0,null,50000,1080,null,null,2400,180,6879.35,"Benefit not given",null,2023,null,null,null,9,"Bosire","John Boscco ",98347897,"A034897489E",49588,50000,null,null,9,49588,98347897]
[null,null,null,null,null,null,null,null,null,null,null,null,null,null,null,null,null,null,null,null,10,"February","A4782349790P","Hassan Abdulnasir Wario","Resident","Primary Employee",40000,null,null,null,null,null,null,40000,null,null,0,null,40000,1080,null,null,2400,150,3909.3500000000004,"Benefit not given",null,2023,null,null,null,10,"Wario","Hassan Abdulnasir ",2156789,"A4782349790P",934878,40000,null,null,10,934878,2156789]
[null,null,null,null,null,null,null,null,null,null,null,null,null,null,null,null,null,null,null,null,11,"February","A0324878234P","Jastine Makemba Batogo","Resident","Primary Employee",50000,null,null,null,null,null,null,50000,null,null,0,null,50000,1080,null,null,2400,180,6879.35,"Benefit not given",null,2023,null,null,null,11,"Batogo","Jastine Makemba ",34567890,"A0324878234P",47998,50000,null,null,11,47998,34567890]
[null,null,null,null,null,null,null,null,null,null,null,null,null,null,null,null,null,null,null,null,12,"February","A03476784359K","Janet Wairimu Wamatagi","Resident","Primary Employee",40000,null,null,null,null,null,null,40000,null,null,0,null,40000,1080,null,null,2400,150,3909.3500000000004,"Benefit not given",null,2023,null,null,null,12,"Wamatagi","Janet Wairimu ",35678910,"A03476784359K",234789,40000,null,null,12,234789,35678910]
[null,null,null,null,null,null,null,null,null,null,null,null,null,null,null,null,null,null,null,null,null,null,null,null,null,null,null,null,null,null,null,null,null,null,null,null,null,null,null,null,null,null,null,null,null,null,null,null,null,null,null,0,0,0,0,0,0,0,null,null,13,43788,34567812]
[null,null,null,null,null,null,null,null,null,null,null,null,null,null,null,null,null,null,null,null,null,null,null,null,null,null,null,null,null,null,null,null,null,null,null,null,null,null,null,null,null,null,null,null,null,null,null,null,null,null,null,0,0,0,0,0,0,0,null,null,14,238947,35267812]
[null,null,null,null,null,null,null,null,null,null,null,null,null,null,null,null,null,null,null,null,null,null,null,null,null,null,null,null,null,null,null,null,null,null,null,null,null,null,null,null,null,null,null,null,null,null,null,null,null,null,null,0,0,0,0,0,0,0]
[null,null,null,null,null,null,null,null,null,null,null,null,null,null,null,null,null,null,null,null,null,null,null,null,null,null,null,null,null,null,null,null,null,null,null,null,null,null,null,null,null,null,null,null,null,null,null,null,null,null,null,0,0,0,0,0,0,0]
[null,null,null,null,null,null,null,null,null,null,null,null,null,null,null,null,null,null,null,null,null,null,null,null,null,null,null,null,null,null,null,null,null,null,null,null,null,null,null,null,null,null,null,null,null,null,null,null,null,null,null,0,0,0,0,0,0,0]
[null,null,null,null,null,null,null,null,null,null,null,null,null,null,null,null,null,null,null,null,null,null,null,null,null,null,null,null,null,null,null,null,null,null,null,null,null,null,null,null,null,null,null,null,null,null,null,null,null,null,null,0,0,0,0,0,0,0]
[null,null,null,null,null,null,null,null,null,null,null,null,null,null,null,null,null,null,null,null,null,null,null,null,null,null,null,null,null,null,null,null,null,null,null,null,null,null,null,null,null,null,null,null,null,null,null,null,null,null,null,0,0,0,0,0,0,0]
[null,null,null,null,null,null,null,null,null,null,null,null,null,null,null,null,null,null,null,null,null,null,null,null,null,null,null,null,null,null,null,null,null,null,null,null,null,null,null,null,null,null,null,null,null,null,null,null,null,null,null,0,0,0,0,0,0,0]
[null,null,null,null,null,null,null,null,null,null,null,null,null,null,null,null,null,null,null,null,null,null,null,null,null,null,null,null,null,null,null,null,null,null,null,null,null,null,null,null,null,null,null,null,null,null,null,null,null,null,null,0,0,0,0,0,0,0]
[null,null,null,null,null,null,null,null,null,null,null,null,null,null,null,null,null,null,null,null,null,null,null,null,null,null,null,null,null,null,null,null,null,null,null,null,null,null,null,null,null,null,null,null,null,null,null,null,null,null,null,0,0,0,0,0,0,0]
[null,null,null,null,null,null,null,null,null,null,null,null,null,null,null,null,null,null,null,null,null,null,null,null,null,null,null,null,null,null,null,null,null,null,null,null,null,null,null,null,null,null,null,null,null,null,null,null,null,null,null,0,0,0,0,0,0,0]
[null,null,null,null,null,null,null,null,null,null,null,null,null,null,null,null,null,null,null,null,null,null,null,null,null,null,null,null,null,null,null,null,null,null,null,null,null,null,null,null,null,null,null,null,null,null,null,null,null,null,null,0,0,0,0,0,0,0]
[null,null,null,null,null,null,null,null,null,null,null,null,null,null,null,null,null,null,null,null,null,null,null,null,null,null,null,null,null,null,null,null,null,null,null,null,null,null,null,null,null,null,null,null,null,null,null,null,null,null,null,0,0,0,0,0,0,0]
[null,null,null,null,null,null,null,null,null,null,null,null,null,null,null,null,null,null,null,null,null,null,null,null,null,null,null,null,null,null,null,null,null,null,null,null,null,null,null,null,null,null,null,null,null,null,null,null,null,null,null,0,0,0,0,0,0,0]
[null,null,null,null,null,null,null,null,null,null,null,null,null,null,null,null,null,null,null,null,null,null,null,null,null,null,null,null,null,null,null,null,null,null,null,null,null,null,null,null,null,null,null,null,null,null,null,null,null,null,null,0,0,0,0,0,0,0]
[null,null,null,null,null,null,null,null,null,null,null,null,null,null,null,null,null,null,null,null,null,null,null,null,null,null,null,null,null,null,null,null,null,null,null,null,null,null,null,null,null,null,null,null,null,null,null,null,null,null,null,0,0,0,0,0,0,0]
[null,null,null,null,null,null,null,null,null,null,null,null,null,null,null,null,null,null,null,null,null,null,null,null,null,null,null,null,null,null,null,null,null,null,null,null,null,null,null,null,null,null,null,null,null,null,null,null,null,null,null,0,0,0,0,0,0,0]
[null,null,null,null,null,null,null,null,null,null,null,null,null,null,null,null,null,null,null,null,null,null,null,null,null,null,null,null,null,null,null,null,null,null,null,null,null,null,null,null,null,null,null,null,null,null,null,null,null,null,null,0,0,0,0,0,0,0]
[null,null,null,null,null,null,null,null,null,null,null,null,null,null,null,null,null,null,null,null,null,null,null,null,null,null,null,null,null,null,null,null,null,null,null,null,null,null,null,null,null,null,null,null,null,null,null,null,null,null,null,0,0,0,0,0,0,0]
[null,null,null,null,null,null,null,null,null,null,null,null,null,null,null,null,null,null,null,null,null,null,null,null,null,null,null,null,null,null,null,null,null,null,null,null,null,null,null,null,null,null,null,null,null,null,null,null,null,null,null,0,0,0,0,0,0,0]
[null,null,null,null,null,null,null,null,null,null,null,null,null,null,null,null,null,null,null,null,null,null,null,null,null,null,null,null,null,null,null,null,null,null,null,null,null,null,null,null,null,null,null,null,null,null,null,null,null,null,null,0,0,0,0,0,0,0]
[null,null,null,null,null,null,null,null,null,null,null,null,null,null,null,null,null,null,null,null,null,null,null,null,null,null,null,null,null,null,null,null,null,null,null,null,null,null,null,null,null,null,null,null,null,null,null,null,null,null,null,0,0,0,0,0,0,0]
[null,null,null,null,null,null,null,null,null,null,null,null,null,null,null,null,null,null,null,null,null,null,null,null,null,null,null,null,null,null,null,null,null,null,null,null,null,null,null,null,null,null,null,null,null,null,null,null,null,null,null,0,0,0,0,0,0,0]
[null,null,null,null,null,null,null,null,null,null,null,null,null,null,null,null,null,null,null,null,null,null,null,null,null,null,null,null,null,null,null,null,null,null,null,null,null,null,null,null,null,null,null,null,null,null,null,null,null,null,null,0,0,0,0,0,0,0]
[null,null,null,null,null,null,null,null,null,null,null,null,null,null,null,null,null,null,null,null,null,null,null,null,null,null,null,null,null,null,null,null,null,null,null,null,null,null,null,null,null,null,null,null,null,null,null,null,null,null,null,0,0,0,0,0,0,0]
[null,null,null,null,null,null,null,null,null,null,null,null,null,null,null,null,null,null,null,null,null,null,null,null,null,null,null,null,null,null,null,null,null,null,null,null,null,null,null,null,null,null,null,null,null,null,null,null,null,null,null,0,0,0,0,0,0,0]
[null,null,null,null,null,null,null,null,null,null,null,null,null,null,null,null,null,null,null,null,null,null,null,null,null,null,null,null,null,null,null,null,null,null,null,null,null,null,null,null,null,null,null,null,null,null,null,null,null,null,null,0,0,0,0,0,0,0]
[null,null,null,null,null,null,null,null,null,null,null,null,null,null,null,null,null,null,null,null,null,null,null,null,null,null,null,null,null,null,null,null,null,null,null,null,null,null,null,null,null,null,null,null,null,null,null,null,null,null,null,0,0,0,0,0,0,0]
[null,null,null,null,null,null,null,null,null,null,null,null,null,null,null,null,null,null,null,null,null,null,null,null,null,null,null,null,null,null,null,null,null,null,null,null,null,null,null,null,null,null,null,null,null,null,null,null,null,null,null,0,0,0,0,0,0,0]
[null,null,null,null,null,null,null,null,null,null,null,null,null,null,null,null,null,null,null,null,null,null,null,null,null,null,null,null,null,null,null,null,null,null,null,null,null,null,null,null,null,null,null,null,null,null,null,null,null,null,null,0,0,0,0,0,0,0]
[null,null,null,null,null,null,null,null,null,null,null,null,null,null,null,null,null,null,null,null,null,null,null,null,null,null,null,null,null,null,null,null,null,null,null,null,null,null,null,null,null,null,null,null,null,null,null,null,null,null,null,0,0,0,0,0,0,0]
[null,null,null,null,null,null,null,null,null,null,null,null,null,null,null,null,null,null,null,null,null,null,null,null,null,null,null,null,null,null,null,null,null,null,null,null,null,null,null,null,null,null,null,null,null,null,null,null,null,null,null,0,0,0,0,0,0,0]
[null,null,null,null,null,null,null,null,null,null,null,null,null,null,null,null,null,null,null,null,null,null,null,null,null,null,null,null,null,null,null,null,null,null,null,null,null,null,null,null,null,null,null,null,null,null,null,null,null,null,null,0,0,0,0,0,0,0]
[null,null,null,null,null,null,null,null,null,null,null,null,null,null,null,null,null,null,null,null,null,null,null,null,null,null,null,null,null,null,null,null,null,null,null,null,null,null,null,null,null,null,null,null,null,null,null,null,null,null,null,0,0,0,0,0,0,0]
[null,null,null,null,null,null,null,null,null,null,null,null,null,null,null,null,null,null,null,null,null,null,null,null,null,null,null,null,null,null,null,null,null,null,null,null,null,null,null,null,null,null,null,null,null,null,null,null,null,null,null,0,0,0,0,0,0,0]
[null,null,null,null,null,null,null,null,null,null,null,null,null,null,null,null,null,null,null,null,null,null,null,null,null,null,null,null,null,null,null,null,null,null,null,null,null,null,null,null,null,null,null,null,null,null,null,null,null,null,null,0,0,0,0,0,0,0]
[null,null,null,null,null,null,null,null,null,null,null,null,null,null,null,null,null,null,null,null,null,null,null,null,null,null,null,null,null,null,null,null,null,null,null,null,null,null,null,null,null,null,null,null,null,null,null,null,null,null,null,0,0,0,0,0,0,0]
[null,null,null,null,null,null,null,null,null,null,null,null,null,null,null,null,null,null,null,null,null,null,null,null,null,null,null,null,null,null,null,null,null,null,null,null,null,null,null,null,null,null,null,null,null,null,null,null,null,null,null,0,0,0,0,0,0,0]
[null,null,null,null,null,null,null,null,null,null,null,null,null,null,null,null,null,null,null,null,null,null,null,null,null,null,null,null,null,null,null,null,null,null,null,null,null,null,null,null,null,null,null,null,null,null,null,null,null,null,null,0,0,0,0,0,0,0]
[null,null,null,null,null,null,null,null,null,null,null,null,null,null,null,null,null,null,null,null,null,null,null,null,null,null,null,null,null,null,null,null,null,null,null,null,null,null,null,null,null,null,null,null,null,null,null,null,null,null,null,0,0,0,0,0,0,0]
[null,null,null,null,null,null,null,null,null,null,null,null,null,null,null,null,null,null,null,null,null,null,null,null,null,null,null,null,null,null,null,null,null,null,null,null,null,null,null,null,null,null,null,null,null,null,null,null,null,null,null,0,0,0,0,0,0,0]
[null,null,null,null,null,null,null,null,null,null,null,null,null,null,null,null,null,null,null,null,null,null,null,null,null,null,null,null,null,null,null,null,null,null,null,null,null,null,null,null,null,null,null,null,null,null,null,null,null,null,null,0,0,0,0,0,0,0]
[null,null,null,null,null,null,null,null,null,null,null,null,null,null,null,null,null,null,null,null,null,null,null,null,null,null,null,null,null,null,null,null,null,null,null,null,null,null,null,null,null,null,null,null,null,null,null,null,null,null,null,0,0,0,0,0,0,0]
[null,null,null,null,null,null,null,null,null,null,null,null,null,null,null,null,null,null,null,null,null,null,null,null,null,null,null,null,null,null,null,null,null,null,null,null,null,null,null,null,null,null,null,null,null,null,null,null,null,null,null,0,0,0,0,0,0,0]
[null,null,null,null,null,null,null,null,null,null,null,null,null,null,null,null,null,null,null,null,null,null,null,null,null,null,null,null,null,null,null,null,null,null,null,null,null,null,null,null,null,null,null,null,null,null,null,null,null,null,null,0,0,0,0,0,0,0]
[null,null,null,null,null,null,null,null,null,null,null,null,null,null,null,null,null,null,null,null,null,null,null,null,null,null,null,null,null,null,null,null,null,null,null,null,null,null,null,null,null,null,null,null,null,null,null,null,null,null,null,0,0,0,0,0,0,0]
[null,null,null,null,null,null,null,null,null,null,null,null,null,null,null,null,null,null,null,null,null,null,null,null,null,null,null,null,null,null,null,null,null,null,null,null,null,null,null,null,null,null,null,null,null,null,null,null,null,null,null,0,0,0,0,0,0,0]
[null,null,null,null,null,null,null,null,null,null,null,null,null,null,null,null,null,null,null,null,null,null,null,null,null,null,null,null,null,null,null,null,null,null,null,null,null,null,null,null,null,null,null,null,null,null,null,null,null,null,null,0,0,0,0,0,0,0]
[null,null,null,null,null,null,null,null,null,null,null,null,null,null,null,null,null,null,null,null,null,null,null,null,null,null,null,null,null,null,null,null,null,null,null,null,null,null,null,null,null,null,null,null,null,null,null,null,null,null,null,0,0,0,0,0,0,0]
[null,null,null,null,null,null,null,null,null,null,null,null,null,null,null,null,null,null,null,null,null,null,null,null,null,null,null,null,null,null,null,null,null,null,null,null,null,null,null,null,null,null,null,null,null,null,null,null,null,null,null,0,0,0,0,0,0,0]
[null,null,null,null,null,null,null,null,null,null,null,null,null,null,null,null,null,null,null,null,null,null,null,null,null,null,null,null,null,null,null,null,null,null,null,null,null,null,null,null,null,null,null,null,null,null,null,null,null,null,null,0,0,0,0,0,0,0]
[null,null,null,null,null,null,null,null,null,null,null,null,null,null,null,null,null,null,null,null,null,null,null,null,null,null,null,null,null,null,null,null,null,null,null,null,null,null,null,null,null,null,null,null,null,null,null,null,null,null,null,0,0,0,0,0,0,0]
[null,null,null,null,null,null,null,null,null,null,null,null,null,null,null,null,null,null,null,null,null,null,null,null,null,null,null,null,null,null,null,null,null,null,null,null,null,null,null,null,null,null,null,null,null,null,null,null,null,null,null,0,0,0,0,0,0,0]
[null,null,null,null,null,null,null,null,null,null,null,null,null,null,null,null,null,null,null,null,null,null,null,null,null,null,null,null,null,null,null,null,null,null,null,null,null,null,null,null,null,null,null,null,null,null,null,null,null,null,null,{"$f":"IFERROR(U70,0)","v":0},{"$f":"IFERROR(RIGHT(X70,LEN(X70)-SEARCH(\" \",X70,FIND(\" \",X70,1)+1)),0)","v":0},{"$f":"IFERROR(LEFT(X70,SEARCH(\" \",X70,FIND(\" \",X70,1)+1)),0)","v":0},{"$f":"IFERROR(VLOOKUP(AZ70,$BI$5:$BK$200,3,FALSE),0)","v":0},{"$f":"IFERROR(W70,0)","v":0},{"$f":"IFERROR(VLOOKUP(AZ70,$BI$5:$BK$200,2,FALSE),0)","v":0},{"$f":"IFERROR(AH70,0)","v":0}]
[null,null,null,null,null,null,null,null,null,null,null,null,null,null,null,null,null,null,null,null,null,null,null,null,null,null,null,null,null,null,null,null,null,null,null,null,null,null,null,null,null,null,null,null,null,null,null,null,null,null,null,0,0,0,0,0,0,0]
[null,null,null,null,null,null,null,null,null,null,null,null,null,null,null,null,null,null,null,null,null,null,null,null,null,null,null,null,null,null,null,null,null,null,null,null,null,null,null,null,null,null,null,null,null,null,null,null,null,null,null,0,0,0,0,0,0,0]
[null,null,null,null,null,null,null,null,null,null,null,null,null,null,null,null,null,null,null,null,null,null,null,null,null,null,null,null,null,null,null,null,null,null,null,null,null,null,null,null,null,null,null,null,null,null,null,null,null,null,null,0,0,0,0,0,0,0]
[null,null,null,null,null,null,null,null,null,null,null,null,null,null,null,null,null,null,null,null,null,null,null,null,null,null,null,null,null,null,null,null,null,null,null,null,null,null,null,null,null,null,null,null,null,null,null,null,null,null,null,0,0,0,0,0,0,0]
[null,null,null,null,null,null,null,null,null,null,null,null,null,null,null,null,null,null,null,null,null,null,null,null,null,null,null,null,null,null,null,null,null,null,null,null,null,null,null,null,null,null,null,null,null,null,null,null,null,null,null,0,0,0,0,0,0,0]
[null,null,null,null,null,null,null,null,null,null,null,null,null,null,null,null,null,null,null,null,null,null,null,null,null,null,null,null,null,null,null,null,null,null,null,null,null,null,null,null,null,null,null,null,null,null,null,null,null,null,null,0,0,0,0,0,0,0]
[null,null,null,null,null,null,null,null,null,null,null,null,null,null,null,null,null,null,null,null,null,null,null,null,null,null,null,null,null,null,null,null,null,null,null,null,null,null,null,null,null,null,null,null,null,null,null,null,null,null,null,0,0,0,0,0,0,0]
[null,null,null,null,null,null,null,null,null,null,null,null,null,null,null,null,null,null,null,null,null,null,null,null,null,null,null,null,null,null,null,null,null,null,null,null,null,null,null,null,null,null,null,null,null,null,null,null,null,null,null,0,0,0,0,0,0,0]
[null,null,null,null,null,null,null,null,null,null,null,null,null,null,null,null,null,null,null,null,null,null,null,null,null,null,null,null,null,null,null,null,null,null,null,null,null,null,null,null,null,null,null,null,null,null,null,null,null,null,null,0,0,0,0,0,0,0]
[null,null,null,null,null,null,null,null,null,null,null,null,null,null,null,null,null,null,null,null,null,null,null,null,null,null,null,null,null,null,null,null,null,null,null,null,null,null,null,null,null,null,null,null,null,null,null,null,null,null,null,0,0,0,0,0,0,0]
[null,null,null,null,null,null,null,null,null,null,null,null,null,null,null,null,null,null,null,null,null,null,null,null,null,null,null,null,null,null,null,null,null,null,null,null,null,null,null,null,null,null,null,null,null,null,null,null,null,null,null,0,0,0,0,0,0,0]
[null,null,null,null,null,null,null,null,null,null,null,null,null,null,null,null,null,null,null,null,null,null,null,null,null,null,null,null,null,null,null,null,null,null,null,null,null,null,null,null,null,null,null,null,null,null,null,null,null,null,null,0,0,0,0,0,0,0]
[null,null,null,null,null,null,null,null,null,null,null,null,null,null,null,null,null,null,null,null,null,null,null,null,null,null,null,null,null,null,null,null,null,null,null,null,null,null,null,null,null,null,null,null,null,null,null,null,null,null,null,0,0,0,0,0,0,0]
[null,null,null,null,null,null,null,null,null,null,null,null,null,null,null,null,null,null,null,null,null,null,null,null,null,null,null,null,null,null,null,null,null,null,null,null,null,null,null,null,null,null,null,null,null,null,null,null,null,null,null,0,0,0,0,0,0,0]
[null,null,null,null,null,null,null,null,null,null,null,null,null,null,null,null,null,null,null,null,null,null,null,null,null,null,null,null,null,null,null,null,null,null,null,null,null,null,null,null,null,null,null,null,null,null,null,null,null,null,null,0,0,0,0,0,0,0]
[null,null,null,null,null,null,null,null,null,null,null,null,null,null,null,null,null,null,null,null,null,null,null,null,null,null,null,null,null,null,null,null,null,null,null,null,null,null,null,null,null,null,null,null,null,null,null,null,null,null,null,0,0,0,0,0,0,0]
[null,null,null,null,null,null,null,null,null,null,null,null,null,null,null,null,null,null,null,null,null,null,null,null,null,null,null,null,null,null,null,null,null,null,null,null,null,null,null,null,null,null,null,null,null,null,null,null,null,null,null,0,0,0,0,0,0,0]
[null,null,null,null,null,null,null,null,null,null,null,null,null,null,null,null,null,null,null,null,null,null,null,null,null,null,null,null,null,null,null,null,null,null,null,null,null,null,null,null,null,null,null,null,null,null,null,null,null,null,null,0,0,0,0,0,0,0]
[null,null,null,null,null,null,null,null,null,null,null,null,null,null,null,null,null,null,null,null,null,null,null,null,null,null,null,null,null,null,null,null,null,null,null,null,null,null,null,null,null,null,null,null,null,null,null,null,null,null,null,0,0,0,0,0,0,0]
[null,null,null,null,null,null,null,null,null,null,null,null,null,null,null,null,null,null,null,null,null,null,null,null,null,null,null,null,null,null,null,null,null,null,null,null,null,null,null,null,null,null,null,null,null,null,null,null,null,null,null,0,0,0,0,0,0,0]
[null,null,null,null,null,null,null,null,null,null,null,null,null,null,null,null,null,null,null,null,null,null,null,null,null,null,null,null,null,null,null,null,null,null,null,null,null,null,null,null,null,null,null,null,null,null,null,null,null,null,null,0,0,0,0,0,0,0]
[null,null,null,null,null,null,null,null,null,null,null,null,null,null,null,null,null,null,null,null,null,null,null,null,null,null,null,null,null,null,null,null,null,null,null,null,null,null,null,null,null,null,null,null,null,null,null,null,null,null,null,0,0,0,0,0,0,0]
[null,null,null,null,null,null,null,null,null,null,null,null,null,null,null,null,null,null,null,null,null,null,null,null,null,null,null,null,null,null,null,null,null,null,null,null,null,null,null,null,null,null,null,null,null,null,null,null,null,null,null,0,0,0,0,0,0,0]
[null,null,null,null,null,null,null,null,null,null,null,null,null,null,null,null,null,null,null,null,null,null,null,null,null,null,null,null,null,null,null,null,null,null,null,null,null,null,null,null,null,null,null,null,null,null,null,null,null,null,null,0,0,0,0,0,0,0]
[null,null,null,null,null,null,null,null,null,null,null,null,null,null,null,null,null,null,null,null,null,null,null,null,null,null,null,null,null,null,null,null,null,null,null,null,null,null,null,null,null,null,null,null,null,null,null,null,null,null,null,0,0,0,0,0,0,0]
[null,null,null,null,null,null,null,null,null,null,null,null,null,null,null,null,null,null,null,null,null,null,null,null,null,null,null,null,null,null,null,null,null,null,null,null,null,null,null,null,null,null,null,null,null,null,null,null,null,null,null,0,0,0,0,0,0,0]
[null,null,null,null,null,null,null,null,null,null,null,null,null,null,null,null,null,null,null,null,null,null,null,null,null,null,null,null,null,null,null,null,null,null,null,null,null,null,null,null,null,null,null,null,null,null,null,null,null,null,null,0,0,0,0,0,0,0]
[null,null,null,null,null,null,null,null,null,null,null,null,null,null,null,null,null,null,null,null,null,null,null,null,null,null,null,null,null,null,null,null,null,null,null,null,null,null,null,null,null,null,null,null,null,null,null,null,null,null,null,0,0,0,0,0,0,0]
[null,null,null,null,null,null,null,null,null,null,null,null,null,null,null,null,null,null,null,null,null,null,null,null,null,null,null,null,null,null,null,null,null,null,null,null,null,null,null,null,null,null,null,null,null,null,null,null,null,null,null,0,0,0,0,0,0,0]
[null,null,null,null,null,null,null,null,null,null,null,null,null,null,null,null,null,null,null,null,null,null,null,null,null,null,null,null,null,null,null,null,null,null,null,null,null,null,null,null,null,null,null,null,null,null,null,null,null,null,null,0,0,0,0,0,0,0]
[null,null,null,null,null,null,null,null,null,null,null,null,null,null,null,null,null,null,null,null,null,null,null,null,null,null,null,null,null,null,null,null,null,null,null,null,null,null,null,null,null,null,null,null,null,null,null,null,null,null,null,0,0,0,0,0,0,0]
[null,null,null,null,null,null,null,null,null,null,null,null,null,null,null,null,null,null,null,null,null,null,null,null,null,null,null,null,null,null,null,null,null,null,null,null,null,null,null,null,null,null,null,null,null,null,null,null,null,null,null,0,0,0,0,0,0,0]
[null,null,null,null,null,null,null,null,null,null,null,null,null,null,null,null,null,null,null,null,null,null,null,null,null,null,null,null,null,null,null,null,null,null,null,null,null,null,null,null,null,null,null,null,null,null,null,null,null,null,null,0,0,0,0,0,0,0]
[null,null,null,null,null,null,null,null,null,null,null,null,null,null,null,null,null,null,null,null,null,null,null,null,null,null,null,null,null,null,null,null,null,null,null,null,null,null,null,null,null,null,null,null,null,null,null,null,null,null,null,0,0,0,0,0,0,0]
[null,null,null,null,null,null,null,null,null,null,null,null,null,null,null,null,null,null,null,null,null,null,null,null,null,null,null,null,null,null,null,null,null,null,null,null,null,null,null,null,null,null,null,null,null,null,null,null,null,null,null,0,0,0,0,0,0,0]
[null,null,null,null,null,null,null,null,null,null,null,null,null,null,null,null,null,null,null,null,null,null,null,null,null,null,null,null,null,null,null,null,null,null,null,null,null,null,null,null,null,null,null,null,null,null,null,null,null,null,null,0,0,0,0,0,0,0]
[null,null,null,null,null,null,null,null,null,null,null,null,null,null,null,null,null,null,null,null,null,null,null,null,null,null,null,null,null,null,null,null,null,null,null,null,null,null,null,null,null,null,null,null,null,null,null,null,null,null,null,0,0,0,0,0,0,0]
[null,null,null,null,null,null,null,null,null,null,null,null,null,null,null,null,null,null,null,null,null,null,null,null,null,null,null,null,null,null,null,null,null,null,null,null,null,null,null,null,null,null,null,null,null,null,null,null,null,null,null,0,0,0,0,0,0,0]
[null,null,null,null,null,null,null,null,null,null,null,null,null,null,null,null,null,null,null,null,null,null,null,null,null,null,null,null,null,null,null,null,null,null,null,null,null,null,null,null,null,null,null,null,null,null,null,null,null,null,null,0,0,0,0,0,0,0]
[null,null,null,null,null,null,null,null,null,null,null,null,null,null,null,null,null,null,null,null,null,null,null,null,null,null,null,null,null,null,null,null,null,null,null,null,null,null,null,null,null,null,null,null,null,null,null,null,null,null,null,0,0,0,0,0,0,0]
[null,null,null,null,null,null,null,null,null,null,null,null,null,null,null,null,null,null,null,null,null,null,null,null,null,null,null,null,null,null,null,null,null,null,null,null,null,null,null,null,null,null,null,null,null,null,null,null,null,null,null,0,0,0,0,0,0,0]
[null,null,null,null,null,null,null,null,null,null,null,null,null,null,null,null,null,null,null,null,null,null,null,null,null,null,null,null,null,null,null,null,null,null,null,null,null,null,null,null,null,null,null,null,null,null,null,null,null,null,null,0,0,0,0,0,0,0]
[null,null,null,null,null,null,null,null,null,null,null,null,null,null,null,null,null,null,null,null,null,null,null,null,null,null,null,null,null,null,null,null,null,null,null,null,null,null,null,null,null,null,null,null,null,null,null,null,null,null,null,0,0,0,0,0,0,0]
[null,null,null,null,null,null,null,null,null,null,null,null,null,null,null,null,null,null,null,null,null,null,null,null,null,null,null,null,null,null,null,null,null,null,null,null,null,null,null,null,null,null,null,null,null,null,null,null,null,null,null,0,0,0,0,0,0,0]
[null,null,null,null,null,null,null,null,null,null,null,null,null,null,null,null,null,null,null,null,null,null,null,null,null,null,null,null,null,null,null,null,null,null,null,null,null,null,null,null,null,null,null,null,null,null,null,null,null,null,null,0,0,0,0,0,0,0]
[null,null,null,null,null,null,null,null,null,null,null,null,null,null,null,null,null,null,null,null,null,null,null,null,null,null,null,null,null,null,null,null,null,null,null,null,null,null,null,null,null,null,null,null,null,null,null,null,null,null,null,0,0,0,0,0,0,0]
[null,null,null,null,null,null,null,null,null,null,null,null,null,null,null,null,null,null,null,null,null,null,null,null,null,null,null,null,null,null,null,null,null,null,null,null,null,null,null,null,null,null,null,null,null,null,null,null,null,null,null,0,0,0,0,0,0,0]
[null,null,null,null,null,null,null,null,null,null,null,null,null,null,null,null,null,null,null,null,null,null,null,null,null,null,null,null,null,null,null,null,null,null,null,null,null,null,null,null,null,null,null,null,null,null,null,null,null,null,null,0,0,0,0,0,0,0]
[null,null,null,null,null,null,null,null,null,null,null,null,null,null,null,null,null,null,null,null,null,null,null,null,null,null,null,null,null,null,null,null,null,null,null,null,null,null,null,null,null,null,null,null,null,null,null,null,null,null,null,0,0,0,0,0,0,0]
[null,null,null,null,null,null,null,null,null,null,null,null,null,null,null,null,null,null,null,null,null,null,null,null,null,null,null,null,null,null,null,null,null,null,null,null,null,null,null,null,null,null,null,null,null,null,null,null,null,null,null,0,0,0,0,0,0,0]
[null,null,null,null,null,null,null,null,null,null,null,null,null,null,null,null,null,null,null,null,null,null,null,null,null,null,null,null,null,null,null,null,null,null,null,null,null,null,null,null,null,null,null,null,null,null,null,null,null,null,null,0,0,0,0,0,0,0]
[null,null,null,null,null,null,null,null,null,null,null,null,null,null,null,null,null,null,null,null,null,null,null,null,null,null,null,null,null,null,null,null,null,null,null,null,null,null,null,null,null,null,null,null,null,null,null,null,null,null,null,0,0,0,0,0,0,0]
[null,null,null,null,null,null,null,null,null,null,null,null,null,null,null,null,null,null,null,null,null,null,null,null,null,null,null,null,null,null,null,null,null,null,null,null,null,null,null,null,null,null,null,null,null,null,null,null,null,null,null,0,0,0,0,0,0,0]
[null,null,null,null,null,null,null,null,null,null,null,null,null,null,null,null,null,null,null,null,null,null,null,null,null,null,null,null,null,null,null,null,null,null,null,null,null,null,null,null,null,null,null,null,null,null,null,null,null,null,null,0,0,0,0,0,0,0]
[null,null,null,null,null,null,null,null,null,null,null,null,null,null,null,null,null,null,null,null,null,null,null,null,null,null,null,null,null,null,null,null,null,null,null,null,null,null,null,null,null,null,null,null,null,null,null,null,null,null,null,0,0,0,0,0,0,0]
[null,null,null,null,null,null,null,null,null,null,null,null,null,null,null,null,null,null,null,null,null,null,null,null,null,null,null,null,null,null,null,null,null,null,null,null,null,null,null,null,null,null,null,null,null,null,null,null,null,null,null,0,0,0,0,0,0,0]
[null,null,null,null,null,null,null,null,null,null,null,null,null,null,null,null,null,null,null,null,null,null,null,null,null,null,null,null,null,null,null,null,null,null,null,null,null,null,null,null,null,null,null,null,null,null,null,null,null,null,null,0,0,0,0,0,0,0]
[null,null,null,null,null,null,null,null,null,null,null,null,null,null,null,null,null,null,null,null,null,null,null,null,null,null,null,null,null,null,null,null,null,null,null,null,null,null,null,null,null,null,null,null,null,null,null,null,null,null,null,0,0,0,0,0,0,0]
[null,null,null,null,null,null,null,null,null,null,null,null,null,null,null,null,null,null,null,null,null,null,null,null,null,null,null,null,null,null,null,null,null,null,null,null,null,null,null,null,null,null,null,null,null,null,null,null,null,null,null,0,0,0,0,0,0,0]
[null,null,null,null,null,null,null,null,null,null,null,null,null,null,null,null,null,null,null,null,null,null,null,null,null,null,null,null,null,null,null,null,null,null,null,null,null,null,null,null,null,null,null,null,null,null,null,null,null,null,null,0,0,0,0,0,0,0]
[null,null,null,null,null,null,null,null,null,null,null,null,null,null,null,null,null,null,null,null,null,null,null,null,null,null,null,null,null,null,null,null,null,null,null,null,null,null,null,null,null,null,null,null,null,null,null,null,null,null,null,0,0,0,0,0,0,0]
[null,null,null,null,null,null,null,null,null,null,null,null,null,null,null,null,null,null,null,null,null,null,null,null,null,null,null,null,null,null,null,null,null,null,null,null,null,null,null,null,null,null,null,null,null,null,null,null,null,null,null,0,0,0,0,0,0,0]
[null,null,null,null,null,null,null,null,null,null,null,null,null,null,null,null,null,null,null,null,null,null,null,null,null,null,null,null,null,null,null,null,null,null,null,null,null,null,null,null,null,null,null,null,null,null,null,null,null,null,null,0,0,0,0,0,0,0]
[null,null,null,null,null,null,null,null,null,null,null,null,null,null,null,null,null,null,null,null,null,null,null,null,null,null,null,null,null,null,null,null,null,null,null,null,null,null,null,null,null,null,null,null,null,null,null,null,null,null,null,{"$f":"IFERROR(U134,0)","v":0},{"$f":"IFERROR(RIGHT(X134,LEN(X134)-SEARCH(\" \",X134,FIND(\" \",X134,1)+1)),0)","v":0},{"$f":"IFERROR(LEFT(X134,SEARCH(\" \",X134,FIND(\" \",X134,1)+1)),0)","v":0},{"$f":"IFERROR(VLOOKUP(AZ134,$BI$5:$BK$200,3,FALSE),0)","v":0},{"$f":"IFERROR(W134,0)","v":0},{"$f":"IFERROR(VLOOKUP(AZ134,$BI$5:$BK$200,2,FALSE),0)","v":0},{"$f":"IFERROR(AH134,0)","v":0}]
[null,null,null,null,null,null,null,null,null,null,null,null,null,null,null,null,null,null,null,null,null,null,null,null,null,null,null,null,null,null,null,null,null,null,null,null,null,null,null,null,null,null,null,null,null,null,null,null,null,null,null,0,0,0,0,0,0,0]
[null,null,null,null,null,null,null,null,null,null,null,null,null,null,null,null,null,null,null,null,null,null,null,null,null,null,null,null,null,null,null,null,null,null,null,null,null,null,null,null,null,null,null,null,null,null,null,null,null,null,null,0,0,0,0,0,0,0]
[null,null,null,null,null,null,null,null,null,null,null,null,null,null,null,null,null,null,null,null,null,null,null,null,null,null,null,null,null,null,null,null,null,null,null,null,null,null,null,null,null,null,null,null,null,null,null,null,null,null,null,0,0,0,0,0,0,0]
[null,null,null,null,null,null,null,null,null,null,null,null,null,null,null,null,null,null,null,null,null,null,null,null,null,null,null,null,null,null,null,null,null,null,null,null,null,null,null,null,null,null,null,null,null,null,null,null,null,null,null,0,0,0,0,0,0,0]
[null,null,null,null,null,null,null,null,null,null,null,null,null,null,null,null,null,null,null,null,null,null,null,null,null,null,null,null,null,null,null,null,null,null,null,null,null,null,null,null,null,null,null,null,null,null,null,null,null,null,null,0,0,0,0,0,0,0]
[null,null,null,null,null,null,null,null,null,null,null,null,null,null,null,null,null,null,null,null,null,null,null,null,null,null,null,null,null,null,null,null,null,null,null,null,null,null,null,null,null,null,null,null,null,null,null,null,null,null,null,0,0,0,0,0,0,0]
[null,null,null,null,null,null,null,null,null,null,null,null,null,null,null,null,null,null,null,null,null,null,null,null,null,null,null,null,null,null,null,null,null,null,null,null,null,null,null,null,null,null,null,null,null,null,null,null,null,null,null,0,0,0,0,0,0,0]
[null,null,null,null,null,null,null,null,null,null,null,null,null,null,null,null,null,null,null,null,null,null,null,null,null,null,null,null,null,null,null,null,null,null,null,null,null,null,null,null,null,null,null,null,null,null,null,null,null,null,null,0,0,0,0,0,0,0]
[null,null,null,null,null,null,null,null,null,null,null,null,null,null,null,null,null,null,null,null,null,null,null,null,null,null,null,null,null,null,null,null,null,null,null,null,null,null,null,null,null,null,null,null,null,null,null,null,null,null,null,0,0,0,0,0,0,0]
[null,null,null,null,null,null,null,null,null,null,null,null,null,null,null,null,null,null,null,null,null,null,null,null,null,null,null,null,null,null,null,null,null,null,null,null,null,null,null,null,null,null,null,null,null,null,null,null,null,null,null,0,0,0,0,0,0,0]
[null,null,null,null,null,null,null,null,null,null,null,null,null,null,null,null,null,null,null,null,null,null,null,null,null,null,null,null,null,null,null,null,null,null,null,null,null,null,null,null,null,null,null,null,null,null,null,null,null,null,null,0,0,0,0,0,0,0]
[null,null,null,null,null,null,null,null,null,null,null,null,null,null,null,null,null,null,null,null,null,null,null,null,null,null,null,null,null,null,null,null,null,null,null,null,null,null,null,null,null,null,null,null,null,null,null,null,null,null,null,0,0,0,0,0,0,0]
[null,null,null,null,null,null,null,null,null,null,null,null,null,null,null,null,null,null,null,null,null,null,null,null,null,null,null,null,null,null,null,null,null,null,null,null,null,null,null,null,null,null,null,null,null,null,null,null,null,null,null,0,0,0,0,0,0,0]
[null,null,null,null,null,null,null,null,null,null,null,null,null,null,null,null,null,null,null,null,null,null,null,null,null,null,null,null,null,null,null,null,null,null,null,null,null,null,null,null,null,null,null,null,null,null,null,null,null,null,null,0,0,0,0,0,0,0]
[null,null,null,null,null,null,null,null,null,null,null,null,null,null,null,null,null,null,null,null,null,null,null,null,null,null,null,null,null,null,null,null,null,null,null,null,null,null,null,null,null,null,null,null,null,null,null,null,null,null,null,0,0,0,0,0,0,0]
[null,null,null,null,null,null,null,null,null,null,null,null,null,null,null,null,null,null,null,null,null,null,null,null,null,null,null,null,null,null,null,null,null,null,null,null,null,null,null,null,null,null,null,null,null,null,null,null,null,null,null,0,0,0,0,0,0,0]
[null,null,null,null,null,null,null,null,null,null,null,null,null,null,null,null,null,null,null,null,null,null,null,null,null,null,null,null,null,null,null,null,null,null,null,null,null,null,null,null,null,null,null,null,null,null,null,null,null,null,null,0,0,0,0,0,0,0]
[null,null,null,null,null,null,null,null,null,null,null,null,null,null,null,null,null,null,null,null,null,null,null,null,null,null,null,null,null,null,null,null,null,null,null,null,null,null,null,null,null,null,null,null,null,null,null,null,null,null,null,0,0,0,0,0,0,0]
[null,null,null,null,null,null,null,null,null,null,null,null,null,null,null,null,null,null,null,null,null,null,null,null,null,null,null,null,null,null,null,null,null,null,null,null,null,null,null,null,null,null,null,null,null,null,null,null,null,null,null,0,0,0,0,0,0,0]
[null,null,null,null,null,null,null,null,null,null,null,null,null,null,null,null,null,null,null,null,null,null,null,null,null,null,null,null,null,null,null,null,null,null,null,null,null,null,null,null,null,null,null,null,null,null,null,null,null,null,null,0,0,0,0,0,0,0]
[null,null,null,null,null,null,null,null,null,null,null,null,null,null,null,null,null,null,null,null,null,null,null,null,null,null,null,null,null,null,null,null,null,null,null,null,null,null,null,null,null,null,null,null,null,null,null,null,null,null,null,0,0,0,0,0,0,0]
[null,null,null,null,null,null,null,null,null,null,null,null,null,null,null,null,null,null,null,null,null,null,null,null,null,null,null,null,null,null,null,null,null,null,null,null,null,null,null,null,null,null,null,null,null,null,null,null,null,null,null,0,0,0,0,0,0,0]
[null,null,null,null,null,null,null,null,null,null,null,null,null,null,null,null,null,null,null,null,null,null,null,null,null,null,null,null,null,null,null,null,null,null,null,null,null,null,null,null,null,null,null,null,null,null,null,null,null,null,null,0,0,0,0,0,0,0]
[null,null,null,null,null,null,null,null,null,null,null,null,null,null,null,null,null,null,null,null,null,null,null,null,null,null,null,null,null,null,null,null,null,null,null,null,null,null,null,null,null,null,null,null,null,null,null,null,null,null,null,0,0,0,0,0,0,0]
[null,null,null,null,null,null,null,null,null,null,null,null,null,null,null,null,null,null,null,null,null,null,null,null,null,null,null,null,null,null,null,null,null,null,null,null,null,null,null,null,null,null,null,null,null,null,null,null,null,null,null,0,0,0,0,0,0,0]
[null,null,null,null,null,null,null,null,null,null,null,null,null,null,null,null,null,null,null,null,null,null,null,null,null,null,null,null,null,null,null,null,null,null,null,null,null,null,null,null,null,null,null,null,null,null,null,null,null,null,null,0,0,0,0,0,0,0]
[null,null,null,null,null,null,null,null,null,null,null,null,null,null,null,null,null,null,null,null,null,null,null,null,null,null,null,null,null,null,null,null,null,null,null,null,null,null,null,null,null,null,null,null,null,null,null,null,null,null,null,0,0,0,0,0,0,0]
[null,null,null,null,null,null,null,null,null,null,null,null,null,null,null,null,null,null,null,null,null,null,null,null,null,null,null,null,null,null,null,null,null,null,null,null,null,null,null,null,null,null,null,null,null,null,null,null,null,null,null,0,0,0,0,0,0,0]
[null,null,null,null,null,null,null,null,null,null,null,null,null,null,null,null,null,null,null,null,null,null,null,null,null,null,null,null,null,null,null,null,null,null,null,null,null,null,null,null,null,null,null,null,null,null,null,null,null,null,null,0,0,0,0,0,0,0]
[null,null,null,null,null,null,null,null,null,null,null,null,null,null,null,null,null,null,null,null,null,null,null,null,null,null,null,null,null,null,null,null,null,null,null,null,null,null,null,null,null,null,null,null,null,null,null,null,null,null,null,0,0,0,0,0,0,0]
[null,null,null,null,null,null,null,null,null,null,null,null,null,null,null,null,null,null,null,null,null,null,null,null,null,null,null,null,null,null,null,null,null,null,null,null,null,null,null,null,null,null,null,null,null,null,null,null,null,null,null,0,0,0,0,0,0,0]
[null,null,null,null,null,null,null,null,null,null,null,null,null,null,null,null,null,null,null,null,null,null,null,null,null,null,null,null,null,null,null,null,null,null,null,null,null,null,null,null,null,null,null,null,null,null,null,null,null,null,null,0,0,0,0,0,0,0]
[null,null,null,null,null,null,null,null,null,null,null,null,null,null,null,null,null,null,null,null,null,null,null,null,null,null,null,null,null,null,null,null,null,null,null,null,null,null,null,null,null,null,null,null,null,null,null,null,null,null,null,0,0,0,0,0,0,0]
[null,null,null,null,null,null,null,null,null,null,null,null,null,null,null,null,null,null,null,null,null,null,null,null,null,null,null,null,null,null,null,null,null,null,null,null,null,null,null,null,null,null,null,null,null,null,null,null,null,null,null,0,0,0,0,0,0,0]
[null,null,null,null,null,null,null,null,null,null,null,null,null,null,null,null,null,null,null,null,null,null,null,null,null,null,null,null,null,null,null,null,null,null,null,null,null,null,null,null,null,null,null,null,null,null,null,null,null,null,null,0,0,0,0,0,0,0]
[null,null,null,null,null,null,null,null,null,null,null,null,null,null,null,null,null,null,null,null,null,null,null,null,null,null,null,null,null,null,null,null,null,null,null,null,null,null,null,null,null,null,null,null,null,null,null,null,null,null,null,0,0,0,0,0,0,0]
[null,null,null,null,null,null,null,null,null,null,null,null,null,null,null,null,null,null,null,null,null,null,null,null,null,null,null,null,null,null,null,null,null,null,null,null,null,null,null,null,null,null,null,null,null,null,null,null,null,null,null,0,0,0,0,0,0,0]
[null,null,null,null,null,null,null,null,null,null,null,null,null,null,null,null,null,null,null,null,null,null,null,null,null,null,null,null,null,null,null,null,null,null,null,null,null,null,null,null,null,null,null,null,null,null,null,null,null,null,null,0,0,0,0,0,0,0]
[null,null,null,null,null,null,null,null,null,null,null,null,null,null,null,null,null,null,null,null,null,null,null,null,null,null,null,null,null,null,null,null,null,null,null,null,null,null,null,null,null,null,null,null,null,null,null,null,null,null,null,0,0,0,0,0,0,0]
[null,null,null,null,null,null,null,null,null,null,null,null,null,null,null,null,null,null,null,null,null,null,null,null,null,null,null,null,null,null,null,null,null,null,null,null,null,null,null,null,null,null,null,null,null,null,null,null,null,null,null,0,0,0,0,0,0,0]
[null,null,null,null,null,null,null,null,null,null,null,null,null,null,null,null,null,null,null,null,null,null,null,null,null,null,null,null,null,null,null,null,null,null,null,null,null,null,null,null,null,null,null,null,null,null,null,null,null,null,null,0,0,0,0,0,0,0]
[null,null,null,null,null,null,null,null,null,null,null,null,null,null,null,null,null,null,null,null,null,null,null,null,null,null,null,null,null,null,null,null,null,null,null,null,null,null,null,null,null,null,null,null,null,null,null,null,null,null,null,0,0,0,0,0,0,0]
[null,null,null,null,null,null,null,null,null,null,null,null,null,null,null,null,null,null,null,null,null,null,null,null,null,null,null,null,null,null,null,null,null,null,null,null,null,null,null,null,null,null,null,null,null,null,null,null,null,null,null,0,0,0,0,0,0,0]
[null,null,null,null,null,null,null,null,null,null,null,null,null,null,null,null,null,null,null,null,null,null,null,null,null,null,null,null,null,null,null,null,null,null,null,null,null,null,null,null,null,null,null,null,null,null,null,null,null,null,null,0,0,0,0,0,0,0]
[null,null,null,null,null,null,null,null,null,null,null,null,null,null,null,null,null,null,null,null,null,null,null,null,null,null,null,null,null,null,null,null,null,null,null,null,null,null,null,null,null,null,null,null,null,null,null,null,null,null,null,0,0,0,0,0,0,0]
[null,null,null,null,null,null,null,null,null,null,null,null,null,null,null,null,null,null,null,null,null,null,null,null,null,null,null,null,null,null,null,null,null,null,null,null,null,null,null,null,null,null,null,null,null,null,null,null,null,null,null,0,0,0,0,0,0,0]
[null,null,null,null,null,null,null,null,null,null,null,null,null,null,null,null,null,null,null,null,null,null,null,null,null,null,null,null,null,null,null,null,null,null,null,null,null,null,null,null,null,null,null,null,null,null,null,null,null,null,null,0,0,0,0,0,0,0]
[null,null,null,null,null,null,null,null,null,null,null,null,null,null,null,null,null,null,null,null,null,null,null,null,null,null,null,null,null,null,null,null,null,null,null,null,null,null,null,null,null,null,null,null,null,null,null,null,null,null,null,0,0,0,0,0,0,0]
[null,null,null,null,null,null,null,null,null,null,null,null,null,null,null,null,null,null,null,null,null,null,null,null,null,null,null,null,null,null,null,null,null,null,null,null,null,null,null,null,null,null,null,null,null,null,null,null,null,null,null,0,0,0,0,0,0,0]
[null,null,null,null,null,null,null,null,null,null,null,null,null,null,null,null,null,null,null,null,null,null,null,null,null,null,null,null,null,null,null,null,null,null,null,null,null,null,null,null,null,null,null,null,null,null,null,null,null,null,null,0,0,0,0,0,0,0]
[null,null,null,null,null,null,null,null,null,null,null,null,null,null,null,null,null,null,null,null,null,null,null,null,null,null,null,null,null,null,null,null,null,null,null,null,null,null,null,null,null,null,null,null,null,null,null,null,null,null,null,0,0,0,0,0,0,0]
[null,null,null,null,null,null,null,null,null,null,null,null,null,null,null,null,null,null,null,null,null,null,null,null,null,null,null,null,null,null,null,null,null,null,null,null,null,null,null,null,null,null,null,null,null,null,null,null,null,null,null,0,0,0,0,0,0,0]
[null,null,null,null,null,null,null,null,null,null,null,null,null,null,null,null,null,null,null,null,null,null,null,null,null,null,null,null,null,null,null,null,null,null,null,null,null,null,null,null,null,null,null,null,null,null,null,null,null,null,null,0,0,0,0,0,0,0]
[null,null,null,null,null,null,null,null,null,null,null,null,null,null,null,null,null,null,null,null,null,null,null,null,null,null,null,null,null,null,null,null,null,null,null,null,null,null,null,null,null,null,null,null,null,null,null,null,null,null,null,0,0,0,0,0,0,0]
[null,null,null,null,null,null,null,null,null,null,null,null,null,null,null,null,null,null,null,null,null,null,null,null,null,null,null,null,null,null,null,null,null,null,null,null,null,null,null,null,null,null,null,null,null,null,null,null,null,null,null,0,0,0,0,0,0,0]
[null,null,null,null,null,null,null,null,null,null,null,null,null,null,null,null,null,null,null,null,null,null,null,null,null,null,null,null,null,null,null,null,null,null,null,null,null,null,null,null,null,null,null,null,null,null,null,null,null,null,null,0,0,0,0,0,0,0]
[null,null,null,null,null,null,null,null,null,null,null,null,null,null,null,null,null,null,null,null,null,null,null,null,null,null,null,null,null,null,null,null,null,null,null,null,null,null,null,null,null,null,null,null,null,null,null,null,null,null,null,0,0,0,0,0,0,0]
[null,null,null,null,null,null,null,null,null,null,null,null,null,null,null,null,null,null,null,null,null,null,null,null,null,null,null,null,null,null,null,null,null,null,null,null,null,null,null,null,null,null,null,null,null,null,null,null,null,null,null,0,0,0,0,0,0,0]
[null,null,null,null,null,null,null,null,null,null,null,null,null,null,null,null,null,null,null,null,null,null,null,null,null,null,null,null,null,null,null,null,null,null,null,null,null,null,null,null,null,null,null,null,null,null,null,null,null,null,null,0,0,0,0,0,0,0]
[null,null,null,null,null,null,null,null,null,null,null,null,null,null,null,null,null,null,null,null,null,null,null,null,null,null,null,null,null,null,null,null,null,null,null,null,null,null,null,null,null,null,null,null,null,null,null,null,null,null,null,0,0,0,0,0,0,0]
[null,null,null,null,null,null,null,null,null,null,null,null,null,null,null,null,null,null,null,null,null,null,null,null,null,null,null,null,null,null,null,null,null,null,null,null,null,null,null,null,null,null,null,null,null,null,null,null,null,null,null,0,0,0,0,0,0,0]
[null,null,null,null,null,null,null,null,null,null,null,null,null,null,null,null,null,null,null,null,null,null,null,null,null,null,null,null,null,null,null,null,null,null,null,null,null,null,null,null,null,null,null,null,null,null,null,null,null,null,null,0,0,0,0,0,0,0]
[null,null,null,null,null,null,null,null,null,null,null,null,null,null,null,null,null,null,null,null,null,null,null,null,null,null,null,null,null,null,null,null,null,null,null,null,null,null,null,null,null,null,null,null,null,null,null,null,null,null,null,0,0,0,0,0,0,0]
[null,null,null,null,null,null,null,null,null,null,null,null,null,null,null,null,null,null,null,null,null,null,null,null,null,null,null,null,null,null,null,null,null,null,null,null,null,null,null,null,null,null,null,null,null,null,null,null,null,null,null,{"$f":"IFERROR(U198,0)","v":0},{"$f":"IFERROR(RIGHT(X198,LEN(X198)-SEARCH(\" \",X198,FIND(\" \",X198,1)+1)),0)","v":0},{"$f":"IFERROR(LEFT(X198,SEARCH(\" \",X198,FIND(\" \",X198,1)+1)),0)","v":0},{"$f":"IFERROR(VLOOKUP(AZ198,$BI$5:$BK$200,3,FALSE),0)","v":0},{"$f":"IFERROR(W198,0)","v":0},{"$f":"IFERROR(VLOOKUP(AZ198,$BI$5:$BK$200,2,FALSE),0)","v":0},{"$f":"IFERROR(AH198,0)","v":0}]
[null,null,null,null,null,null,null,null,null,null,null,null,null,null,null,null,null,null,null,null,null,null,null,null,null,null,null,null,null,null,null,null,null,null,null,null,null,null,null,null,null,null,null,null,null,null,null,null,null,null,null,0,0,0,0,0,0,0]
[null,null,null,null,null,null,null,null,null,null,null,null,null,null,null,null,null,null,null,null,null,null,null,null,null,null,null,null,null,null,null,null,null,null,null,null,null,null,null,null,null,null,null,null,null,null,null,null,null,null,null,0,0,0,0,0,0,0]

{"sheet":"NHIF","index":3,"n_rows":500,"n_cols":59,"rows_kept":500,"cut":false,"hidden":true,"merged":[[3,2,4,5]]}
[]
["Year",2023]
["Month","January"]
[null,null,"NHIF"]
[null,null,null,null,null,null,null,null,null,null,null,null,null,null,null,"Criteria","Criteria"]
["EMPLOYER CODE",37846786,null,null,null,null,null,null,null,null,null,null,null,null,null,"Month Of Filling","years",null,"Employee Number","Month Of Filling","Pin Of Employee","Name Of Employee","Residental-Status","Type of Employee","Basic Salary","Housing Allowance","Transport Allowance","Leave Pay","Director's Fee","Lumpsum","Other Allowance","Total Cash Paye","Car Benefit","Other Non-Cash Benefit","Total Non-Cash Pay","Net-Value Of Housing","Total Gross Pay","Pension","Mortgage Interest","HOSP","Monthly Relief","Insurance Relief","Paye","Type Of Housing","Over Time Allowance","years",null,null,null,null,"PAYROLL NO","LAST NAME","FIRST NAME","ID NO","NHIF NO","AMOUNT",null,"sum",{"$f":"IFERROR(SUM(BD7:BD359),0)","v":14950}]
["EMPLOYER NAME","BRAVE LION'S BRAIN",null,null,null,null,null,null,null,null,null,null,null,null,null,{"$f":"B3","v":"January"},{"$f":"B2","v":2023},null,1,"January","A34578678450P","Brian Kombe Gode","Resident","Primary Employee",60000,null,null,null,null,null,null,60000,null,null,0,null,60000,1080,null,null,2400,195,9864.3499999999985,"Benefit not given",null,2023,null,null,null,null,{"$f":"S7","v":1},{"$f":"IFERROR(RIGHT(V7,LEN(V7)-FIND(\" \",V7)),\"\")","v":"Kombe Gode"},{"$f":"IFERROR(LEFT(V7,FIND(\" \",V7,1)-1),\"\")","v":"Brian"},{"$f":"IFERROR(VLOOKUP(AY7,'EmpGenInfo(ESS1P)'!$A$6:$AC$390,3,FALSE),0)","v":334567890},{"$f":"IFERROR(VLOOKUP(AY7,'EmpGenInfo(ESS1P)'!$A$6:$AC$390,12,FALSE),0)","v":8764587},{"$f":"AP7*100/15","v":1300}]
["MONTH OF CONTRIBUTION","JAN",null,null,null,null,null,null,null,null,null,null,null,null,null,null,null,null,2,"January","A49898479409","Timothy Brian Odongo","Resident","Primary Employee",100000,20000,10000,null,5000,null,null,135000,null,null,0,null,135000,1080,null,null,2400,255,32304.649999999994,"Benefit not given",null,2023,null,null,null,null,{"$f":"S8","v":2},{"$f":"IFERROR(RIGHT(V8,LEN(V8)-FIND(\" \",V8)),\"\")","v":"Brian Odongo"},{"$f":"IFERROR(LEFT(V8,FIND(\" \",V8,1)-1),\"\")","v":"Timothy"},{"$f":"IFERROR(VLOOKUP(AY8,'EmpGenInfo(ESS1P)'!$A$6:$AC$390,3,FALSE),0)","v":2345671},{"$f":"IFERROR(VLOOKUP(AY8,'EmpGenInfo(ESS1P)'!$A$6:$AC$390,12,FALSE),0)","v":849237},{"$f":"AP8*100/15","v":1700}]
[null,null,null,null,null,null,null,null,null,null,null,null,null,null,null,null,null,null,3,"January","A4378678570K","Bshora Wayu Nzamo","Resident","Primary Employee",50000,null,null,null,null,null,null,50000,null,null,0,null,50000,1080,null,null,2400,180,6879.35,"Benefit not given",null,2023,null,null,null,null,3,"Wayu Nzamo","Bshora",{"$f":"IFERROR(VLOOKUP(AY9,'EmpGenInfo(ESS1P)'!$A$6:$AC$390,3,FALSE),0)","v":29675430},{"$f":"IFERROR(VLOOKUP(AY9,'EmpGenInfo(ESS1P)'!$A$6:$AC$390,12,FALSE),0)","v":43578},1200]
["PAYROLL NO","LAST NAME","FIRST NAME","ID NO","NHIF NO","AMOUNT",null,null,null,null,null,null,null,null,null,null,null,null,4,"January","A646834690O","Wanyoni Agala Musando","Resident","Primary Employee",45000,null,null,null,null,null,null,45000,null,null,0,null,45000,1080,null,null,2400,165,5394.35,"Benefit not given",null,2023,null,null,null,null,4,"Agala Musando","Wanyoni",{"$f":"IFERROR(VLOOKUP(AY10,'EmpGenInfo(ESS1P)'!$A$6:$AC$390,3,FALSE),0)","v":33456789},{"$f":"IFERROR(VLOOKUP(AY10,'EmpGenInfo(ESS1P)'!$A$6:$AC$390,12,FALSE),0)","v":763476},1100]
[null,null,null,null,null,null,null,null,null,null,null,null,null,null,null,null,null,null,5,"January","A745878980P","Benerd Kimani Njorioge","Resident","Primary Employee",45000,null,null,null,null,null,null,45000,null,null,0,null,45000,1080,null,null,2400,165,5394.35,"Benefit not given",null,2023,null,null,null,null,5,"Kimani Njorioge","Benerd",{"$f":"IFERROR(VLOOKUP(AY11,'EmpGenInfo(ESS1P)'!$A$6:$AC$390,3,FALSE),0)","v":30456789},{"$f":"IFERROR(VLOOKUP(AY11,'EmpGenInfo(ESS1P)'!$A$6:$AC$390,12,FALSE),0)","v":75487},1100]
[null,null,null,null,null,null,null,null,null,null,null,null,null,null,null,null,null,null,6,"January","A457899480p","Sam Jacob Mroki","Resident","Primary Employee",35000,null,null,null,null,null,null,35000,null,null,0,null,35000,1080,null,null,2400,142.5,2416.8500000000004,"Benefit not given",null,2023,null,null,null,null,6,"Jacob Mroki","Sam",{"$f":"IFERROR(VLOOKUP(AY12,'EmpGenInfo(ESS1P)'!$A$6:$AC$390,3,FALSE),0)","v":31567823},{"$f":"IFERROR(VLOOKUP(AY12,'EmpGenInfo(ESS1P)'!$A$6:$AC$390,12,FALSE),0)","v":89345},950]
[null,null,null,null,null,null,null,null,null,null,null,null,null,null,null,null,null,null,7,"January","A5783458890P","Joy Mueni Mutinda","Resident","Primary Employee",40000,null,null,null,null,null,null,40000,null,null,0,null,40000,1080,null,null,2400,150,3909.3500000000004,"Benefit not given",null,2023,null,null,null,null,7,"Mueni Mutinda","Joy",{"$f":"IFERROR(VLOOKUP(AY13,'EmpGenInfo(ESS1P)'!$A$6:$AC$390,3,FALSE),0)","v":32897938},{"$f":"IFERROR(VLOOKUP(AY13,'EmpGenInfo(ESS1P)'!$A$6:$AC$390,12,FALSE),0)","v":783489},1000]
[null,null,null,null,null,null,null,null,null,null,null,null,null,null,null,null,null,null,8,"January","A34778457890p","Kahindi Mwero Boga","Resident","Primary Employee",40000,null,null,null,null,null,null,40000,null,null,0,null,40000,1080,null,null,2400,150,3909.3500000000004,"Benefit not given",null,2023,null,null,null,null,8,"Mwero Boga","Kahindi",{"$f":"IFERROR(VLOOKUP(AY14,'EmpGenInfo(ESS1P)'!$A$6:$AC$390,3,FALSE),0)","v":2934567},{"$f":"IFERROR(VLOOKUP(AY14,'EmpGenInfo(ESS1P)'!$A$6:$AC$390,12,FALSE),0)","v":873447},1000]
[null,null,null,null,null,null,null,null,null,null,null,null,null,null,null,null,null,null,9,"January","A034897489E","John Boscco Bosire","Resident","Primary Employee",50000,null,null,null,null,null,null,50000,null,null,0,null,50000,1080,null,null,2400,180,6879.35,"Benefit not given",null,2023,null,null,null,null,9,"Boscco Bosire","John",{"$f":"IFERROR(VLOOKUP(AY15,'EmpGenInfo(ESS1P)'!$A$6:$AC$390,3,FALSE),0)","v":98347897},{"$f":"IFERROR(VLOOKUP(AY15,'EmpGenInfo(ESS1P)'!$A$6:$AC$390,12,FALSE),0)","v":98348},1200]
[null,null,null,null,null,null,null,null,null,null,null,null,null,null,null,null,null,null,10,"January","A4782349790P","Hassan Abdulnasir Wario","Resident","Primary Employee",40000,null,null,null,null,null,null,40000,null,null,0,null,40000,1080,null,null,2400,150,3909.3500000000004,"Benefit not given",null,2023,null,null,null,null,10,"Abdulnasir Wario","Hassan",{"$f":"IFERROR(VLOOKUP(AY16,'EmpGenInfo(ESS1P)'!$A$6:$AC$390,3,FALSE),0)","v":2156789},{"$f":"IFERROR(VLOOKUP(AY16,'EmpGenInfo(ESS1P)'!$A$6:$AC$390,12,FALSE),0)","v":783458},1000]
[null,null,null,null,null,null,null,null,null,null,null,null,null,null,null,null,null,null,11,"January","A0324878234P","Jastine Makemba Batogo","Resident","Primary Employee",50000,null,null,null,null,null,null,50000,null,null,0,null,50000,1080,null,null,2400,180,6879.35,"Benefit not given",null,2023,null,null,null,null,11,{"$f":"IFERROR(RIGHT(V17,LEN(V17)-FIND(\" \",V17)),\"\")","v":"Makemba Batogo"},{"$f":"IFERROR(LEFT(V17,FIND(\" \",V17,1)-1),\"\")","v":"Jastine"},{"$f":"IFERROR(VLOOKUP(AY17,'EmpGenInfo(ESS1P)'!$A$6:$AC$390,3,FALSE),0)","v":34567890},{"$f":"IFERROR(VLOOKUP(AY17,'EmpGenInfo(ESS1P)'!$A$6:$AC$390,12,FALSE),0)","v":987489},1200]
[null,null,null,null,null,null,null,null,null,null,null,null,null,null,null,null,null,null,12,"January","A03476784359K","Janet Wairimu Wamatagi","Resident","Primary Employee",40000,null,null,null,null,null,null,40000,null,null,0,null,40000,1080,null,null,2400,150,3909.3500000000004,"Benefit not given",null,2023,null,null,null,null,12,"Wairimu Wamatagi","Janet",{"$f":"IFERROR(VLOOKUP(AY18,'EmpGenInfo(ESS1P)'!$A$6:$AC$390,3,FALSE),0)","v":35678910},{"$f":"IFERROR(VLOOKUP(AY18,'EmpGenInfo(ESS1P)'!$A$6:$AC$390,12,FALSE),0)","v":89347},1000]
[null,null,null,null,null,null,null,null,null,null,null,null,null,null,null,null,null,null,14,"January","A03467623670P","Gitau Harrison Kithi","Resident","Primary Employee",55000,null,null,null,null,null,null,55000,null,null,0,null,55000,1080,null,null,2400,180,8379.35,"Benefit not given",null,2023,null,null,null,null,14,"Harrison Kithi","Gitau",{"$f":"IFERROR(VLOOKUP(AY19,'EmpGenInfo(ESS1P)'!$A$6:$AC$390,3,FALSE),0)","v":35267812},{"$f":"IFERROR(VLOOKUP(AY19,'EmpGenInfo(ESS1P)'!$A$6:$AC$390,12,FALSE),0)","v":876348},1200]
[null,null,null,null,null,null,null,null,null,null,null,null,null,null,null,null,null,null,null,null,null,null,null,null,null,null,null,null,null,null,null,null,null,null,null,null,null,null,null,null,null,null,null,null,null,null,null,null,null,null,0,"","",{"$f":"IFERROR(VLOOKUP(AY20,'EmpGenInfo(ESS1P)'!$A$6:$AC$390,3,FALSE),0)","v":0},{"$f":"IFERROR(VLOOKUP(AY20,'EmpGenInfo(ESS1P)'!$A$6:$AC$390,12,FALSE),0)","v":0},0]
[null,null,null,null,null,null,null,null,null,null,null,null,null,null,null,null,null,null,null,null,null,null,null,null,null,null,null,null,null,null,null,null,null,null,null,null,null,null,null,null,null,null,null,null,null,null,null,null,null,null,0,"","",{"$f":"IFERROR(VLOOKUP(AY21,'EmpGenInfo(ESS1P)'!$A$6:$AC$390,3,FALSE),0)","v":0},{"$f":"IFERROR(VLOOKUP(AY21,'EmpGenInfo(ESS1P)'!$A$6:$AC$390,12,FALSE),0)","v":0},0]
[null,null,null,null,null,null,null,null,null,null,null,null,null,null,null,null,null,null,null,null,null,null,null,null,null,null,null,null,null,null,null,null,null,null,null,null,null,null,null,null,null,null,null,null,null,null,null,null,null,null,0,"","",{"$f":"IFERROR(VLOOKUP(AY22,'EmpGenInfo(ESS1P)'!$A$6:$AC$390,3,FALSE),0)","v":0},{"$f":"IFERROR(VLOOKUP(AY22,'EmpGenInfo(ESS1P)'!$A$6:$AC$390,12,FALSE),0)","v":0},0]
[null,null,null,null,null,null,null,null,null,null,null,null,null,null,null,null,null,null,null,null,null,null,null,null,null,null,null,null,null,null,null,null,null,null,null,null,null,null,null,null,null,null,null,null,null,null,null,null,null,null,0,"","",{"$f":"IFERROR(VLOOKUP(AY23,'EmpGenInfo(ESS1P)'!$A$6:$AC$390,3,FALSE),0)","v":0},{"$f":"IFERROR(VLOOKUP(AY23,'EmpGenInfo(ESS1P)'!$A$6:$AC$390,12,FALSE),0)","v":0},0]
[null,null,null,null,null,null,null,null,null,null,null,null,null,null,null,null,null,null,null,null,null,null,null,null,null,null,null,null,null,null,null,null,null,null,null,null,null,null,null,null,null,null,null,null,null,null,null,null,null,null,0,"","",{"$f":"IFERROR(VLOOKUP(AY24,'EmpGenInfo(ESS1P)'!$A$6:$AC$390,3,FALSE),0)","v":0},{"$f":"IFERROR(VLOOKUP(AY24,'EmpGenInfo(ESS1P)'!$A$6:$AC$390,12,FALSE),0)","v":0},0]
[null,null,null,null,null,null,null,null,null,null,null,null,null,null,null,null,null,null,null,null,null,null,null,null,null,null,null,null,null,null,null,null,null,null,null,null,null,null,null,null,null,null,null,null,null,null,null,null,null,null,0,"","",{"$f":"IFERROR(VLOOKUP(AY25,'EmpGenInfo(ESS1P)'!$A$6:$AC$390,3,FALSE),0)","v":0},{"$f":"IFERROR(VLOOKUP(AY25,'EmpGenInfo(ESS1P)'!$A$6:$AC$390,12,FALSE),0)","v":0},0]
[null,null,null,null,null,null,null,null,null,null,null,null,null,null,null,null,null,null,null,null,null,null,null,null,null,null,null,null,null,null,null,null,null,null,null,null,null,null,null,null,null,null,null,null,null,null,null,null,null,null,0,"","",{"$f":"IFERROR(VLOOKUP(AY26,'EmpGenInfo(ESS1P)'!$A$6:$AC$390,3,FALSE),0)","v":0},{"$f":"IFERROR(VLOOKUP(AY26,'EmpGenInfo(ESS1P)'!$A$6:$AC$390,12,FALSE),0)","v":0},0]
[null,null,null,null,null,null,null,null,null,null,null,null,null,null,null,null,null,null,null,null,null,null,null,null,null,null,null,null,null,null,null,null,null,null,null,null,null,null,null,null,null,null,null,null,null,null,null,null,null,null,0,"","",{"$f":"IFERROR(VLOOKUP(AY27,'EmpGenInfo(ESS1P)'!$A$6:$AC$390,3,FALSE),0)","v":0},{"$f":"IFERROR(VLOOKUP(AY27,'EmpGenInfo(ESS1P)'!$A$6:$AC$390,12,FALSE),0)","v":0},0]
[null,null,null,null,null,null,null,null,null,null,null,null,null,null,null,null,null,null,null,null,null,null,null,null,null,null,null,null,null,null,null,null,null,null,null,null,null,null,null,null,null,null,null,null,null,null,null,null,null,null,0,"","",{"$f":"IFERROR(VLOOKUP(AY28,'EmpGenInfo(ESS1P)'!$A$6:$AC$390,3,FALSE),0)","v":0},{"$f":"IFERROR(VLOOKUP(AY28,'EmpGenInfo(ESS1P)'!$A$6:$AC$390,12,FALSE),0)","v":0},0]
[null,null,null,null,null,null,null,null,null,null,null,null,null,null,null,null,null,null,null,null,null,null,null,null,null,null,null,null,null,null,null,null,null,null,null,null,null,null,null,null,null,null,null,null,null,null,null,null,null,null,0,"","",{"$f":"IFERROR(VLOOKUP(AY29,'EmpGenInfo(ESS1P)'!$A$6:$AC$390,3,FALSE),0)","v":0},{"$f":"IFERROR(VLOOKUP(AY29,'EmpGenInfo(ESS1P)'!$A$6:$AC$390,12,FALSE),0)","v":0},0]
[null,null,null,null,null,null,null,null,null,null,null,null,null,null,null,null,null,null,null,null,null,null,null,null,null,null,null,null,null,null,null,null,null,null,null,null,null,null,null,null,null,null,null,null,null,null,null,null,null,null,0,"","",{"$f":"IFERROR(VLOOKUP(AY30,'EmpGenInfo(ESS1P)'!$A$6:$AC$390,3,FALSE),0)","v":0},{"$f":"IFERROR(VLOOKUP(AY30,'EmpGenInfo(ESS1P)'!$A$6:$AC$390,12,FALSE),0)","v":0},0]
[null,null,null,null,null,null,null,null,null,null,null,null,null,null,null,null,null,null,null,null,null,null,null,null,null,null,null,null,null,null,null,null,null,null,null,null,null,null,null,null,null,null,null,null,null,null,null,null,null,null,0,"","",{"$f":"IFERROR(VLOOKUP(AY31,'EmpGenInfo(ESS1P)'!$A$6:$AC$390,3,FALSE),0)","v":0},{"$f":"IFERROR(VLOOKUP(AY31,'EmpGenInfo(ESS1P)'!$A$6:$AC$390,12,FALSE),0)","v":0},0]
[null,null,null,null,null,null,null,null,null,null,null,null,null,null,null,null,null,null,null,null,null,null,null,null,null,null,null,null,null,null,null,null,null,null,null,null,null,null,null,null,null,null,null,null,null,null,null,null,null,null,0,"","",{"$f":"IFERROR(VLOOKUP(AY32,'EmpGenInfo(ESS1P)'!$A$6:$AC$390,3,FALSE),0)","v":0},{"$f":"IFERROR(VLOOKUP(AY32,'EmpGenInfo(ESS1P)'!$A$6:$AC$390,12,FALSE),0)","v":0},0]
[null,null,null,null,null,null,null,null,null,null,null,null,null,null,null,null,null,null,null,null,null,null,null,null,null,null,null,null,null,null,null,null,null,null,null,null,null,null,null,null,null,null,null,null,null,null,null,null,null,null,0,"","",{"$f":"IFERROR(VLOOKUP(AY33,'EmpGenInfo(ESS1P)'!$A$6:$AC$390,3,FALSE),0)","v":0},{"$f":"IFERROR(VLOOKUP(AY33,'EmpGenInfo(ESS1P)'!$A$6:$AC$390,12,FALSE),0)","v":0},0]
[null,null,null,null,null,null,null,null,null,null,null,null,null,null,null,null,null,null,null,null,null,null,null,null,null,null,null,null,null,null,null,null,null,null,null,null,null,null,null,null,null,null,null,null,null,null,null,null,null,null,0,"","",{"$f":"IFERROR(VLOOKUP(AY34,'EmpGenInfo(ESS1P)'!$A$6:$AC$390,3,FALSE),0)","v":0},{"$f":"IFERROR(VLOOKUP(AY34,'EmpGenInfo(ESS1P)'!$A$6:$AC$390,12,FALSE),0)","v":0},0]
[null,null,null,null,null,null,null,null,null,null,null,null,null,null,null,null,null,null,null,null,null,null,null,null,null,null,null,null,null,null,null,null,null,null,null,null,null,null,null,null,null,null,null,null,null,null,null,null,null,null,0,"","",{"$f":"IFERROR(VLOOKUP(AY35,'EmpGenInfo(ESS1P)'!$A$6:$AC$390,3,FALSE),0)","v":0},{"$f":"IFERROR(VLOOKUP(AY35,'EmpGenInfo(ESS1P)'!$A$6:$AC$390,12,FALSE),0)","v":0},0]
[null,null,null,null,null,null,null,null,null,null,null,null,null,null,null,null,null,null,null,null,null,null,null,null,null,null,null,null,null,null,null,null,null,null,null,null,null,null,null,null,null,null,null,null,null,null,null,null,null,null,0,"","",{"$f":"IFERROR(VLOOKUP(AY36,'EmpGenInfo(ESS1P)'!$A$6:$AC$390,3,FALSE),0)","v":0},{"$f":"IFERROR(VLOOKUP(AY36,'EmpGenInfo(ESS1P)'!$A$6:$AC$390,12,FALSE),0)","v":0},0]
[null,null,null,null,null,null,null,null,null,null,null,null,null,null,null,null,null,null,null,null,null,null,null,null,null,null,null,null,null,null,null,null,null,null,null,null,null,null,null,null,null,null,null,null,null,null,null,null,null,null,0,"","",{"$f":"IFERROR(VLOOKUP(AY37,'EmpGenInfo(ESS1P)'!$A$6:$AC$390,3,FALSE),0)","v":0},{"$f":"IFERROR(VLOOKUP(AY37,'EmpGenInfo(ESS1P)'!$A$6:$AC$390,12,FALSE),0)","v":0},0]
[null,null,null,null,null,null,null,null,null,null,null,null,null,null,null,null,null,null,null,null,null,null,null,null,null,null,null,null,null,null,null,null,null,null,null,null,null,null,null,null,null,null,null,null,null,null,null,null,null,null,0,"","",{"$f":"IFERROR(VLOOKUP(AY38,'EmpGenInfo(ESS1P)'!$A$6:$AC$390,3,FALSE),0)","v":0},{"$f":"IFERROR(VLOOKUP(AY38,'EmpGenInfo(ESS1P)'!$A$6:$AC$390,12,FALSE),0)","v":0},0]
[null,null,null,null,null,null,null,null,null,null,null,null,null,null,null,null,null,null,null,null,null,null,null,null,null,null,null,null,null,null,null,null,null,null,null,null,null,null,null,null,null,null,null,null,null,null,null,null,null,null,0,"","",{"$f":"IFERROR(VLOOKUP(AY39,'EmpGenInfo(ESS1P)'!$A$6:$AC$390,3,FALSE),0)","v":0},{"$f":"IFERROR(VLOOKUP(AY39,'EmpGenInfo(ESS1P)'!$A$6:$AC$390,12,FALSE),0)","v":0},0]
[null,null,null,null,null,null,null,null,null,null,null,null,null,null,null,null,null,null,null,null,null,null,null,null,null,null,null,null,null,null,null,null,null,null,null,null,null,null,null,null,null,null,null,null,null,null,null,null,null,null,0,"","",{"$f":"IFERROR(VLOOKUP(AY40,'EmpGenInfo(ESS1P)'!$A$6:$AC$390,3,FALSE),0)","v":0},{"$f":"IFERROR(VLOOKUP(AY40,'EmpGenInfo(ESS1P)'!$A$6:$AC$390,12,FALSE),0)","v":0},0]
[null,null,null,null,null,null,null,null,null,null,null,null,null,null,null,null,null,null,null,null,null,null,null,null,null,null,null,null,null,null,null,null,null,null,null,null,null,null,null,null,null,null,null,null,null,null,null,null,null,null,0,"","",{"$f":"IFERROR(VLOOKUP(AY41,'EmpGenInfo(ESS1P)'!$A$6:$AC$390,3,FALSE),0)","v":0},{"$f":"IFERROR(VLOOKUP(AY41,'EmpGenInfo(ESS1P)'!$A$6:$AC$390,12,FALSE),0)","v":0},0]
[null,null,null,null,null,null,null,null,null,null,null,null,null,null,null,null,null,null,null,null,null,null,null,null,null,null,null,null,null,null,null,null,null,null,null,null,null,null,null,null,null,null,null,null,null,null,null,null,null,null,0,"","",{"$f":"IFERROR(VLOOKUP(AY42,'EmpGenInfo(ESS1P)'!$A$6:$AC$390,3,FALSE),0)","v":0},{"$f":"IFERROR(VLOOKUP(AY42,'EmpGenInfo(ESS1P)'!$A$6:$AC$390,12,FALSE),0)","v":0},0]
[null,null,null,null,null,null,null,null,null,null,null,null,null,null,null,null,null,null,null,null,null,null,null,null,null,null,null,null,null,null,null,null,null,null,null,null,null,null,null,null,null,null,null,null,null,null,null,null,null,null,0,"","",{"$f":"IFERROR(VLOOKUP(AY43,'EmpGenInfo(ESS1P)'!$A$6:$AC$390,3,FALSE),0)","v":0},{"$f":"IFERROR(VLOOKUP(AY43,'EmpGenInfo(ESS1P)'!$A$6:$AC$390,12,FALSE),0)","v":0},0]
[null,null,null,null,null,null,null,null,null,null,null,null,null,null,null,null,null,null,null,null,null,null,null,null,null,null,null,null,null,null,null,null,null,null,null,null,null,null,null,null,null,null,null,null,null,null,null,null,null,null,0,"","",{"$f":"IFERROR(VLOOKUP(AY44,'EmpGenInfo(ESS1P)'!$A$6:$AC$390,3,FALSE),0)","v":0},{"$f":"IFERROR(VLOOKUP(AY44,'EmpGenInfo(ESS1P)'!$A$6:$AC$390,12,FALSE),0)","v":0},0]
[null,null,null,null,null,null,null,null,null,null,null,null,null,null,null,null,null,null,null,null,null,null,null,null,null,null,null,null,null,null,null,null,null,null,null,null,null,null,null,null,null,null,null,null,null,null,null,null,null,null,0,"","",{"$f":"IFERROR(VLOOKUP(AY45,'EmpGenInfo(ESS1P)'!$A$6:$AC$390,3,FALSE),0)","v":0},{"$f":"IFERROR(VLOOKUP(AY45,'EmpGenInfo(ESS1P)'!$A$6:$AC$390,12,FALSE),0)","v":0},0]
[null,null,null,null,null,null,null,null,null,null,null,null,null,null,null,null,null,null,null,null,null,null,null,null,null,null,null,null,null,null,null,null,null,null,null,null,null,null,null,null,null,null,null,null,null,null,null,null,null,null,0,"","",{"$f":"IFERROR(VLOOKUP(AY46,'EmpGenInfo(ESS1P)'!$A$6:$AC$390,3,FALSE),0)","v":0},{"$f":"IFERROR(VLOOKUP(AY46,'EmpGenInfo(ESS1P)'!$A$6:$AC$390,12,FALSE),0)","v":0},0]
[null,null,null,null,null,null,null,null,null,null,null,null,null,null,null,null,null,null,null,null,null,null,null,null,null,null,null,null,null,null,null,null,null,null,null,null,null,null,null,null,null,null,null,null,null,null,null,null,null,null,0,"","",{"$f":"IFERROR(VLOOKUP(AY47,'EmpGenInfo(ESS1P)'!$A$6:$AC$390,3,FALSE),0)","v":0},{"$f":"IFERROR(VLOOKUP(AY47,'EmpGenInfo(ESS1P)'!$A$6:$AC$390,12,FALSE),0)","v":0},0]
[null,null,null,null,null,null,null,null,null,null,null,null,null,null,null,null,null,null,null,null,null,null,null,null,null,null,null,null,null,null,null,null,null,null,null,null,null,null,null,null,null,null,null,null,null,null,null,null,null,null,0,"","",{"$f":"IFERROR(VLOOKUP(AY48,'EmpGenInfo(ESS1P)'!$A$6:$AC$390,3,FALSE),0)","v":0},{"$f":"IFERROR(VLOOKUP(AY48,'EmpGenInfo(ESS1P)'!$A$6:$AC$390,12,FALSE),0)","v":0},0]
[null,null,null,null,null,null,null,null,null,null,null,null,null,null,null,null,null,null,null,null,null,null,null,null,null,null,null,null,null,null,null,null,null,null,null,null,null,null,null,null,null,null,null,null,null,null,null,null,null,null,0,"","",{"$f":"IFERROR(VLOOKUP(AY49,'EmpGenInfo(ESS1P)'!$A$6:$AC$390,3,FALSE),0)","v":0},{"$f":"IFERROR(VLOOKUP(AY49,'EmpGenInfo(ESS1P)'!$A$6:$AC$390,12,FALSE),0)","v":0},0]
[null,null,null,null,null,null,null,null,null,null,null,null,null,null,null,null,null,null,null,null,null,null,null,null,null,null,null,null,null,null,null,null,null,null,null,null,null,null,null,null,null,null,null,null,null,null,null,null,null,null,0,"","",{"$f":"IFERROR(VLOOKUP(AY50,'EmpGenInfo(ESS1P)'!$A$6:$AC$390,3,FALSE),0)","v":0},{"$f":"IFERROR(VLOOKUP(AY50,'EmpGenInfo(ESS1P)'!$A$6:$AC$390,12,FALSE),0)","v":0},0]
[null,null,null,null,null,null,null,null,null,null,null,null,null,null,null,null,null,null,null,null,null,null,null,null,null,null,null,null,null,null,null,null,null,null,null,null,null,null,null,null,null,null,null,null,null,null,null,null,null,null,0,"","",{"$f":"IFERROR(VLOOKUP(AY51,'EmpGenInfo(ESS1P)'!$A$6:$AC$390,3,FALSE),0)","v":0},{"$f":"IFERROR(VLOOKUP(AY51,'EmpGenInfo(ESS1P)'!$A$6:$AC$390,12,FALSE),0)","v":0},0]
[null,null,null,null,null,null,null,null,null,null,null,null,null,null,null,null,null,null,null,null,null,null,null,null,null,null,null,null,null,null,null,null,null,null,null,null,null,null,null,null,null,null,null,null,null,null,null,null,null,null,0,"","",{"$f":"IFERROR(VLOOKUP(AY52,'EmpGenInfo(ESS1P)'!$A$6:$AC$390,3,FALSE),0)","v":0},{"$f":"IFERROR(VLOOKUP(AY52,'EmpGenInfo(ESS1P)'!$A$6:$AC$390,12,FALSE),0)","v":0},0]
[null,null,null,null,null,null,null,null,null,null,null,null,null,null,null,null,null,null,null,null,null,null,null,null,null,null,null,null,null,null,null,null,null,null,null,null,null,null,null,null,null,null,null,null,null,null,null,null,null,null,0,"","",{"$f":"IFERROR(VLOOKUP(AY53,'EmpGenInfo(ESS1P)'!$A$6:$AC$390,3,FALSE),0)","v":0},{"$f":"IFERROR(VLOOKUP(AY53,'EmpGenInfo(ESS1P)'!$A$6:$AC$390,12,FALSE),0)","v":0},0]
[null,null,null,null,null,null,null,null,null,null,null,null,null,null,null,null,null,null,null,null,null,null,null,null,null,null,null,null,null,null,null,null,null,null,null,null,null,null,null,null,null,null,null,null,null,null,null,null,null,null,0,"","",{"$f":"IFERROR(VLOOKUP(AY54,'EmpGenInfo(ESS1P)'!$A$6:$AC$390,3,FALSE),0)","v":0},{"$f":"IFERROR(VLOOKUP(AY54,'EmpGenInfo(ESS1P)'!$A$6:$AC$390,12,FALSE),0)","v":0},0]
[null,null,null,null,null,null,null,null,null,null,null,null,null,null,null,null,null,null,null,null,null,null,null,null,null,null,null,null,null,null,null,null,null,null,null,null,null,null,null,null,null,null,null,null,null,null,null,null,null,null,0,"","",{"$f":"IFERROR(VLOOKUP(AY55,'EmpGenInfo(ESS1P)'!$A$6:$AC$390,3,FALSE),0)","v":0},{"$f":"IFERROR(VLOOKUP(AY55,'EmpGenInfo(ESS1P)'!$A$6:$AC$390,12,FALSE),0)","v":0},0]
[null,null,null,null,null,null,null,null,null,null,null,null,null,null,null,null,null,null,null,null,null,null,null,null,null,null,null,null,null,null,null,null,null,null,null,null,null,null,null,null,null,null,null,null,null,null,null,null,null,null,0,"","",{"$f":"IFERROR(VLOOKUP(AY56,'EmpGenInfo(ESS1P)'!$A$6:$AC$390,3,FALSE),0)","v":0},{"$f":"IFERROR(VLOOKUP(AY56,'EmpGenInfo(ESS1P)'!$A$6:$AC$390,12,FALSE),0)","v":0},0]
[null,null,null,null,null,null,null,null,null,null,null,null,null,null,null,null,null,null,null,null,null,null,null,null,null,null,null,null,null,null,null,null,null,null,null,null,null,null,null,null,null,null,null,null,null,null,null,null,null,null,0,"","",{"$f":"IFERROR(VLOOKUP(AY57,'EmpGenInfo(ESS1P)'!$A$6:$AC$390,3,FALSE),0)","v":0},{"$f":"IFERROR(VLOOKUP(AY57,'EmpGenInfo(ESS1P)'!$A$6:$AC$390,12,FALSE),0)","v":0},0]
[null,null,null,null,null,null,null,null,null,null,null,null,null,null,null,null,null,null,null,null,null,null,null,null,null,null,null,null,null,null,null,null,null,null,null,null,null,null,null,null,null,null,null,null,null,null,null,null,null,null,0,"","",{"$f":"IFERROR(VLOOKUP(AY58,'EmpGenInfo(ESS1P)'!$A$6:$AC$390,3,FALSE),0)","v":0},{"$f":"IFERROR(VLOOKUP(AY58,'EmpGenInfo(ESS1P)'!$A$6:$AC$390,12,FALSE),0)","v":0},0]
[null,null,null,null,null,null,null,null,null,null,null,null,null,null,null,null,null,null,null,null,null,null,null,null,null,null,null,null,null,null,null,null,null,null,null,null,null,null,null,null,null,null,null,null,null,null,null,null,null,null,0,"","",{"$f":"IFERROR(VLOOKUP(AY59,'EmpGenInfo(ESS1P)'!$A$6:$AC$390,3,FALSE),0)","v":0},{"$f":"IFERROR(VLOOKUP(AY59,'EmpGenInfo(ESS1P)'!$A$6:$AC$390,12,FALSE),0)","v":0},0]
[null,null,null,null,null,null,null,null,null,null,null,null,null,null,null,null,null,null,null,null,null,null,null,null,null,null,null,null,null,null,null,null,null,null,null,null,null,null,null,null,null,null,null,null,null,null,null,null,null,null,0,"","",{"$f":"IFERROR(VLOOKUP(AY60,'EmpGenInfo(ESS1P)'!$A$6:$AC$390,3,FALSE),0)","v":0},{"$f":"IFERROR(VLOOKUP(AY60,'EmpGenInfo(ESS1P)'!$A$6:$AC$390,12,FALSE),0)","v":0},0]
[null,null,null,null,null,null,null,null,null,null,null,null,null,null,null,null,null,null,null,null,null,null,null,null,null,null,null,null,null,null,null,null,null,null,null,null,null,null,null,null,null,null,null,null,null,null,null,null,null,null,0,"","",{"$f":"IFERROR(VLOOKUP(AY61,'EmpGenInfo(ESS1P)'!$A$6:$AC$390,3,FALSE),0)","v":0},{"$f":"IFERROR(VLOOKUP(AY61,'EmpGenInfo(ESS1P)'!$A$6:$AC$390,12,FALSE),0)","v":0},0]
[null,null,null,null,null,null,null,null,null,null,null,null,null,null,null,null,null,null,null,null,null,null,null,null,null,null,null,null,null,null,null,null,null,null,null,null,null,null,null,null,null,null,null,null,null,null,null,null,null,null,0,"","",{"$f":"IFERROR(VLOOKUP(AY62,'EmpGenInfo(ESS1P)'!$A$6:$AC$390,3,FALSE),0)","v":0},{"$f":"IFERROR(VLOOKUP(AY62,'EmpGenInfo(ESS1P)'!$A$6:$AC$390,12,FALSE),0)","v":0},0]
[null,null,null,null,null,null,null,null,null,null,null,null,null,null,null,null,null,null,null,null,null,null,null,null,null,null,null,null,null,null,null,null,null,null,null,null,null,null,null,null,null,null,null,null,null,null,null,null,null,null,0,"","",{"$f":"IFERROR(VLOOKUP(AY63,'EmpGenInfo(ESS1P)'!$A$6:$AC$390,3,FALSE),0)","v":0},{"$f":"IFERROR(VLOOKUP(AY63,'EmpGenInfo(ESS1P)'!$A$6:$AC$390,12,FALSE),0)","v":0},0]
[null,null,null,null,null,null,null,null,null,null,null,null,null,null,null,null,null,null,null,null,null,null,null,null,null,null,null,null,null,null,null,null,null,null,null,null,null,null,null,null,null,null,null,null,null,null,null,null,null,null,0,"","",{"$f":"IFERROR(VLOOKUP(AY64,'EmpGenInfo(ESS1P)'!$A$6:$AC$390,3,FALSE),0)","v":0},{"$f":"IFERROR(VLOOKUP(AY64,'EmpGenInfo(ESS1P)'!$A$6:$AC$390,12,FALSE),0)","v":0},0]
[null,null,null,null,null,null,null,null,null,null,null,null,null,null,null,null,null,null,null,null,null,null,null,null,null,null,null,null,null,null,null,null,null,null,null,null,null,null,null,null,null,null,null,null,null,null,null,null,null,null,0,"","",{"$f":"IFERROR(VLOOKUP(AY65,'EmpGenInfo(ESS1P)'!$A$6:$AC$390,3,FALSE),0)","v":0},{"$f":"IFERROR(VLOOKUP(AY65,'EmpGenInfo(ESS1P)'!$A$6:$AC$390,12,FALSE),0)","v":0},0]
[null,null,null,null,null,null,null,null,null,null,null,null,null,null,null,null,null,null,null,null,null,null,null,null,null,null,null,null,null,null,null,null,null,null,null,null,null,null,null,null,null,null,null,null,null,null,null,null,null,null,0,"","",{"$f":"IFERROR(VLOOKUP(AY66,'EmpGenInfo(ESS1P)'!$A$6:$AC$390,3,FALSE),0)","v":0},{"$f":"IFERROR(VLOOKUP(AY66,'EmpGenInfo(ESS1P)'!$A$6:$AC$390,12,FALSE),0)","v":0},0]
[null,null,null,null,null,null,null,null,null,null,null,null,null,null,null,null,null,null,null,null,null,null,null,null,null,null,null,null,null,null,null,null,null,null,null,null,null,null,null,null,null,null,null,null,null,null,null,null,null,null,0,"","",{"$f":"IFERROR(VLOOKUP(AY67,'EmpGenInfo(ESS1P)'!$A$6:$AC$390,3,FALSE),0)","v":0},{"$f":"IFERROR(VLOOKUP(AY67,'EmpGenInfo(ESS1P)'!$A$6:$AC$390,12,FALSE),0)","v":0},0]
[null,null,null,null,null,null,null,null,null,null,null,null,null,null,null,null,null,null,null,null,null,null,null,null,null,null,null,null,null,null,null,null,null,null,null,null,null,null,null,null,null,null,null,null,null,null,null,null,null,null,0,"","",{"$f":"IFERROR(VLOOKUP(AY68,'EmpGenInfo(ESS1P)'!$A$6:$AC$390,3,FALSE),0)","v":0},{"$f":"IFERROR(VLOOKUP(AY68,'EmpGenInfo(ESS1P)'!$A$6:$AC$390,12,FALSE),0)","v":0},0]
[null,null,null,null,null,null,null,null,null,null,null,null,null,null,null,null,null,null,null,null,null,null,null,null,null,null,null,null,null,null,null,null,null,null,null,null,null,null,null,null,null,null,null,null,null,null,null,null,null,null,0,"","",{"$f":"IFERROR(VLOOKUP(AY69,'EmpGenInfo(ESS1P)'!$A$6:$AC$390,3,FALSE),0)","v":0},{"$f":"IFERROR(VLOOKUP(AY69,'EmpGenInfo(ESS1P)'!$A$6:$AC$390,12,FALSE),0)","v":0},0]
[null,null,null,null,null,null,null,null,null,null,null,null,null,null,null,null,null,null,null,null,null,null,null,null,null,null,null,null,null,null,null,null,null,null,null,null,null,null,null,null,null,null,null,null,null,null,null,null,null,null,0,"","",{"$f":"IFERROR(VLOOKUP(AY70,'EmpGenInfo(ESS1P)'!$A$6:$AC$390,3,FALSE),0)","v":0},{"$f":"IFERROR(VLOOKUP(AY70,'EmpGenInfo(ESS1P)'!$A$6:$AC$390,12,FALSE),0)","v":0},0]
[null,null,null,null,null,null,null,null,null,null,null,null,null,null,null,null,null,null,null,null,null,null,null,null,null,null,null,null,null,null,null,null,null,null,null,null,null,null,null,null,null,null,null,null,null,null,null,null,null,null,0,"","",{"$f":"IFERROR(VLOOKUP(AY71,'EmpGenInfo(ESS1P)'!$A$6:$AC$390,3,FALSE),0)","v":0},{"$f":"IFERROR(VLOOKUP(AY71,'EmpGenInfo(ESS1P)'!$A$6:$AC$390,12,FALSE),0)","v":0},0]
[null,null,null,null,null,null,null,null,null,null,null,null,null,null,null,null,null,null,null,null,null,null,null,null,null,null,null,null,null,null,null,null,null,null,null,null,null,null,null,null,null,null,null,null,null,null,null,null,null,null,{"$f":"S72","v":0},"","",{"$f":"IFERROR(VLOOKUP(AY72,'EmpGenInfo(ESS1P)'!$A$6:$AC$390,3,FALSE),0)","v":0},{"$f":"IFERROR(VLOOKUP(AY72,'EmpGenInfo(ESS1P)'!$A$6:$AC$390,12,FALSE),0)","v":0},{"$f":"AP72*100/15","v":0}]
[null,null,null,null,null,null,null,null,null,null,null,null,null,null,null,null,null,null,null,null,null,null,null,null,null,null,null,null,null,null,null,null,null,null,null,null,null,null,null,null,null,null,null,null,null,null,null,null,null,null,0,"","",{"$f":"IFERROR(VLOOKUP(AY73,'EmpGenInfo(ESS1P)'!$A$6:$AC$390,3,FALSE),0)","v":0},{"$f":"IFERROR(VLOOKUP(AY73,'EmpGenInfo(ESS1P)'!$A$6:$AC$390,12,FALSE),0)","v":0},0]
[null,null,null,null,null,null,null,null,null,null,null,null,null,null,null,null,null,null,null,null,null,null,null,null,null,null,null,null,null,null,null,null,null,null,null,null,null,null,null,null,null,null,null,null,null,null,null,null,null,null,0,"","",{"$f":"IFERROR(VLOOKUP(AY74,'EmpGenInfo(ESS1P)'!$A$6:$AC$390,3,FALSE),0)","v":0},{"$f":"IFERROR(VLOOKUP(AY74,'EmpGenInfo(ESS1P)'!$A$6:$AC$390,12,FALSE),0)","v":0},0]
[null,null,null,null,null,null,null,null,null,null,null,null,null,null,null,null,null,null,null,null,null,null,null,null,null,null,null,null,null,null,null,null,null,null,null,null,null,null,null,null,null,null,null,null,null,null,null,null,null,null,0,"","",{"$f":"IFERROR(VLOOKUP(AY75,'EmpGenInfo(ESS1P)'!$A$6:$AC$390,3,FALSE),0)","v":0},{"$f":"IFERROR(VLOOKUP(AY75,'EmpGenInfo(ESS1P)'!$A$6:$AC$390,12,FALSE),0)","v":0},0]
[null,null,null,null,null,null,null,null,null,null,null,null,null,null,null,null,null,null,null,null,null,null,null,null,null,null,null,null,null,null,null,null,null,null,null,null,null,null,null,null,null,null,null,null,null,null,null,null,null,null,0,"","",{"$f":"IFERROR(VLOOKUP(AY76,'EmpGenInfo(ESS1P)'!$A$6:$AC$390,3,FALSE),0)","v":0},{"$f":"IFERROR(VLOOKUP(AY76,'EmpGenInfo(ESS1P)'!$A$6:$AC$390,12,FALSE),0)","v":0},0]
[null,null,null,null,null,null,null,null,null,null,null,null,null,null,null,null,null,null,null,null,null,null,null,null,null,null,null,null,null,null,null,null,null,null,null,null,null,null,null,null,null,null,null,null,null,null,null,null,null,null,0,"","",{"$f":"IFERROR(VLOOKUP(AY77,'EmpGenInfo(ESS1P)'!$A$6:$AC$390,3,FALSE),0)","v":0},{"$f":"IFERROR(VLOOKUP(AY77,'EmpGenInfo(ESS1P)'!$A$6:$AC$390,12,FALSE),0)","v":0},0]
[null,null,null,null,null,null,null,null,null,null,null,null,null,null,null,null,null,null,null,null,null,null,null,null,null,null,null,null,null,null,null,null,null,null,null,null,null,null,null,null,null,null,null,null,null,null,null,null,null,null,0,"","",{"$f":"IFERROR(VLOOKUP(AY78,'EmpGenInfo(ESS1P)'!$A$6:$AC$390,3,FALSE),0)","v":0},{"$f":"IFERROR(VLOOKUP(AY78,'EmpGenInfo(ESS1P)'!$A$6:$AC$390,12,FALSE),0)","v":0},0]
[null,null,null,null,null,null,null,null,null,null,null,null,null,null,null,null,null,null,null,null,null,null,null,null,null,null,null,null,null,null,null,null,null,null,null,null,null,null,null,null,null,null,null,null,null,null,null,null,null,null,0,"","",{"$f":"IFERROR(VLOOKUP(AY79,'EmpGenInfo(ESS1P)'!$A$6:$AC$390,3,FALSE),0)","v":0},{"$f":"IFERROR(VLOOKUP(AY79,'EmpGenInfo(ESS1P)'!$A$6:$AC$390,12,FALSE),0)","v":0},0]
[null,null,null,null,null,null,null,null,null,null,null,null,null,null,null,null,null,null,null,null,null,null,null,null,null,null,null,null,null,null,null,null,null,null,null,null,null,null,null,null,null,null,null,null,null,null,null,null,null,null,0,"","",{"$f":"IFERROR(VLOOKUP(AY80,'EmpGenInfo(ESS1P)'!$A$6:$AC$390,3,FALSE),0)","v":0},{"$f":"IFERROR(VLOOKUP(AY80,'EmpGenInfo(ESS1P)'!$A$6:$AC$390,12,FALSE),0)","v":0},0]
[null,null,null,null,null,null,null,null,null,null,null,null,null,null,null,null,null,null,null,null,null,null,null,null,null,null,null,null,null,null,null,null,null,null,null,null,null,null,null,null,null,null,null,null,null,null,null,null,null,null,0,{"$f":"IFERROR(RIGHT(V81,LEN(V81)-FIND(\" \",V81)),\"\")","v":""},{"$f":"IFERROR(LEFT(V81,FIND(\" \",V81,1)-1),\"\")","v":""},{"$f":"IFERROR(VLOOKUP(AY81,'EmpGenInfo(ESS1P)'!$A$6:$AC$390,3,FALSE),0)","v":0},{"$f":"IFERROR(VLOOKUP(AY81,'EmpGenInfo(ESS1P)'!$A$6:$AC$390,12,FALSE),0)","v":0},0]
[null,null,null,null,null,null,null,null,null,null,null,null,null,null,null,null,null,null,null,null,null,null,null,null,null,null,null,null,null,null,null,null,null,null,null,null,null,null,null,null,null,null,null,null,null,null,null,null,null,null,0,"","",{"$f":"IFERROR(VLOOKUP(AY82,'EmpGenInfo(ESS1P)'!$A$6:$AC$390,3,FALSE),0)","v":0},{"$f":"IFERROR(VLOOKUP(AY82,'EmpGenInfo(ESS1P)'!$A$6:$AC$390,12,FALSE),0)","v":0},0]
[null,null,null,null,null,null,null,null,null,null,null,null,null,null,null,null,null,null,null,null,null,null,null,null,null,null,null,null,null,null,null,null,null,null,null,null,null,null,null,null,null,null,null,null,null,null,null,null,null,null,0,"","",{"$f":"IFERROR(VLOOKUP(AY83,'EmpGenInfo(ESS1P)'!$A$6:$AC$390,3,FALSE),0)","v":0},{"$f":"IFERROR(VLOOKUP(AY83,'EmpGenInfo(ESS1P)'!$A$6:$AC$390,12,FALSE),0)","v":0},0]
[null,null,null,null,null,null,null,null,null,null,null,null,null,null,null,null,null,null,null,null,null,null,null,null,null,null,null,null,null,null,null,null,null,null,null,null,null,null,null,null,null,null,null,null,null,null,null,null,null,null,0,"","",{"$f":"IFERROR(VLOOKUP(AY84,'EmpGenInfo(ESS1P)'!$A$6:$AC$390,3,FALSE),0)","v":0},{"$f":"IFERROR(VLOOKUP(AY84,'EmpGenInfo(ESS1P)'!$A$6:$AC$390,12,FALSE),0)","v":0},0]
[null,null,null,null,null,null,null,null,null,null,null,null,null,null,null,null,null,null,null,null,null,null,null,null,null,null,null,null,null,null,null,null,null,null,null,null,null,null,null,null,null,null,null,null,null,null,null,null,null,null,0,"","",{"$f":"IFERROR(VLOOKUP(AY85,'EmpGenInfo(ESS1P)'!$A$6:$AC$390,3,FALSE),0)","v":0},{"$f":"IFERROR(VLOOKUP(AY85,'EmpGenInfo(ESS1P)'!$A$6:$AC$390,12,FALSE),0)","v":0},0]
[null,null,null,null,null,null,null,null,null,null,null,null,null,null,null,null,null,null,null,null,null,null,null,null,null,null,null,null,null,null,null,null,null,null,null,null,null,null,null,null,null,null,null,null,null,null,null,null,null,null,0,"","",{"$f":"IFERROR(VLOOKUP(AY86,'EmpGenInfo(ESS1P)'!$A$6:$AC$390,3,FALSE),0)","v":0},{"$f":"IFERROR(VLOOKUP(AY86,'EmpGenInfo(ESS1P)'!$A$6:$AC$390,12,FALSE),0)","v":0},0]
[null,null,null,null,null,null,null,null,null,null,null,null,null,null,null,null,null,null,null,null,null,null,null,null,null,null,null,null,null,null,null,null,null,null,null,null,null,null,null,null,null,null,null,null,null,null,null,null,null,null,0,"","",{"$f":"IFERROR(VLOOKUP(AY87,'EmpGenInfo(ESS1P)'!$A$6:$AC$390,3,FALSE),0)","v":0},{"$f":"IFERROR(VLOOKUP(AY87,'EmpGenInfo(ESS1P)'!$A$6:$AC$390,12,FALSE),0)","v":0},0]
[null,null,null,null,null,null,null,null,null,null,null,null,null,null,null,null,null,null,null,null,null,null,null,null,null,null,null,null,null,null,null,null,null,null,null,null,null,null,null,null,null,null,null,null,null,null,null,null,null,null,0,"","",{"$f":"IFERROR(VLOOKUP(AY88,'EmpGenInfo(ESS1P)'!$A$6:$AC$390,3,FALSE),0)","v":0},{"$f":"IFERROR(VLOOKUP(AY88,'EmpGenInfo(ESS1P)'!$A$6:$AC$390,12,FALSE),0)","v":0},0]
[null,null,null,null,null,null,null,null,null,null,null,null,null,null,null,null,null,null,null,null,null,null,null,null,null,null,null,null,null,null,null,null,null,null,null,null,null,null,null,null,null,null,null,null,null,null,null,null,null,null,0,"","",{"$f":"IFERROR(VLOOKUP(AY89,'EmpGenInfo(ESS1P)'!$A$6:$AC$390,3,FALSE),0)","v":0},{"$f":"IFERROR(VLOOKUP(AY89,'EmpGenInfo(ESS1P)'!$A$6:$AC$390,12,FALSE),0)","v":0},0]
[null,null,null,null,null,null,null,null,null,null,null,null,null,null,null,null,null,null,null,null,null,null,null,null,null,null,null,null,null,null,null,null,null,null,null,null,null,null,null,null,null,null,null,null,null,null,null,null,null,null,0,"","",{"$f":"IFERROR(VLOOKUP(AY90,'EmpGenInfo(ESS1P)'!$A$6:$AC$390,3,FALSE),0)","v":0},{"$f":"IFERROR(VLOOKUP(AY90,'EmpGenInfo(ESS1P)'!$A$6:$AC$390,12,FALSE),0)","v":0},0]
[null,null,null,null,null,null,null,null,null,null,null,null,null,null,null,null,null,null,null,null,null,null,null,null,null,null,null,null,null,null,null,null,null,null,null,null,null,null,null,null,null,null,null,null,null,null,null,null,null,null,0,"","",{"$f":"IFERROR(VLOOKUP(AY91,'EmpGenInfo(ESS1P)'!$A$6:$AC$390,3,FALSE),0)","v":0},{"$f":"IFERROR(VLOOKUP(AY91,'EmpGenInfo(ESS1P)'!$A$6:$AC$390,12,FALSE),0)","v":0},0]
[null,null,null,null,null,null,null,null,null,null,null,null,null,null,null,null,null,null,null,null,null,null,null,null,null,null,null,null,null,null,null,null,null,null,null,null,null,null,null,null,null,null,null,null,null,null,null,null,null,null,0,"","",{"$f":"IFERROR(VLOOKUP(AY92,'EmpGenInfo(ESS1P)'!$A$6:$AC$390,3,FALSE),0)","v":0},{"$f":"IFERROR(VLOOKUP(AY92,'EmpGenInfo(ESS1P)'!$A$6:$AC$390,12,FALSE),0)","v":0},0]
[null,null,null,null,null,null,null,null,null,null,null,null,null,null,null,null,null,null,null,null,null,null,null,null,null,null,null,null,null,null,null,null,null,null,null,null,null,null,null,null,null,null,null,null,null,null,null,null,null,null,0,"","",{"$f":"IFERROR(VLOOKUP(AY93,'EmpGenInfo(ESS1P)'!$A$6:$AC$390,3,FALSE),0)","v":0},{"$f":"IFERROR(VLOOKUP(AY93,'EmpGenInfo(ESS1P)'!$A$6:$AC$390,12,FALSE),0)","v":0},0]
[null,null,null,null,null,null,null,null,null,null,null,null,null,null,null,null,null,null,null,null,null,null,null,null,null,null,null,null,null,null,null,null,null,null,null,null,null,null,null,null,null,null,null,null,null,null,null,null,null,null,0,"","",{"$f":"IFERROR(VLOOKUP(AY94,'EmpGenInfo(ESS1P)'!$A$6:$AC$390,3,FALSE),0)","v":0},{"$f":"IFERROR(VLOOKUP(AY94,'EmpGenInfo(ESS1P)'!$A$6:$AC$390,12,FALSE),0)","v":0},0]
[null,null,null,null,null,null,null,null,null,null,null,null,null,null,null,null,null,null,null,null,null,null,null,null,null,null,null,null,null,null,null,null,null,null,null,null,null,null,null,null,null,null,null,null,null,null,null,null,null,null,0,"","",{"$f":"IFERROR(VLOOKUP(AY95,'EmpGenInfo(ESS1P)'!$A$6:$AC$390,3,FALSE),0)","v":0},{"$f":"IFERROR(VLOOKUP(AY95,'EmpGenInfo(ESS1P)'!$A$6:$AC$390,12,FALSE),0)","v":0},0]
[null,null,null,null,null,null,null,null,null,null,null,null,null,null,null,null,null,null,null,null,null,null,null,null,null,null,null,null,null,null,null,null,null,null,null,null,null,null,null,null,null,null,null,null,null,null,null,null,null,null,0,"","",{"$f":"IFERROR(VLOOKUP(AY96,'EmpGenInfo(ESS1P)'!$A$6:$AC$390,3,FALSE),0)","v":0},{"$f":"IFERROR(VLOOKUP(AY96,'EmpGenInfo(ESS1P)'!$A$6:$AC$390,12,FALSE),0)","v":0},0]
[null,null,null,null,null,null,null,null,null,null,null,null,null,null,null,null,null,null,null,null,null,null,null,null,null,null,null,null,null,null,null,null,null,null,null,null,null,null,null,null,null,null,null,null,null,null,null,null,null,null,0,"","",{"$f":"IFERROR(VLOOKUP(AY97,'EmpGenInfo(ESS1P)'!$A$6:$AC$390,3,FALSE),0)","v":0},{"$f":"IFERROR(VLOOKUP(AY97,'EmpGenInfo(ESS1P)'!$A$6:$AC$390,12,FALSE),0)","v":0},0]
[null,null,null,null,null,null,null,null,null,null,null,null,null,null,null,null,null,null,null,null,null,null,null,null,null,null,null,null,null,null,null,null,null,null,null,null,null,null,null,null,null,null,null,null,null,null,null,null,null,null,0,"","",{"$f":"IFERROR(VLOOKUP(AY98,'EmpGenInfo(ESS1P)'!$A$6:$AC$390,3,FALSE),0)","v":0},{"$f":"IFERROR(VLOOKUP(AY98,'EmpGenInfo(ESS1P)'!$A$6:$AC$390,12,FALSE),0)","v":0},0]
[null,null,null,null,null,null,null,null,null,null,null,null,null,null,null,null,null,null,null,null,null,null,null,null,null,null,null,null,null,null,null,null,null,null,null,null,null,null,null,null,null,null,null,null,null,null,null,null,null,null,0,"","",{"$f":"IFERROR(VLOOKUP(AY99,'EmpGenInfo(ESS1P)'!$A$6:$AC$390,3,FALSE),0)","v":0},{"$f":"IFERROR(VLOOKUP(AY99,'EmpGenInfo(ESS1P)'!$A$6:$AC$390,12,FALSE),0)","v":0},0]
[null,null,null,null,null,null,null,null,null,null,null,null,null,null,null,null,null,null,null,null,null,null,null,null,null,null,null,null,null,null,null,null,null,null,null,null,null,null,null,null,null,null,null,null,null,null,null,null,null,null,0,"","",{"$f":"IFERROR(VLOOKUP(AY100,'EmpGenInfo(ESS1P)'!$A$6:$AC$390,3,FALSE),0)","v":0},{"$f":"IFERROR(VLOOKUP(AY100,'EmpGenInfo(ESS1P)'!$A$6:$AC$390,12,FALSE),0)","v":0},0]
[null,null,null,null,null,null,null,null,null,null,null,null,null,null,null,null,null,null,null,null,null,null,null,null,null,null,null,null,null,null,null,null,null,null,null,null,null,null,null,null,null,null,null,null,null,null,null,null,null,null,0,"","",{"$f":"IFERROR(VLOOKUP(AY101,'EmpGenInfo(ESS1P)'!$A$6:$AC$390,3,FALSE),0)","v":0},{"$f":"IFERROR(VLOOKUP(AY101,'EmpGenInfo(ESS1P)'!$A$6:$AC$390,12,FALSE),0)","v":0},0]
[null,null,null,null,null,null,null,null,null,null,null,null,null,null,null,null,null,null,null,null,null,null,null,null,null,null,null,null,null,null,null,null,null,null,null,null,null,null,null,null,null,null,null,null,null,null,null,null,null,null,0,"","",{"$f":"IFERROR(VLOOKUP(AY102,'EmpGenInfo(ESS1P)'!$A$6:$AC$390,3,FALSE),0)","v":0},{"$f":"IFERROR(VLOOKUP(AY102,'EmpGenInfo(ESS1P)'!$A$6:$AC$390,12,FALSE),0)","v":0},0]
[null,null,null,null,null,null,null,null,null,null,null,null,null,null,null,null,null,null,null,null,null,null,null,null,null,null,null,null,null,null,null,null,null,null,null,null,null,null,null,null,null,null,null,null,null,null,null,null,null,null,0,"","",{"$f":"IFERROR(VLOOKUP(AY103,'EmpGenInfo(ESS1P)'!$A$6:$AC$390,3,FALSE),0)","v":0},{"$f":"IFERROR(VLOOKUP(AY103,'EmpGenInfo(ESS1P)'!$A$6:$AC$390,12,FALSE),0)","v":0},0]
[null,null,null,null,null,null,null,null,null,null,null,null,null,null,null,null,null,null,null,null,null,null,null,null,null,null,null,null,null,null,null,null,null,null,null,null,null,null,null,null,null,null,null,null,null,null,null,null,null,null,0,"","",{"$f":"IFERROR(VLOOKUP(AY104,'EmpGenInfo(ESS1P)'!$A$6:$AC$390,3,FALSE),0)","v":0},{"$f":"IFERROR(VLOOKUP(AY104,'EmpGenInfo(ESS1P)'!$A$6:$AC$390,12,FALSE),0)","v":0},0]
[null,null,null,null,null,null,null,null,null,null,null,null,null,null,null,null,null,null,null,null,null,null,null,null,null,null,null,null,null,null,null,null,null,null,null,null,null,null,null,null,null,null,null,null,null,null,null,null,null,null,0,"","",{"$f":"IFERROR(VLOOKUP(AY105,'EmpGenInfo(ESS1P)'!$A$6:$AC$390,3,FALSE),0)","v":0},{"$f":"IFERROR(VLOOKUP(AY105,'EmpGenInfo(ESS1P)'!$A$6:$AC$390,12,FALSE),0)","v":0},0]
[null,null,null,null,null,null,null,null,null,null,null,null,null,null,null,null,null,null,null,null,null,null,null,null,null,null,null,null,null,null,null,null,null,null,null,null,null,null,null,null,null,null,null,null,null,null,null,null,null,null,0,"","",{"$f":"IFERROR(VLOOKUP(AY106,'EmpGenInfo(ESS1P)'!$A$6:$AC$390,3,FALSE),0)","v":0},{"$f":"IFERROR(VLOOKUP(AY106,'EmpGenInfo(ESS1P)'!$A$6:$AC$390,12,FALSE),0)","v":0},0]
[null,null,null,null,null,null,null,null,null,null,null,null,null,null,null,null,null,null,null,null,null,null,null,null,null,null,null,null,null,null,null,null,null,null,null,null,null,null,null,null,null,null,null,null,null,null,null,null,null,null,0,"","",{"$f":"IFERROR(VLOOKUP(AY107,'EmpGenInfo(ESS1P)'!$A$6:$AC$390,3,FALSE),0)","v":0},{"$f":"IFERROR(VLOOKUP(AY107,'EmpGenInfo(ESS1P)'!$A$6:$AC$390,12,FALSE),0)","v":0},0]
[null,null,null,null,null,null,null,null,null,null,null,null,null,null,null,null,null,null,null,null,null,null,null,null,null,null,null,null,null,null,null,null,null,null,null,null,null,null,null,null,null,null,null,null,null,null,null,null,null,null,0,"","",{"$f":"IFERROR(VLOOKUP(AY108,'EmpGenInfo(ESS1P)'!$A$6:$AC$390,3,FALSE),0)","v":0},{"$f":"IFERROR(VLOOKUP(AY108,'EmpGenInfo(ESS1P)'!$A$6:$AC$390,12,FALSE),0)","v":0},0]
[null,null,null,null,null,null,null,null,null,null,null,null,null,null,null,null,null,null,null,null,null,null,null,null,null,null,null,null,null,null,null,null,null,null,null,null,null,null,null,null,null,null,null,null,null,null,null,null,null,null,0,"","",{"$f":"IFERROR(VLOOKUP(AY109,'EmpGenInfo(ESS1P)'!$A$6:$AC$390,3,FALSE),0)","v":0},{"$f":"IFERROR(VLOOKUP(AY109,'EmpGenInfo(ESS1P)'!$A$6:$AC$390,12,FALSE),0)","v":0},0]
[null,null,null,null,null,null,null,null,null,null,null,null,null,null,null,null,null,null,null,null,null,null,null,null,null,null,null,null,null,null,null,null,null,null,null,null,null,null,null,null,null,null,null,null,null,null,null,null,null,null,0,"","",{"$f":"IFERROR(VLOOKUP(AY110,'EmpGenInfo(ESS1P)'!$A$6:$AC$390,3,FALSE),0)","v":0},{"$f":"IFERROR(VLOOKUP(AY110,'EmpGenInfo(ESS1P)'!$A$6:$AC$390,12,FALSE),0)","v":0},0]
[null,null,null,null,null,null,null,null,null,null,null,null,null,null,null,null,null,null,null,null,null,null,null,null,null,null,null,null,null,null,null,null,null,null,null,null,null,null,null,null,null,null,null,null,null,null,null,null,null,null,0,"","",{"$f":"IFERROR(VLOOKUP(AY111,'EmpGenInfo(ESS1P)'!$A$6:$AC$390,3,FALSE),0)","v":0},{"$f":"IFERROR(VLOOKUP(AY111,'EmpGenInfo(ESS1P)'!$A$6:$AC$390,12,FALSE),0)","v":0},0]
[null,null,null,null,null,null,null,null,null,null,null,null,null,null,null,null,null,null,null,null,null,null,null,null,null,null,null,null,null,null,null,null,null,null,null,null,null,null,null,null,null,null,null,null,null,null,null,null,null,null,0,"","",{"$f":"IFERROR(VLOOKUP(AY112,'EmpGenInfo(ESS1P)'!$A$6:$AC$390,3,FALSE),0)","v":0},{"$f":"IFERROR(VLOOKUP(AY112,'EmpGenInfo(ESS1P)'!$A$6:$AC$390,12,FALSE),0)","v":0},0]
[null,null,null,null,null,null,null,null,null,null,null,null,null,null,null,null,null,null,null,null,null,null,null,null,null,null,null,null,null,null,null,null,null,null,null,null,null,null,null,null,null,null,null,null,null,null,null,null,null,null,0,"","",{"$f":"IFERROR(VLOOKUP(AY113,'EmpGenInfo(ESS1P)'!$A$6:$AC$390,3,FALSE),0)","v":0},{"$f":"IFERROR(VLOOKUP(AY113,'EmpGenInfo(ESS1P)'!$A$6:$AC$390,12,FALSE),0)","v":0},0]
[null,null,null,null,null,null,null,null,null,null,null,null,null,null,null,null,null,null,null,null,null,null,null,null,null,null,null,null,null,null,null,null,null,null,null,null,null,null,null,null,null,null,null,null,null,null,null,null,null,null,0,"","",{"$f":"IFERROR(VLOOKUP(AY114,'EmpGenInfo(ESS1P)'!$A$6:$AC$390,3,FALSE),0)","v":0},{"$f":"IFERROR(VLOOKUP(AY114,'EmpGenInfo(ESS1P)'!$A$6:$AC$390,12,FALSE),0)","v":0},0]
[null,null,null,null,null,null,null,null,null,null,null,null,null,null,null,null,null,null,null,null,null,null,null,null,null,null,null,null,null,null,null,null,null,null,null,null,null,null,null,null,null,null,null,null,null,null,null,null,null,null,0,"","",{"$f":"IFERROR(VLOOKUP(AY115,'EmpGenInfo(ESS1P)'!$A$6:$AC$390,3,FALSE),0)","v":0},{"$f":"IFERROR(VLOOKUP(AY115,'EmpGenInfo(ESS1P)'!$A$6:$AC$390,12,FALSE),0)","v":0},0]
[null,null,null,null,null,null,null,null,null,null,null,null,null,null,null,null,null,null,null,null,null,null,null,null,null,null,null,null,null,null,null,null,null,null,null,null,null,null,null,null,null,null,null,null,null,null,null,null,null,null,0,"","",{"$f":"IFERROR(VLOOKUP(AY116,'EmpGenInfo(ESS1P)'!$A$6:$AC$390,3,FALSE),0)","v":0},{"$f":"IFERROR(VLOOKUP(AY116,'EmpGenInfo(ESS1P)'!$A$6:$AC$390,12,FALSE),0)","v":0},0]
[null,null,null,null,null,null,null,null,null,null,null,null,null,null,null,null,null,null,null,null,null,null,null,null,null,null,null,null,null,null,null,null,null,null,null,null,null,null,null,null,null,null,null,null,null,null,null,null,null,null,0,"","",{"$f":"IFERROR(VLOOKUP(AY117,'EmpGenInfo(ESS1P)'!$A$6:$AC$390,3,FALSE),0)","v":0},{"$f":"IFERROR(VLOOKUP(AY117,'EmpGenInfo(ESS1P)'!$A$6:$AC$390,12,FALSE),0)","v":0},0]
[null,null,null,null,null,null,null,null,null,null,null,null,null,null,null,null,null,null,null,null,null,null,null,null,null,null,null,null,null,null,null,null,null,null,null,null,null,null,null,null,null,null,null,null,null,null,null,null,null,null,0,"","",{"$f":"IFERROR(VLOOKUP(AY118,'EmpGenInfo(ESS1P)'!$A$6:$AC$390,3,FALSE),0)","v":0},{"$f":"IFERROR(VLOOKUP(AY118,'EmpGenInfo(ESS1P)'!$A$6:$AC$390,12,FALSE),0)","v":0},0]
[null,null,null,null,null,null,null,null,null,null,null,null,null,null,null,null,null,null,null,null,null,null,null,null,null,null,null,null,null,null,null,null,null,null,null,null,null,null,null,null,null,null,null,null,null,null,null,null,null,null,0,"","",{"$f":"IFERROR(VLOOKUP(AY119,'EmpGenInfo(ESS1P)'!$A$6:$AC$390,3,FALSE),0)","v":0},{"$f":"IFERROR(VLOOKUP(AY119,'EmpGenInfo(ESS1P)'!$A$6:$AC$390,12,FALSE),0)","v":0},0]
[null,null,null,null,null,null,null,null,null,null,null,null,null,null,null,null,null,null,null,null,null,null,null,null,null,null,null,null,null,null,null,null,null,null,null,null,null,null,null,null,null,null,null,null,null,null,null,null,null,null,0,"","",{"$f":"IFERROR(VLOOKUP(AY120,'EmpGenInfo(ESS1P)'!$A$6:$AC$390,3,FALSE),0)","v":0},{"$f":"IFERROR(VLOOKUP(AY120,'EmpGenInfo(ESS1P)'!$A$6:$AC$390,12,FALSE),0)","v":0},0]
[null,null,null,null,null,null,null,null,null,null,null,null,null,null,null,null,null,null,null,null,null,null,null,null,null,null,null,null,null,null,null,null,null,null,null,null,null,null,null,null,null,null,null,null,null,null,null,null,null,null,0,"","",{"$f":"IFERROR(VLOOKUP(AY121,'EmpGenInfo(ESS1P)'!$A$6:$AC$390,3,FALSE),0)","v":0},{"$f":"IFERROR(VLOOKUP(AY121,'EmpGenInfo(ESS1P)'!$A$6:$AC$390,12,FALSE),0)","v":0},0]
[null,null,null,null,null,null,null,null,null,null,null,null,null,null,null,null,null,null,null,null,null,null,null,null,null,null,null,null,null,null,null,null,null,null,null,null,null,null,null,null,null,null,null,null,null,null,null,null,null,null,0,"","",{"$f":"IFERROR(VLOOKUP(AY122,'EmpGenInfo(ESS1P)'!$A$6:$AC$390,3,FALSE),0)","v":0},{"$f":"IFERROR(VLOOKUP(AY122,'EmpGenInfo(ESS1P)'!$A$6:$AC$390,12,FALSE),0)","v":0},0]
[null,null,null,null,null,null,null,null,null,null,null,null,null,null,null,null,null,null,null,null,null,null,null,null,null,null,null,null,null,null,null,null,null,null,null,null,null,null,null,null,null,null,null,null,null,null,null,null,null,null,0,"","",{"$f":"IFERROR(VLOOKUP(AY123,'EmpGenInfo(ESS1P)'!$A$6:$AC$390,3,FALSE),0)","v":0},{"$f":"IFERROR(VLOOKUP(AY123,'EmpGenInfo(ESS1P)'!$A$6:$AC$390,12,FALSE),0)","v":0},0]
[null,null,null,null,null,null,null,null,null,null,null,null,null,null,null,null,null,null,null,null,null,null,null,null,null,null,null,null,null,null,null,null,null,null,null,null,null,null,null,null,null,null,null,null,null,null,null,null,null,null,0,"","",{"$f":"IFERROR(VLOOKUP(AY124,'EmpGenInfo(ESS1P)'!$A$6:$AC$390,3,FALSE),0)","v":0},{"$f":"IFERROR(VLOOKUP(AY124,'EmpGenInfo(ESS1P)'!$A$6:$AC$390,12,FALSE),0)","v":0},0]
[null,null,null,null,null,null,null,null,null,null,null,null,null,null,null,null,null,null,null,null,null,null,null,null,null,null,null,null,null,null,null,null,null,null,null,null,null,null,null,null,null,null,null,null,null,null,null,null,null,null,0,"","",{"$f":"IFERROR(VLOOKUP(AY125,'EmpGenInfo(ESS1P)'!$A$6:$AC$390,3,FALSE),0)","v":0},{"$f":"IFERROR(VLOOKUP(AY125,'EmpGenInfo(ESS1P)'!$A$6:$AC$390,12,FALSE),0)","v":0},0]
[null,null,null,null,null,null,null,null,null,null,null,null,null,null,null,null,null,null,null,null,null,null,null,null,null,null,null,null,null,null,null,null,null,null,null,null,null,null,null,null,null,null,null,null,null,null,null,null,null,null,0,"","",{"$f":"IFERROR(VLOOKUP(AY126,'EmpGenInfo(ESS1P)'!$A$6:$AC$390,3,FALSE),0)","v":0},{"$f":"IFERROR(VLOOKUP(AY126,'EmpGenInfo(ESS1P)'!$A$6:$AC$390,12,FALSE),0)","v":0},0]
[null,null,null,null,null,null,null,null,null,null,null,null,null,null,null,null,null,null,null,null,null,null,null,null,null,null,null,null,null,null,null,null,null,null,null,null,null,null,null,null,null,null,null,null,null,null,null,null,null,null,0,"","",{"$f":"IFERROR(VLOOKUP(AY127,'EmpGenInfo(ESS1P)'!$A$6:$AC$390,3,FALSE),0)","v":0},{"$f":"IFERROR(VLOOKUP(AY127,'EmpGenInfo(ESS1P)'!$A$6:$AC$390,12,FALSE),0)","v":0},0]
[null,null,null,null,null,null,null,null,null,null,null,null,null,null,null,null,null,null,null,null,null,null,null,null,null,null,null,null,null,null,null,null,null,null,null,null,null,null,null,null,null,null,null,null,null,null,null,null,null,null,0,"","",{"$f":"IFERROR(VLOOKUP(AY128,'EmpGenInfo(ESS1P)'!$A$6:$AC$390,3,FALSE),0)","v":0},{"$f":"IFERROR(VLOOKUP(AY128,'EmpGenInfo(ESS1P)'!$A$6:$AC$390,12,FALSE),0)","v":0},0]
[null,null,null,null,null,null,null,null,null,null,null,null,null,null,null,null,null,null,null,null,null,null,null,null,null,null,null,null,null,null,null,null,null,null,null,null,null,null,null,null,null,null,null,null,null,null,null,null,null,null,0,"","",{"$f":"IFERROR(VLOOKUP(AY129,'EmpGenInfo(ESS1P)'!$A$6:$AC$390,3,FALSE),0)","v":0},{"$f":"IFERROR(VLOOKUP(AY129,'EmpGenInfo(ESS1P)'!$A$6:$AC$390,12,FALSE),0)","v":0},0]
[null,null,null,null,null,null,null,null,null,null,null,null,null,null,null,null,null,null,null,null,null,null,null,null,null,null,null,null,null,null,null,null,null,null,null,null,null,null,null,null,null,null,null,null,null,null,null,null,null,null,0,"","",{"$f":"IFERROR(VLOOKUP(AY130,'EmpGenInfo(ESS1P)'!$A$6:$AC$390,3,FALSE),0)","v":0},{"$f":"IFERROR(VLOOKUP(AY130,'EmpGenInfo(ESS1P)'!$A$6:$AC$390,12,FALSE),0)","v":0},0]
[null,null,null,null,null,null,null,null,null,null,null,null,null,null,null,null,null,null,null,null,null,null,null,null,null,null,null,null,null,null,null,null,null,null,null,null,null,null,null,null,null,null,null,null,null,null,null,null,null,null,0,"","",{"$f":"IFERROR(VLOOKUP(AY131,'EmpGenInfo(ESS1P)'!$A$6:$AC$390,3,FALSE),0)","v":0},{"$f":"IFERROR(VLOOKUP(AY131,'EmpGenInfo(ESS1P)'!$A$6:$AC$390,12,FALSE),0)","v":0},0]
[null,null,null,null,null,null,null,null,null,null,null,null,null,null,null,null,null,null,null,null,null,null,null,null,null,null,null,null,null,null,null,null,null,null,null,null,null,null,null,null,null,null,null,null,null,null,null,null,null,null,0,"","",{"$f":"IFERROR(VLOOKUP(AY132,'EmpGenInfo(ESS1P)'!$A$6:$AC$390,3,FALSE),0)","v":0},{"$f":"IFERROR(VLOOKUP(AY132,'EmpGenInfo(ESS1P)'!$A$6:$AC$390,12,FALSE),0)","v":0},0]
[null,null,null,null,null,null,null,null,null,null,null,null,null,null,null,null,null,null,null,null,null,null,null,null,null,null,null,null,null,null,null,null,null,null,null,null,null,null,null,null,null,null,null,null,null,null,null,null,null,null,0,"","",{"$f":"IFERROR(VLOOKUP(AY133,'EmpGenInfo(ESS1P)'!$A$6:$AC$390,3,FALSE),0)","v":0},{"$f":"IFERROR(VLOOKUP(AY133,'EmpGenInfo(ESS1P)'!$A$6:$AC$390,12,FALSE),0)","v":0},0]
[null,null,null,null,null,null,null,null,null,null,null,null,null,null,null,null,null,null,null,null,null,null,null,null,null,null,null,null,null,null,null,null,null,null,null,null,null,null,null,null,null,null,null,null,null,null,null,null,null,null,0,"","",{"$f":"IFERROR(VLOOKUP(AY134,'EmpGenInfo(ESS1P)'!$A$6:$AC$390,3,FALSE),0)","v":0},{"$f":"IFERROR(VLOOKUP(AY134,'EmpGenInfo(ESS1P)'!$A$6:$AC$390,12,FALSE),0)","v":0},0]
[null,null,null,null,null,null,null,null,null,null,null,null,null,null,null,null,null,null,null,null,null,null,null,null,null,null,null,null,null,null,null,null,null,null,null,null,null,null,null,null,null,null,null,null,null,null,null,null,null,null,0,"","",{"$f":"IFERROR(VLOOKUP(AY135,'EmpGenInfo(ESS1P)'!$A$6:$AC$390,3,FALSE),0)","v":0},{"$f":"IFERROR(VLOOKUP(AY135,'EmpGenInfo(ESS1P)'!$A$6:$AC$390,12,FALSE),0)","v":0},0]
[null,null,null,null,null,null,null,null,null,null,null,null,null,null,null,null,null,null,null,null,null,null,null,null,null,null,null,null,null,null,null,null,null,null,null,null,null,null,null,null,null,null,null,null,null,null,null,null,null,null,{"$f":"S136","v":0},"","",{"$f":"IFERROR(VLOOKUP(AY136,'EmpGenInfo(ESS1P)'!$A$6:$AC$390,3,FALSE),0)","v":0},{"$f":"IFERROR(VLOOKUP(AY136,'EmpGenInfo(ESS1P)'!$A$6:$AC$390,12,FALSE),0)","v":0},{"$f":"AP136*100/15","v":0}]
[null,null,null,null,null,null,null,null,null,null,null,null,null,null,null,null,null,null,null,null,null,null,null,null,null,null,null,null,null,null,null,null,null,null,null,null,null,null,null,null,null,null,null,null,null,null,null,null,null,null,0,"","",{"$f":"IFERROR(VLOOKUP(AY137,'EmpGenInfo(ESS1P)'!$A$6:$AC$390,3,FALSE),0)","v":0},{"$f":"IFERROR(VLOOKUP(AY137,'EmpGenInfo(ESS1P)'!$A$6:$AC$390,12,FALSE),0)","v":0},0]
[null,null,null,null,null,null,null,null,null,null,null,null,null,null,null,null,null,null,null,null,null,null,null,null,null,null,null,null,null,null,null,null,null,null,null,null,null,null,null,null,null,null,null,null,null,null,null,null,null,null,0,"","",{"$f":"IFERROR(VLOOKUP(AY138,'EmpGenInfo(ESS1P)'!$A$6:$AC$390,3,FALSE),0)","v":0},{"$f":"IFERROR(VLOOKUP(AY138,'EmpGenInfo(ESS1P)'!$A$6:$AC$390,12,FALSE),0)","v":0},0]
[null,null,null,null,null,null,null,null,null,null,null,null,null,null,null,null,null,null,null,null,null,null,null,null,null,null,null,null,null,null,null,null,null,null,null,null,null,null,null,null,null,null,null,null,null,null,null,null,null,null,0,"","",{"$f":"IFERROR(VLOOKUP(AY139,'EmpGenInfo(ESS1P)'!$A$6:$AC$390,3,FALSE),0)","v":0},{"$f":"IFERROR(VLOOKUP(AY139,'EmpGenInfo(ESS1P)'!$A$6:$AC$390,12,FALSE),0)","v":0},0]
[null,null,null,null,null,null,null,null,null,null,null,null,null,null,null,null,null,null,null,null,null,null,null,null,null,null,null,null,null,null,null,null,null,null,null,null,null,null,null,null,null,null,null,null,null,null,null,null,null,null,0,"","",{"$f":"IFERROR(VLOOKUP(AY140,'EmpGenInfo(ESS1P)'!$A$6:$AC$390,3,FALSE),0)","v":0},{"$f":"IFERROR(VLOOKUP(AY140,'EmpGenInfo(ESS1P)'!$A$6:$AC$390,12,FALSE),0)","v":0},0]
[null,null,null,null,null,null,null,null,null,null,null,null,null,null,null,null,null,null,null,null,null,null,null,null,null,null,null,null,null,null,null,null,null,null,null,null,null,null,null,null,null,null,null,null,null,null,null,null,null,null,0,"","",{"$f":"IFERROR(VLOOKUP(AY141,'EmpGenInfo(ESS1P)'!$A$6:$AC$390,3,FALSE),0)","v":0},{"$f":"IFERROR(VLOOKUP(AY141,'EmpGenInfo(ESS1P)'!$A$6:$AC$390,12,FALSE),0)","v":0},0]
[null,null,null,null,null,null,null,null,null,null,null,null,null,null,null,null,null,null,null,null,null,null,null,null,null,null,null,null,null,null,null,null,null,null,null,null,null,null,null,null,null,null,null,null,null,null,null,null,null,null,0,"","",{"$f":"IFERROR(VLOOKUP(AY142,'EmpGenInfo(ESS1P)'!$A$6:$AC$390,3,FALSE),0)","v":0},{"$f":"IFERROR(VLOOKUP(AY142,'EmpGenInfo(ESS1P)'!$A$6:$AC$390,12,FALSE),0)","v":0},0]
[null,null,null,null,null,null,null,null,null,null,null,null,null,null,null,null,null,null,null,null,null,null,null,null,null,null,null,null,null,null,null,null,null,null,null,null,null,null,null,null,null,null,null,null,null,null,null,null,null,null,0,"","",{"$f":"IFERROR(VLOOKUP(AY143,'EmpGenInfo(ESS1P)'!$A$6:$AC$390,3,FALSE),0)","v":0},{"$f":"IFERROR(VLOOKUP(AY143,'EmpGenInfo(ESS1P)'!$A$6:$AC$390,12,FALSE),0)","v":0},0]
[null,null,null,null,null,null,null,null,null,null,null,null,null,null,null,null,null,null,null,null,null,null,null,null,null,null,null,null,null,null,null,null,null,null,null,null,null,null,null,null,null,null,null,null,null,null,null,null,null,null,0,"","",{"$f":"IFERROR(VLOOKUP(AY144,'EmpGenInfo(ESS1P)'!$A$6:$AC$390,3,FALSE),0)","v":0},{"$f":"IFERROR(VLOOKUP(AY144,'EmpGenInfo(ESS1P)'!$A$6:$AC$390,12,FALSE),0)","v":0},0]
[null,null,null,null,null,null,null,null,null,null,null,null,null,null,null,null,null,null,null,null,null,null,null,null,null,null,null,null,null,null,null,null,null,null,null,null,null,null,null,null,null,null,null,null,null,null,null,null,null,null,0,{"$f":"IFERROR(RIGHT(V145,LEN(V145)-FIND(\" \",V145)),\"\")","v":""},{"$f":"IFERROR(LEFT(V145,FIND(\" \",V145,1)-1),\"\")","v":""},{"$f":"IFERROR(VLOOKUP(AY145,'EmpGenInfo(ESS1P)'!$A$6:$AC$390,3,FALSE),0)","v":0},{"$f":"IFERROR(VLOOKUP(AY145,'EmpGenInfo(ESS1P)'!$A$6:$AC$390,12,FALSE),0)","v":0},0]
[null,null,null,null,null,null,null,null,null,null,null,null,null,null,null,null,null,null,null,null,null,null,null,null,null,null,null,null,null,null,null,null,null,null,null,null,null,null,null,null,null,null,null,null,null,null,null,null,null,null,0,"","",{"$f":"IFERROR(VLOOKUP(AY146,'EmpGenInfo(ESS1P)'!$A$6:$AC$390,3,FALSE),0)","v":0},{"$f":"IFERROR(VLOOKUP(AY146,'EmpGenInfo(ESS1P)'!$A$6:$AC$390,12,FALSE),0)","v":0},0]
[null,null,null,null,null,null,null,null,null,null,null,null,null,null,null,null,null,null,null,null,null,null,null,null,null,null,null,null,null,null,null,null,null,null,null,null,null,null,null,null,null,null,null,null,null,null,null,null,null,null,0,"","",{"$f":"IFERROR(VLOOKUP(AY147,'EmpGenInfo(ESS1P)'!$A$6:$AC$390,3,FALSE),0)","v":0},{"$f":"IFERROR(VLOOKUP(AY147,'EmpGenInfo(ESS1P)'!$A$6:$AC$390,12,FALSE),0)","v":0},0]
[null,null,null,null,null,null,null,null,null,null,null,null,null,null,null,null,null,null,null,null,null,null,null,null,null,null,null,null,null,null,null,null,null,null,null,null,null,null,null,null,null,null,null,null,null,null,null,null,null,null,0,"","",{"$f":"IFERROR(VLOOKUP(AY148,'EmpGenInfo(ESS1P)'!$A$6:$AC$390,3,FALSE),0)","v":0},{"$f":"IFERROR(VLOOKUP(AY148,'EmpGenInfo(ESS1P)'!$A$6:$AC$390,12,FALSE),0)","v":0},0]
[null,null,null,null,null,null,null,null,null,null,null,null,null,null,null,null,null,null,null,null,null,null,null,null,null,null,null,null,null,null,null,null,null,null,null,null,null,null,null,null,null,null,null,null,null,null,null,null,null,null,0,"","",{"$f":"IFERROR(VLOOKUP(AY149,'EmpGenInfo(ESS1P)'!$A$6:$AC$390,3,FALSE),0)","v":0},{"$f":"IFERROR(VLOOKUP(AY149,'EmpGenInfo(ESS1P)'!$A$6:$AC$390,12,FALSE),0)","v":0},0]
[null,null,null,null,null,null,null,null,null,null,null,null,null,null,null,null,null,null,null,null,null,null,null,null,null,null,null,null,null,null,null,null,null,null,null,null,null,null,null,null,null,null,null,null,null,null,null,null,null,null,0,"","",{"$f":"IFERROR(VLOOKUP(AY150,'EmpGenInfo(ESS1P)'!$A$6:$AC$390,3,FALSE),0)","v":0},{"$f":"IFERROR(VLOOKUP(AY150,'EmpGenInfo(ESS1P)'!$A$6:$AC$390,12,FALSE),0)","v":0},0]
[null,null,null,null,null,null,null,null,null,null,null,null,null,null,null,null,null,null,null,null,null,null,null,null,null,null,null,null,null,null,null,null,null,null,null,null,null,null,null,null,null,null,null,null,null,null,null,null,null,null,0,"","",{"$f":"IFERROR(VLOOKUP(AY151,'EmpGenInfo(ESS1P)'!$A$6:$AC$390,3,FALSE),0)","v":0},{"$f":"IFERROR(VLOOKUP(AY151,'EmpGenInfo(ESS1P)'!$A$6:$AC$390,12,FALSE),0)","v":0},0]
[null,null,null,null,null,null,null,null,null,null,null,null,null,null,null,null,null,null,null,null,null,null,null,null,null,null,null,null,null,null,null,null,null,null,null,null,null,null,null,null,null,null,null,null,null,null,null,null,null,null,0,"","",{"$f":"IFERROR(VLOOKUP(AY152,'EmpGenInfo(ESS1P)'!$A$6:$AC$390,3,FALSE),0)","v":0},{"$f":"IFERROR(VLOOKUP(AY152,'EmpGenInfo(ESS1P)'!$A$6:$AC$390,12,FALSE),0)","v":0},0]
[null,null,null,null,null,null,null,null,null,null,null,null,null,null,null,null,null,null,null,null,null,null,null,null,null,null,null,null,null,null,null,null,null,null,null,null,null,null,null,null,null,null,null,null,null,null,null,null,null,null,0,"","",{"$f":"IFERROR(VLOOKUP(AY153,'EmpGenInfo(ESS1P)'!$A$6:$AC$390,3,FALSE),0)","v":0},{"$f":"IFERROR(VLOOKUP(AY153,'EmpGenInfo(ESS1P)'!$A$6:$AC$390,12,FALSE),0)","v":0},0]
[null,null,null,null,null,null,null,null,null,null,null,null,null,null,null,null,null,null,null,null,null,null,null,null,null,null,null,null,null,null,null,null,null,null,null,null,null,null,null,null,null,null,null,null,null,null,null,null,null,null,0,"","",{"$f":"IFERROR(VLOOKUP(AY154,'EmpGenInfo(ESS1P)'!$A$6:$AC$390,3,FALSE),0)","v":0},{"$f":"IFERROR(VLOOKUP(AY154,'EmpGenInfo(ESS1P)'!$A$6:$AC$390,12,FALSE),0)","v":0},0]
[null,null,null,null,null,null,null,null,null,null,null,null,null,null,null,null,null,null,null,null,null,null,null,null,null,null,null,null,null,null,null,null,null,null,null,null,null,null,null,null,null,null,null,null,null,null,null,null,null,null,0,"","",{"$f":"IFERROR(VLOOKUP(AY155,'EmpGenInfo(ESS1P)'!$A$6:$AC$390,3,FALSE),0)","v":0},{"$f":"IFERROR(VLOOKUP(AY155,'EmpGenInfo(ESS1P)'!$A$6:$AC$390,12,FALSE),0)","v":0},0]
[null,null,null,null,null,null,null,null,null,null,null,null,null,null,null,null,null,null,null,null,null,null,null,null,null,null,null,null,null,null,null,null,null,null,null,null,null,null,null,null,null,null,null,null,null,null,null,null,null,null,0,"","",{"$f":"IFERROR(VLOOKUP(AY156,'EmpGenInfo(ESS1P)'!$A$6:$AC$390,3,FALSE),0)","v":0},{"$f":"IFERROR(VLOOKUP(AY156,'EmpGenInfo(ESS1P)'!$A$6:$AC$390,12,FALSE),0)","v":0},0]
[null,null,null,null,null,null,null,null,null,null,null,null,null,null,null,null,null,null,null,null,null,null,null,null,null,null,null,null,null,null,null,null,null,null,null,null,null,null,null,null,null,null,null,null,null,null,null,null,null,null,0,"","",{"$f":"IFERROR(VLOOKUP(AY157,'EmpGenInfo(ESS1P)'!$A$6:$AC$390,3,FALSE),0)","v":0},{"$f":"IFERROR(VLOOKUP(AY157,'EmpGenInfo(ESS1P)'!$A$6:$AC$390,12,FALSE),0)","v":0},0]
[null,null,null,null,null,null,null,null,null,null,null,null,null,null,null,null,null,null,null,null,null,null,null,null,null,null,null,null,null,null,null,null,null,null,null,null,null,null,null,null,null,null,null,null,null,null,null,null,null,null,0,"","",{"$f":"IFERROR(VLOOKUP(AY158,'EmpGenInfo(ESS1P)'!$A$6:$AC$390,3,FALSE),0)","v":0},{"$f":"IFERROR(VLOOKUP(AY158,'EmpGenInfo(ESS1P)'!$A$6:$AC$390,12,FALSE),0)","v":0},0]
[null,null,null,null,null,null,null,null,null,null,null,null,null,null,null,null,null,null,null,null,null,null,null,null,null,null,null,null,null,null,null,null,null,null,null,null,null,null,null,null,null,null,null,null,null,null,null,null,null,null,0,"","",{"$f":"IFERROR(VLOOKUP(AY159,'EmpGenInfo(ESS1P)'!$A$6:$AC$390,3,FALSE),0)","v":0},{"$f":"IFERROR(VLOOKUP(AY159,'EmpGenInfo(ESS1P)'!$A$6:$AC$390,12,FALSE),0)","v":0},0]
[null,null,null,null,null,null,null,null,null,null,null,null,null,null,null,null,null,null,null,null,null,null,null,null,null,null,null,null,null,null,null,null,null,null,null,null,null,null,null,null,null,null,null,null,null,null,null,null,null,null,0,"","",{"$f":"IFERROR(VLOOKUP(AY160,'EmpGenInfo(ESS1P)'!$A$6:$AC$390,3,FALSE),0)","v":0},{"$f":"IFERROR(VLOOKUP(AY160,'EmpGenInfo(ESS1P)'!$A$6:$AC$390,12,FALSE),0)","v":0},0]
[null,null,null,null,null,null,null,null,null,null,null,null,null,null,null,null,null,null,null,null,null,null,null,null,null,null,null,null,null,null,null,null,null,null,null,null,null,null,null,null,null,null,null,null,null,null,null,null,null,null,0,"","",{"$f":"IFERROR(VLOOKUP(AY161,'EmpGenInfo(ESS1P)'!$A$6:$AC$390,3,FALSE),0)","v":0},{"$f":"IFERROR(VLOOKUP(AY161,'EmpGenInfo(ESS1P)'!$A$6:$AC$390,12,FALSE),0)","v":0},0]
[null,null,null,null,null,null,null,null,null,null,null,null,null,null,null,null,null,null,null,null,null,null,null,null,null,null,null,null,null,null,null,null,null,null,null,null,null,null,null,null,null,null,null,null,null,null,null,null,null,null,0,"","",{"$f":"IFERROR(VLOOKUP(AY162,'EmpGenInfo(ESS1P)'!$A$6:$AC$390,3,FALSE),0)","v":0},{"$f":"IFERROR(VLOOKUP(AY162,'EmpGenInfo(ESS1P)'!$A$6:$AC$390,12,FALSE),0)","v":0},0]
[null,null,null,null,null,null,null,null,null,null,null,null,null,null,null,null,null,null,null,null,null,null,null,null,null,null,null,null,null,null,null,null,null,null,null,null,null,null,null,null,null,null,null,null,null,null,null,null,null,null,0,"","",{"$f":"IFERROR(VLOOKUP(AY163,'EmpGenInfo(ESS1P)'!$A$6:$AC$390,3,FALSE),0)","v":0},{"$f":"IFERROR(VLOOKUP(AY163,'EmpGenInfo(ESS1P)'!$A$6:$AC$390,12,FALSE),0)","v":0},0]
[null,null,null,null,null,null,null,null,null,null,null,null,null,null,null,null,null,null,null,null,null,null,null,null,null,null,null,null,null,null,null,null,null,null,null,null,null,null,null,null,null,null,null,null,null,null,null,null,null,null,0,"","",{"$f":"IFERROR(VLOOKUP(AY164,'EmpGenInfo(ESS1P)'!$A$6:$AC$390,3,FALSE),0)","v":0},{"$f":"IFERROR(VLOOKUP(AY164,'EmpGenInfo(ESS1P)'!$A$6:$AC$390,12,FALSE),0)","v":0},0]
[null,null,null,null,null,null,null,null,null,null,null,null,null,null,null,null,null,null,null,null,null,null,null,null,null,null,null,null,null,null,null,null,null,null,null,null,null,null,null,null,null,null,null,null,null,null,null,null,null,null,0,"","",{"$f":"IFERROR(VLOOKUP(AY165,'EmpGenInfo(ESS1P)'!$A$6:$AC$390,3,FALSE),0)","v":0},{"$f":"IFERROR(VLOOKUP(AY165,'EmpGenInfo(ESS1P)'!$A$6:$AC$390,12,FALSE),0)","v":0},0]
[null,null,null,null,null,null,null,null,null,null,null,null,null,null,null,null,null,null,null,null,null,null,null,null,null,null,null,null,null,null,null,null,null,null,null,null,null,null,null,null,null,null,null,null,null,null,null,null,null,null,0,"","",{"$f":"IFERROR(VLOOKUP(AY166,'EmpGenInfo(ESS1P)'!$A$6:$AC$390,3,FALSE),0)","v":0},{"$f":"IFERROR(VLOOKUP(AY166,'EmpGenInfo(ESS1P)'!$A$6:$AC$390,12,FALSE),0)","v":0},0]
[null,null,null,null,null,null,null,null,null,null,null,null,null,null,null,null,null,null,null,null,null,null,null,null,null,null,null,null,null,null,null,null,null,null,null,null,null,null,null,null,null,null,null,null,null,null,null,null,null,null,0,"","",{"$f":"IFERROR(VLOOKUP(AY167,'EmpGenInfo(ESS1P)'!$A$6:$AC$390,3,FALSE),0)","v":0},{"$f":"IFERROR(VLOOKUP(AY167,'EmpGenInfo(ESS1P)'!$A$6:$AC$390,12,FALSE),0)","v":0},0]
[null,null,null,null,null,null,null,null,null,null,null,null,null,null,null,null,null,null,null,null,null,null,null,null,null,null,null,null,null,null,null,null,null,null,null,null,null,null,null,null,null,null,null,null,null,null,null,null,null,null,0,"","",{"$f":"IFERROR(VLOOKUP(AY168,'EmpGenInfo(ESS1P)'!$A$6:$AC$390,3,FALSE),0)","v":0},{"$f":"IFERROR(VLOOKUP(AY168,'EmpGenInfo(ESS1P)'!$A$6:$AC$390,12,FALSE),0)","v":0},0]
[null,null,null,null,null,null,null,null,null,null,null,null,null,null,null,null,null,null,null,null,null,null,null,null,null,null,null,null,null,null,null,null,null,null,null,null,null,null,null,null,null,null,null,null,null,null,null,null,null,null,0,"","",{"$f":"IFERROR(VLOOKUP(AY169,'EmpGenInfo(ESS1P)'!$A$6:$AC$390,3,FALSE),0)","v":0},{"$f":"IFERROR(VLOOKUP(AY169,'EmpGenInfo(ESS1P)'!$A$6:$AC$390,12,FALSE),0)","v":0},0]
[null,null,null,null,null,null,null,null,null,null,null,null,null,null,null,null,null,null,null,null,null,null,null,null,null,null,null,null,null,null,null,null,null,null,null,null,null,null,null,null,null,null,null,null,null,null,null,null,null,null,0,"","",{"$f":"IFERROR(VLOOKUP(AY170,'EmpGenInfo(ESS1P)'!$A$6:$AC$390,3,FALSE),0)","v":0},{"$f":"IFERROR(VLOOKUP(AY170,'EmpGenInfo(ESS1P)'!$A$6:$AC$390,12,FALSE),0)","v":0},0]
[null,null,null,null,null,null,null,null,null,null,null,null,null,null,null,null,null,null,null,null,null,null,null,null,null,null,null,null,null,null,null,null,null,null,null,null,null,null,null,null,null,null,null,null,null,null,null,null,null,null,0,"","",{"$f":"IFERROR(VLOOKUP(AY171,'EmpGenInfo(ESS1P)'!$A$6:$AC$390,3,FALSE),0)","v":0},{"$f":"IFERROR(VLOOKUP(AY171,'EmpGenInfo(ESS1P)'!$A$6:$AC$390,12,FALSE),0)","v":0},0]
[null,null,null,null,null,null,null,null,null,null,null,null,null,null,null,null,null,null,null,null,null,null,null,null,null,null,null,null,null,null,null,null,null,null,null,null,null,null,null,null,null,null,null,null,null,null,null,null,null,null,0,"","",{"$f":"IFERROR(VLOOKUP(AY172,'EmpGenInfo(ESS1P)'!$A$6:$AC$390,3,FALSE),0)","v":0},{"$f":"IFERROR(VLOOKUP(AY172,'EmpGenInfo(ESS1P)'!$A$6:$AC$390,12,FALSE),0)","v":0},0]
[null,null,null,null,null,null,null,null,null,null,null,null,null,null,null,null,null,null,null,null,null,null,null,null,null,null,null,null,null,null,null,null,null,null,null,null,null,null,null,null,null,null,null,null,null,null,null,null,null,null,0,"","",{"$f":"IFERROR(VLOOKUP(AY173,'EmpGenInfo(ESS1P)'!$A$6:$AC$390,3,FALSE),0)","v":0},{"$f":"IFERROR(VLOOKUP(AY173,'EmpGenInfo(ESS1P)'!$A$6:$AC$390,12,FALSE),0)","v":0},0]
[null,null,null,null,null,null,null,null,null,null,null,null,null,null,null,null,null,null,null,null,null,null,null,null,null,null,null,null,null,null,null,null,null,null,null,null,null,null,null,null,null,null,null,null,null,null,null,null,null,null,0,"","",{"$f":"IFERROR(VLOOKUP(AY174,'EmpGenInfo(ESS1P)'!$A$6:$AC$390,3,FALSE),0)","v":0},{"$f":"IFERROR(VLOOKUP(AY174,'EmpGenInfo(ESS1P)'!$A$6:$AC$390,12,FALSE),0)","v":0},0]
[null,null,null,null,null,null,null,null,null,null,null,null,null,null,null,null,null,null,null,null,null,null,null,null,null,null,null,null,null,null,null,null,null,null,null,null,null,null,null,null,null,null,null,null,null,null,null,null,null,null,0,"","",{"$f":"IFERROR(VLOOKUP(AY175,'EmpGenInfo(ESS1P)'!$A$6:$AC$390,3,FALSE),0)","v":0},{"$f":"IFERROR(VLOOKUP(AY175,'EmpGenInfo(ESS1P)'!$A$6:$AC$390,12,FALSE),0)","v":0},0]
[null,null,null,null,null,null,null,null,null,null,null,null,null,null,null,null,null,null,null,null,null,null,null,null,null,null,null,null,null,null,null,null,null,null,null,null,null,null,null,null,null,null,null,null,null,null,null,null,null,null,0,"","",{"$f":"IFERROR(VLOOKUP(AY176,'EmpGenInfo(ESS1P)'!$A$6:$AC$390,3,FALSE),0)","v":0},{"$f":"IFERROR(VLOOKUP(AY176,'EmpGenInfo(ESS1P)'!$A$6:$AC$390,12,FALSE),0)","v":0},0]
[null,null,null,null,null,null,null,null,null,null,null,null,null,null,null,null,null,null,null,null,null,null,null,null,null,null,null,null,null,null,null,null,null,null,null,null,null,null,null,null,null,null,null,null,null,null,null,null,null,null,0,"","",{"$f":"IFERROR(VLOOKUP(AY177,'EmpGenInfo(ESS1P)'!$A$6:$AC$390,3,FALSE),0)","v":0},{"$f":"IFERROR(VLOOKUP(AY177,'EmpGenInfo(ESS1P)'!$A$6:$AC$390,12,FALSE),0)","v":0},0]
[null,null,null,null,null,null,null,null,null,null,null,null,null,null,null,null,null,null,null,null,null,null,null,null,null,null,null,null,null,null,null,null,null,null,null,null,null,null,null,null,null,null,null,null,null,null,null,null,null,null,0,"","",{"$f":"IFERROR(VLOOKUP(AY178,'EmpGenInfo(ESS1P)'!$A$6:$AC$390,3,FALSE),0)","v":0},{"$f":"IFERROR(VLOOKUP(AY178,'EmpGenInfo(ESS1P)'!$A$6:$AC$390,12,FALSE),0)","v":0},0]
[null,null,null,null,null,null,null,null,null,null,null,null,null,null,null,null,null,null,null,null,null,null,null,null,null,null,null,null,null,null,null,null,null,null,null,null,null,null,null,null,null,null,null,null,null,null,null,null,null,null,0,"","",{"$f":"IFERROR(VLOOKUP(AY179,'EmpGenInfo(ESS1P)'!$A$6:$AC$390,3,FALSE),0)","v":0},{"$f":"IFERROR(VLOOKUP(AY179,'EmpGenInfo(ESS1P)'!$A$6:$AC$390,12,FALSE),0)","v":0},0]
[null,null,null,null,null,null,null,null,null,null,null,null,null,null,null,null,null,null,null,null,null,null,null,null,null,null,null,null,null,null,null,null,null,null,null,null,null,null,null,null,null,null,null,null,null,null,null,null,null,null,0,"","",{"$f":"IFERROR(VLOOKUP(AY180,'EmpGenInfo(ESS1P)'!$A$6:$AC$390,3,FALSE),0)","v":0},{"$f":"IFERROR(VLOOKUP(AY180,'EmpGenInfo(ESS1P)'!$A$6:$AC$390,12,FALSE),0)","v":0},0]
[null,null,null,null,null,null,null,null,null,null,null,null,null,null,null,null,null,null,null,null,null,null,null,null,null,null,null,null,null,null,null,null,null,null,null,null,null,null,null,null,null,null,null,null,null,null,null,null,null,null,0,"","",{"$f":"IFERROR(VLOOKUP(AY181,'EmpGenInfo(ESS1P)'!$A$6:$AC$390,3,FALSE),0)","v":0},{"$f":"IFERROR(VLOOKUP(AY181,'EmpGenInfo(ESS1P)'!$A$6:$AC$390,12,FALSE),0)","v":0},0]
[null,null,null,null,null,null,null,null,null,null,null,null,null,null,null,null,null,null,null,null,null,null,null,null,null,null,null,null,null,null,null,null,null,null,null,null,null,null,null,null,null,null,null,null,null,null,null,null,null,null,0,"","",{"$f":"IFERROR(VLOOKUP(AY182,'EmpGenInfo(ESS1P)'!$A$6:$AC$390,3,FALSE),0)","v":0},{"$f":"IFERROR(VLOOKUP(AY182,'EmpGenInfo(ESS1P)'!$A$6:$AC$390,12,FALSE),0)","v":0},0]
[null,null,null,null,null,null,null,null,null,null,null,null,null,null,null,null,null,null,null,null,null,null,null,null,null,null,null,null,null,null,null,null,null,null,null,null,null,null,null,null,null,null,null,null,null,null,null,null,null,null,0,"","",{"$f":"IFERROR(VLOOKUP(AY183,'EmpGenInfo(ESS1P)'!$A$6:$AC$390,3,FALSE),0)","v":0},{"$f":"IFERROR(VLOOKUP(AY183,'EmpGenInfo(ESS1P)'!$A$6:$AC$390,12,FALSE),0)","v":0},0]
[null,null,null,null,null,null,null,null,null,null,null,null,null,null,null,null,null,null,null,null,null,null,null,null,null,null,null,null,null,null,null,null,null,null,null,null,null,null,null,null,null,null,null,null,null,null,null,null,null,null,0,"","",{"$f":"IFERROR(VLOOKUP(AY184,'EmpGenInfo(ESS1P)'!$A$6:$AC$390,3,FALSE),0)","v":0},{"$f":"IFERROR(VLOOKUP(AY184,'EmpGenInfo(ESS1P)'!$A$6:$AC$390,12,FALSE),0)","v":0},0]
[null,null,null,null,null,null,null,null,null,null,null,null,null,null,null,null,null,null,null,null,null,null,null,null,null,null,null,null,null,null,null,null,null,null,null,null,null,null,null,null,null,null,null,null,null,null,null,null,null,null,0,"","",{"$f":"IFERROR(VLOOKUP(AY185,'EmpGenInfo(ESS1P)'!$A$6:$AC$390,3,FALSE),0)","v":0},{"$f":"IFERROR(VLOOKUP(AY185,'EmpGenInfo(ESS1P)'!$A$6:$AC$390,12,FALSE),0)","v":0},0]
[null,null,null,null,null,null,null,null,null,null,null,null,null,null,null,null,null,null,null,null,null,null,null,null,null,null,null,null,null,null,null,null,null,null,null,null,null,null,null,null,null,null,null,null,null,null,null,null,null,null,0,"","",{"$f":"IFERROR(VLOOKUP(AY186,'EmpGenInfo(ESS1P)'!$A$6:$AC$390,3,FALSE),0)","v":0},{"$f":"IFERROR(VLOOKUP(AY186,'EmpGenInfo(ESS1P)'!$A$6:$AC$390,12,FALSE),0)","v":0},0]
[null,null,null,null,null,null,null,null,null,null,null,null,null,null,null,null,null,null,null,null,null,null,null,null,null,null,null,null,null,null,null,null,null,null,null,null,null,null,null,null,null,null,null,null,null,null,null,null,null,null,0,"","",{"$f":"IFERROR(VLOOKUP(AY187,'EmpGenInfo(ESS1P)'!$A$6:$AC$390,3,FALSE),0)","v":0},{"$f":"IFERROR(VLOOKUP(AY187,'EmpGenInfo(ESS1P)'!$A$6:$AC$390,12,FALSE),0)","v":0},0]
[null,null,null,null,null,null,null,null,null,null,null,null,null,null,null,null,null,null,null,null,null,null,null,null,null,null,null,null,null,null,null,null,null,null,null,null,null,null,null,null,null,null,null,null,null,null,null,null,null,null,0,"","",{"$f":"IFERROR(VLOOKUP(AY188,'EmpGenInfo(ESS1P)'!$A$6:$AC$390,3,FALSE),0)","v":0},{"$f":"IFERROR(VLOOKUP(AY188,'EmpGenInfo(ESS1P)'!$A$6:$AC$390,12,FALSE),0)","v":0},0]
[null,null,null,null,null,null,null,null,null,null,null,null,null,null,null,null,null,null,null,null,null,null,null,null,null,null,null,null,null,null,null,null,null,null,null,null,null,null,null,null,null,null,null,null,null,null,null,null,null,null,0,"","",{"$f":"IFERROR(VLOOKUP(AY189,'EmpGenInfo(ESS1P)'!$A$6:$AC$390,3,FALSE),0)","v":0},{"$f":"IFERROR(VLOOKUP(AY189,'EmpGenInfo(ESS1P)'!$A$6:$AC$390,12,FALSE),0)","v":0},0]
[null,null,null,null,null,null,null,null,null,null,null,null,null,null,null,null,null,null,null,null,null,null,null,null,null,null,null,null,null,null,null,null,null,null,null,null,null,null,null,null,null,null,null,null,null,null,null,null,null,null,0,"","",{"$f":"IFERROR(VLOOKUP(AY190,'EmpGenInfo(ESS1P)'!$A$6:$AC$390,3,FALSE),0)","v":0},{"$f":"IFERROR(VLOOKUP(AY190,'EmpGenInfo(ESS1P)'!$A$6:$AC$390,12,FALSE),0)","v":0},0]
[null,null,null,null,null,null,null,null,null,null,null,null,null,null,null,null,null,null,null,null,null,null,null,null,null,null,null,null,null,null,null,null,null,null,null,null,null,null,null,null,null,null,null,null,null,null,null,null,null,null,0,"","",{"$f":"IFERROR(VLOOKUP(AY191,'EmpGenInfo(ESS1P)'!$A$6:$AC$390,3,FALSE),0)","v":0},{"$f":"IFERROR(VLOOKUP(AY191,'EmpGenInfo(ESS1P)'!$A$6:$AC$390,12,FALSE),0)","v":0},0]
[null,null,null,null,null,null,null,null,null,null,null,null,null,null,null,null,null,null,null,null,null,null,null,null,null,null,null,null,null,null,null,null,null,null,null,null,null,null,null,null,null,null,null,null,null,null,null,null,null,null,0,"","",{"$f":"IFERROR(VLOOKUP(AY192,'EmpGenInfo(ESS1P)'!$A$6:$AC$390,3,FALSE),0)","v":0},{"$f":"IFERROR(VLOOKUP(AY192,'EmpGenInfo(ESS1P)'!$A$6:$AC$390,12,FALSE),0)","v":0},0]
[null,null,null,null,null,null,null,null,null,null,null,null,null,null,null,null,null,null,null,null,null,null,null,null,null,null,null,null,null,null,null,null,null,null,null,null,null,null,null,null,null,null,null,null,null,null,null,null,null,null,0,"","",{"$f":"IFERROR(VLOOKUP(AY193,'EmpGenInfo(ESS1P)'!$A$6:$AC$390,3,FALSE),0)","v":0},{"$f":"IFERROR(VLOOKUP(AY193,'EmpGenInfo(ESS1P)'!$A$6:$AC$390,12,FALSE),0)","v":0},0]
[null,null,null,null,null,null,null,null,null,null,null,null,null,null,null,null,null,null,null,null,null,null,null,null,null,null,null,null,null,null,null,null,null,null,null,null,null,null,null,null,null,null,null,null,null,null,null,null,null,null,0,"","",{"$f":"IFERROR(VLOOKUP(AY194,'EmpGenInfo(ESS1P)'!$A$6:$AC$390,3,FALSE),0)","v":0},{"$f":"IFERROR(VLOOKUP(AY194,'EmpGenInfo(ESS1P)'!$A$6:$AC$390,12,FALSE),0)","v":0},0]
[null,null,null,null,null,null,null,null,null,null,null,null,null,null,null,null,null,null,null,null,null,null,null,null,null,null,null,null,null,null,null,null,null,null,null,null,null,null,null,null,null,null,null,null,null,null,null,null,null,null,0,"","",{"$f":"IFERROR(VLOOKUP(AY195,'EmpGenInfo(ESS1P)'!$A$6:$AC$390,3,FALSE),0)","v":0},{"$f":"IFERROR(VLOOKUP(AY195,'EmpGenInfo(ESS1P)'!$A$6:$AC$390,12,FALSE),0)","v":0},0]
[null,null,null,null,null,null,null,null,null,null,null,null,null,null,null,null,null,null,null,null,null,null,null,null,null,null,null,null,null,null,null,null,null,null,null,null,null,null,null,null,null,null,null,null,null,null,null,null,null,null,0,"","",{"$f":"IFERROR(VLOOKUP(AY196,'EmpGenInfo(ESS1P)'!$A$6:$AC$390,3,FALSE),0)","v":0},{"$f":"IFERROR(VLOOKUP(AY196,'EmpGenInfo(ESS1P)'!$A$6:$AC$390,12,FALSE),0)","v":0},0]
[null,null,null,null,null,null,null,null,null,null,null,null,null,null,null,null,null,null,null,null,null,null,null,null,null,null,null,null,null,null,null,null,null,null,null,null,null,null,null,null,null,null,null,null,null,null,null,null,null,null,0,"","",{"$f":"IFERROR(VLOOKUP(AY197,'EmpGenInfo(ESS1P)'!$A$6:$AC$390,3,FALSE),0)","v":0},{"$f":"IFERROR(VLOOKUP(AY197,'EmpGenInfo(ESS1P)'!$A$6:$AC$390,12,FALSE),0)","v":0},0]
[null,null,null,null,null,null,null,null,null,null,null,null,null,null,null,null,null,null,null,null,null,null,null,null,null,null,null,null,null,null,null,null,null,null,null,null,null,null,null,null,null,null,null,null,null,null,null,null,null,null,0,"","",{"$f":"IFERROR(VLOOKUP(AY198,'EmpGenInfo(ESS1P)'!$A$6:$AC$390,3,FALSE),0)","v":0},{"$f":"IFERROR(VLOOKUP(AY198,'EmpGenInfo(ESS1P)'!$A$6:$AC$390,12,FALSE),0)","v":0},0]
[null,null,null,null,null,null,null,null,null,null,null,null,null,null,null,null,null,null,null,null,null,null,null,null,null,null,null,null,null,null,null,null,null,null,null,null,null,null,null,null,null,null,null,null,null,null,null,null,null,null,0,"","",{"$f":"IFERROR(VLOOKUP(AY199,'EmpGenInfo(ESS1P)'!$A$6:$AC$390,3,FALSE),0)","v":0},{"$f":"IFERROR(VLOOKUP(AY199,'EmpGenInfo(ESS1P)'!$A$6:$AC$390,12,FALSE),0)","v":0},0]
[null,null,null,null,null,null,null,null,null,null,null,null,null,null,null,null,null,null,null,null,null,null,null,null,null,null,null,null,null,null,null,null,null,null,null,null,null,null,null,null,null,null,null,null,null,null,null,null,null,null,{"$f":"S200","v":0},"","",{"$f":"IFERROR(VLOOKUP(AY200,'EmpGenInfo(ESS1P)'!$A$6:$AC$390,3,FALSE),0)","v":0},{"$f":"IFERROR(VLOOKUP(AY200,'EmpGenInfo(ESS1P)'!$A$6:$AC$390,12,FALSE),0)","v":0},{"$f":"AP200*100/15","v":0}]
[null,null,null,null,null,null,null,null,null,null,null,null,null,null,null,null,null,null,null,null,null,null,null,null,null,null,null,null,null,null,null,null,null,null,null,null,null,null,null,null,null,null,null,null,null,null,null,null,null,null,0,"","",{"$f":"IFERROR(VLOOKUP(AY201,'EmpGenInfo(ESS1P)'!$A$6:$AC$390,3,FALSE),0)","v":0},{"$f":"IFERROR(VLOOKUP(AY201,'EmpGenInfo(ESS1P)'!$A$6:$AC$390,12,FALSE),0)","v":0},0]
[null,null,null,null,null,null,null,null,null,null,null,null,null,null,null,null,null,null,null,null,null,null,null,null,null,null,null,null,null,null,null,null,null,null,null,null,null,null,null,null,null,null,null,null,null,null,null,null,null,null,0,"","",{"$f":"IFERROR(VLOOKUP(AY202,'EmpGenInfo(ESS1P)'!$A$6:$AC$390,3,FALSE),0)","v":0},{"$f":"IFERROR(VLOOKUP(AY202,'EmpGenInfo(ESS1P)'!$A$6:$AC$390,12,FALSE),0)","v":0},0]
[null,null,null,null,null,null,null,null,null,null,null,null,null,null,null,null,null,null,null,null,null,null,null,null,null,null,null,null,null,null,null,null,null,null,null,null,null,null,null,null,null,null,null,null,null,null,null,null,null,null,0,"","",{"$f":"IFERROR(VLOOKUP(AY203,'EmpGenInfo(ESS1P)'!$A$6:$AC$390,3,FALSE),0)","v":0},{"$f":"IFERROR(VLOOKUP(AY203,'EmpGenInfo(ESS1P)'!$A$6:$AC$390,12,FALSE),0)","v":0},0]
[null,null,null,null,null,null,null,null,null,null,null,null,null,null,null,null,null,null,null,null,null,null,null,null,null,null,null,null,null,null,null,null,null,null,null,null,null,null,null,null,null,null,null,null,null,null,null,null,null,null,0,"","",{"$f":"IFERROR(VLOOKUP(AY204,'EmpGenInfo(ESS1P)'!$A$6:$AC$390,3,FALSE),0)","v":0},{"$f":"IFERROR(VLOOKUP(AY204,'EmpGenInfo(ESS1P)'!$A$6:$AC$390,12,FALSE),0)","v":0},0]
[null,null,null,null,null,null,null,null,null,null,null,null,null,null,null,null,null,null,null,null,null,null,null,null,null,null,null,null,null,null,null,null,null,null,null,null,null,null,null,null,null,null,null,null,null,null,null,null,null,null,0,"","",{"$f":"IFERROR(VLOOKUP(AY205,'EmpGenInfo(ESS1P)'!$A$6:$AC$390,3,FALSE),0)","v":0},{"$f":"IFERROR(VLOOKUP(AY205,'EmpGenInfo(ESS1P)'!$A$6:$AC$390,12,FALSE),0)","v":0},0]
[null,null,null,null,null,null,null,null,null,null,null,null,null,null,null,null,null,null,null,null,null,null,null,null,null,null,null,null,null,null,null,null,null,null,null,null,null,null,null,null,null,null,null,null,null,null,null,null,null,null,0,"","",{"$f":"IFERROR(VLOOKUP(AY206,'EmpGenInfo(ESS1P)'!$A$6:$AC$390,3,FALSE),0)","v":0},{"$f":"IFERROR(VLOOKUP(AY206,'EmpGenInfo(ESS1P)'!$A$6:$AC$390,12,FALSE),0)","v":0},0]
[null,null,null,null,null,null,null,null,null,null,null,null,null,null,null,null,null,null,null,null,null,null,null,null,null,null,null,null,null,null,null,null,null,null,null,null,null,null,null,null,null,null,null,null,null,null,null,null,null,null,0,"","",{"$f":"IFERROR(VLOOKUP(AY207,'EmpGenInfo(ESS1P)'!$A$6:$AC$390,3,FALSE),0)","v":0},{"$f":"IFERROR(VLOOKUP(AY207,'EmpGenInfo(ESS1P)'!$A$6:$AC$390,12,FALSE),0)","v":0},0]
[null,null,null,null,null,null,null,null,null,null,null,null,null,null,null,null,null,null,null,null,null,null,null,null,null,null,null,null,null,null,null,null,null,null,null,null,null,null,null,null,null,null,null,null,null,null,null,null,null,null,0,"","",{"$f":"IFERROR(VLOOKUP(AY208,'EmpGenInfo(ESS1P)'!$A$6:$AC$390,3,FALSE),0)","v":0},{"$f":"IFERROR(VLOOKUP(AY208,'EmpGenInfo(ESS1P)'!$A$6:$AC$390,12,FALSE),0)","v":0},0]
[null,null,null,null,null,null,null,null,null,null,null,null,null,null,null,null,null,null,null,null,null,null,null,null,null,null,null,null,null,null,null,null,null,null,null,null,null,null,null,null,null,null,null,null,null,null,null,null,null,null,0,{"$f":"IFERROR(RIGHT(V209,LEN(V209)-FIND(\" \",V209)),\"\")","v":""},{"$f":"IFERROR(LEFT(V209,FIND(\" \",V209,1)-1),\"\")","v":""},{"$f":"IFERROR(VLOOKUP(AY209,'EmpGenInfo(ESS1P)'!$A$6:$AC$390,3,FALSE),0)","v":0},{"$f":"IFERROR(VLOOKUP(AY209,'EmpGenInfo(ESS1P)'!$A$6:$AC$390,12,FALSE),0)","v":0},0]
[null,null,null,null,null,null,null,null,null,null,null,null,null,null,null,null,null,null,null,null,null,null,null,null,null,null,null,null,null,null,null,null,null,null,null,null,null,null,null,null,null,null,null,null,null,null,null,null,null,null,0,"","",{"$f":"IFERROR(VLOOKUP(AY210,'EmpGenInfo(ESS1P)'!$A$6:$AC$390,3,FALSE),0)","v":0},{"$f":"IFERROR(VLOOKUP(AY210,'EmpGenInfo(ESS1P)'!$A$6:$AC$390,12,FALSE),0)","v":0},0]
[null,null,null,null,null,null,null,null,null,null,null,null,null,null,null,null,null,null,null,null,null,null,null,null,null,null,null,null,null,null,null,null,null,null,null,null,null,null,null,null,null,null,null,null,null,null,null,null,null,null,0,"","",{"$f":"IFERROR(VLOOKUP(AY211,'EmpGenInfo(ESS1P)'!$A$6:$AC$390,3,FALSE),0)","v":0},{"$f":"IFERROR(VLOOKUP(AY211,'EmpGenInfo(ESS1P)'!$A$6:$AC$390,12,FALSE),0)","v":0},0]
[null,null,null,null,null,null,null,null,null,null,null,null,null,null,null,null,null,null,null,null,null,null,null,null,null,null,null,null,null,null,null,null,null,null,null,null,null,null,null,null,null,null,null,null,null,null,null,null,null,null,0,"","",{"$f":"IFERROR(VLOOKUP(AY212,'EmpGenInfo(ESS1P)'!$A$6:$AC$390,3,FALSE),0)","v":0},{"$f":"IFERROR(VLOOKUP(AY212,'EmpGenInfo(ESS1P)'!$A$6:$AC$390,12,FALSE),0)","v":0},0]
[null,null,null,null,null,null,null,null,null,null,null,null,null,null,null,null,null,null,null,null,null,null,null,null,null,null,null,null,null,null,null,null,null,null,null,null,null,null,null,null,null,null,null,null,null,null,null,null,null,null,0,"","",{"$f":"IFERROR(VLOOKUP(AY213,'EmpGenInfo(ESS1P)'!$A$6:$AC$390,3,FALSE),0)","v":0},{"$f":"IFERROR(VLOOKUP(AY213,'EmpGenInfo(ESS1P)'!$A$6:$AC$390,12,FALSE),0)","v":0},0]
[null,null,null,null,null,null,null,null,null,null,null,null,null,null,null,null,null,null,null,null,null,null,null,null,null,null,null,null,null,null,null,null,null,null,null,null,null,null,null,null,null,null,null,null,null,null,null,null,null,null,0,"","",{"$f":"IFERROR(VLOOKUP(AY214,'EmpGenInfo(ESS1P)'!$A$6:$AC$390,3,FALSE),0)","v":0},{"$f":"IFERROR(VLOOKUP(AY214,'EmpGenInfo(ESS1P)'!$A$6:$AC$390,12,FALSE),0)","v":0},0]
[null,null,null,null,null,null,null,null,null,null,null,null,null,null,null,null,null,null,null,null,null,null,null,null,null,null,null,null,null,null,null,null,null,null,null,null,null,null,null,null,null,null,null,null,null,null,null,null,null,null,0,"","",{"$f":"IFERROR(VLOOKUP(AY215,'EmpGenInfo(ESS1P)'!$A$6:$AC$390,3,FALSE),0)","v":0},{"$f":"IFERROR(VLOOKUP(AY215,'EmpGenInfo(ESS1P)'!$A$6:$AC$390,12,FALSE),0)","v":0},0]
[null,null,null,null,null,null,null,null,null,null,null,null,null,null,null,null,null,null,null,null,null,null,null,null,null,null,null,null,null,null,null,null,null,null,null,null,null,null,null,null,null,null,null,null,null,null,null,null,null,null,0,"","",{"$f":"IFERROR(VLOOKUP(AY216,'EmpGenInfo(ESS1P)'!$A$6:$AC$390,3,FALSE),0)","v":0},{"$f":"IFERROR(VLOOKUP(AY216,'EmpGenInfo(ESS1P)'!$A$6:$AC$390,12,FALSE),0)","v":0},0]
[null,null,null,null,null,null,null,null,null,null,null,null,null,null,null,null,null,null,null,null,null,null,null,null,null,null,null,null,null,null,null,null,null,null,null,null,null,null,null,null,null,null,null,null,null,null,null,null,null,null,0,"","",{"$f":"IFERROR(VLOOKUP(AY217,'EmpGenInfo(ESS1P)'!$A$6:$AC$390,3,FALSE),0)","v":0},{"$f":"IFERROR(VLOOKUP(AY217,'EmpGenInfo(ESS1P)'!$A$6:$AC$390,12,FALSE),0)","v":0},0]
[null,null,null,null,null,null,null,null,null,null,null,null,null,null,null,null,null,null,null,null,null,null,null,null,null,null,null,null,null,null,null,null,null,null,null,null,null,null,null,null,null,null,null,null,null,null,null,null,null,null,0,"","",{"$f":"IFERROR(VLOOKUP(AY218,'EmpGenInfo(ESS1P)'!$A$6:$AC$390,3,FALSE),0)","v":0},{"$f":"IFERROR(VLOOKUP(AY218,'EmpGenInfo(ESS1P)'!$A$6:$AC$390,12,FALSE),0)","v":0},0]
[null,null,null,null,null,null,null,null,null,null,null,null,null,null,null,null,null,null,null,null,null,null,null,null,null,null,null,null,null,null,null,null,null,null,null,null,null,null,null,null,null,null,null,null,null,null,null,null,null,null,0,"","",{"$f":"IFERROR(VLOOKUP(AY219,'EmpGenInfo(ESS1P)'!$A$6:$AC$390,3,FALSE),0)","v":0},{"$f":"IFERROR(VLOOKUP(AY219,'EmpGenInfo(ESS1P)'!$A$6:$AC$390,12,FALSE),0)","v":0},0]
[null,null,null,null,null,null,null,null,null,null,null,null,null,null,null,null,null,null,null,null,null,null,null,null,null,null,null,null,null,null,null,null,null,null,null,null,null,null,null,null,null,null,null,null,null,null,null,null,null,null,0,"","",{"$f":"IFERROR(VLOOKUP(AY220,'EmpGenInfo(ESS1P)'!$A$6:$AC$390,3,FALSE),0)","v":0},{"$f":"IFERROR(VLOOKUP(AY220,'EmpGenInfo(ESS1P)'!$A$6:$AC$390,12,FALSE),0)","v":0},0]
[null,null,null,null,null,null,null,null,null,null,null,null,null,null,null,null,null,null,null,null,null,null,null,null,null,null,null,null,null,null,null,null,null,null,null,null,null,null,null,null,null,null,null,null,null,null,null,null,null,null,0,"","",{"$f":"IFERROR(VLOOKUP(AY221,'EmpGenInfo(ESS1P)'!$A$6:$AC$390,3,FALSE),0)","v":0},{"$f":"IFERROR(VLOOKUP(AY221,'EmpGenInfo(ESS1P)'!$A$6:$AC$390,12,FALSE),0)","v":0},0]
[null,null,null,null,null,null,null,null,null,null,null,null,null,null,null,null,null,null,null,null,null,null,null,null,null,null,null,null,null,null,null,null,null,null,null,null,null,null,null,null,null,null,null,null,null,null,null,null,null,null,0,"","",{"$f":"IFERROR(VLOOKUP(AY222,'EmpGenInfo(ESS1P)'!$A$6:$AC$390,3,FALSE),0)","v":0},{"$f":"IFERROR(VLOOKUP(AY222,'EmpGenInfo(ESS1P)'!$A$6:$AC$390,12,FALSE),0)","v":0},0]
[null,null,null,null,null,null,null,null,null,null,null,null,null,null,null,null,null,null,null,null,null,null,null,null,null,null,null,null,null,null,null,null,null,null,null,null,null,null,null,null,null,null,null,null,null,null,null,null,null,null,0,"","",{"$f":"IFERROR(VLOOKUP(AY223,'EmpGenInfo(ESS1P)'!$A$6:$AC$390,3,FALSE),0)","v":0},{"$f":"IFERROR(VLOOKUP(AY223,'EmpGenInfo(ESS1P)'!$A$6:$AC$390,12,FALSE),0)","v":0},0]
[null,null,null,null,null,null,null,null,null,null,null,null,null,null,null,null,null,null,null,null,null,null,null,null,null,null,null,null,null,null,null,null,null,null,null,null,null,null,null,null,null,null,null,null,null,null,null,null,null,null,0,"","",{"$f":"IFERROR(VLOOKUP(AY224,'EmpGenInfo(ESS1P)'!$A$6:$AC$390,3,FALSE),0)","v":0},{"$f":"IFERROR(VLOOKUP(AY224,'EmpGenInfo(ESS1P)'!$A$6:$AC$390,12,FALSE),0)","v":0},0]
[null,null,null,null,null,null,null,null,null,null,null,null,null,null,null,null,null,null,null,null,null,null,null,null,null,null,null,null,null,null,null,null,null,null,null,null,null,null,null,null,null,null,null,null,null,null,null,null,null,null,0,"","",{"$f":"IFERROR(VLOOKUP(AY225,'EmpGenInfo(ESS1P)'!$A$6:$AC$390,3,FALSE),0)","v":0},{"$f":"IFERROR(VLOOKUP(AY225,'EmpGenInfo(ESS1P)'!$A$6:$AC$390,12,FALSE),0)","v":0},0]
[null,null,null,null,null,null,null,null,null,null,null,null,null,null,null,null,null,null,null,null,null,null,null,null,null,null,null,null,null,null,null,null,null,null,null,null,null,null,null,null,null,null,null,null,null,null,null,null,null,null,0,"","",{"$f":"IFERROR(VLOOKUP(AY226,'EmpGenInfo(ESS1P)'!$A$6:$AC$390,3,FALSE),0)","v":0},{"$f":"IFERROR(VLOOKUP(AY226,'EmpGenInfo(ESS1P)'!$A$6:$AC$390,12,FALSE),0)","v":0},0]
[null,null,null,null,null,null,null,null,null,null,null,null,null,null,null,null,null,null,null,null,null,null,null,null,null,null,null,null,null,null,null,null,null,null,null,null,null,null,null,null,null,null,null,null,null,null,null,null,null,null,0,"","",{"$f":"IFERROR(VLOOKUP(AY227,'EmpGenInfo(ESS1P)'!$A$6:$AC$390,3,FALSE),0)","v":0},{"$f":"IFERROR(VLOOKUP(AY227,'EmpGenInfo(ESS1P)'!$A$6:$AC$390,12,FALSE),0)","v":0},0]
[null,null,null,null,null,null,null,null,null,null,null,null,null,null,null,null,null,null,null,null,null,null,null,null,null,null,null,null,null,null,null,null,null,null,null,null,null,null,null,null,null,null,null,null,null,null,null,null,null,null,0,"","",{"$f":"IFERROR(VLOOKUP(AY228,'EmpGenInfo(ESS1P)'!$A$6:$AC$390,3,FALSE),0)","v":0},{"$f":"IFERROR(VLOOKUP(AY228,'EmpGenInfo(ESS1P)'!$A$6:$AC$390,12,FALSE),0)","v":0},0]
[null,null,null,null,null,null,null,null,null,null,null,null,null,null,null,null,null,null,null,null,null,null,null,null,null,null,null,null,null,null,null,null,null,null,null,null,null,null,null,null,null,null,null,null,null,null,null,null,null,null,0,"","",{"$f":"IFERROR(VLOOKUP(AY229,'EmpGenInfo(ESS1P)'!$A$6:$AC$390,3,FALSE),0)","v":0},{"$f":"IFERROR(VLOOKUP(AY229,'EmpGenInfo(ESS1P)'!$A$6:$AC$390,12,FALSE),0)","v":0},0]
[null,null,null,null,null,null,null,null,null,null,null,null,null,null,null,null,null,null,null,null,null,null,null,null,null,null,null,null,null,null,null,null,null,null,null,null,null,null,null,null,null,null,null,null,null,null,null,null,null,null,0,"","",{"$f":"IFERROR(VLOOKUP(AY230,'EmpGenInfo(ESS1P)'!$A$6:$AC$390,3,FALSE),0)","v":0},{"$f":"IFERROR(VLOOKUP(AY230,'EmpGenInfo(ESS1P)'!$A$6:$AC$390,12,FALSE),0)","v":0},0]
[null,null,null,null,null,null,null,null,null,null,null,null,null,null,null,null,null,null,null,null,null,null,null,null,null,null,null,null,null,null,null,null,null,null,null,null,null,null,null,null,null,null,null,null,null,null,null,null,null,null,0,"","",{"$f":"IFERROR(VLOOKUP(AY231,'EmpGenInfo(ESS1P)'!$A$6:$AC$390,3,FALSE),0)","v":0},{"$f":"IFERROR(VLOOKUP(AY231,'EmpGenInfo(ESS1P)'!$A$6:$AC$390,12,FALSE),0)","v":0},0]
[null,null,null,null,null,null,null,null,null,null,null,null,null,null,null,null,null,null,null,null,null,null,null,null,null,null,null,null,null,null,null,null,null,null,null,null,null,null,null,null,null,null,null,null,null,null,null,null,null,null,0,"","",{"$f":"IFERROR(VLOOKUP(AY232,'EmpGenInfo(ESS1P)'!$A$6:$AC$390,3,FALSE),0)","v":0},{"$f":"IFERROR(VLOOKUP(AY232,'EmpGenInfo(ESS1P)'!$A$6:$AC$390,12,FALSE),0)","v":0},0]
[null,null,null,null,null,null,null,null,null,null,null,null,null,null,null,null,null,null,null,null,null,null,null,null,null,null,null,null,null,null,null,null,null,null,null,null,null,null,null,null,null,null,null,null,null,null,null,null,null,null,0,"","",{"$f":"IFERROR(VLOOKUP(AY233,'EmpGenInfo(ESS1P)'!$A$6:$AC$390,3,FALSE),0)","v":0},{"$f":"IFERROR(VLOOKUP(AY233,'EmpGenInfo(ESS1P)'!$A$6:$AC$390,12,FALSE),0)","v":0},0]
[null,null,null,null,null,null,null,null,null,null,null,null,null,null,null,null,null,null,null,null,null,null,null,null,null,null,null,null,null,null,null,null,null,null,null,null,null,null,null,null,null,null,null,null,null,null,null,null,null,null,0,"","",{"$f":"IFERROR(VLOOKUP(AY234,'EmpGenInfo(ESS1P)'!$A$6:$AC$390,3,FALSE),0)","v":0},{"$f":"IFERROR(VLOOKUP(AY234,'EmpGenInfo(ESS1P)'!$A$6:$AC$390,12,FALSE),0)","v":0},0]
[null,null,null,null,null,null,null,null,null,null,null,null,null,null,null,null,null,null,null,null,null,null,null,null,null,null,null,null,null,null,null,null,null,null,null,null,null,null,null,null,null,null,null,null,null,null,null,null,null,null,0,"","",{"$f":"IFERROR(VLOOKUP(AY235,'EmpGenInfo(ESS1P)'!$A$6:$AC$390,3,FALSE),0)","v":0},{"$f":"IFERROR(VLOOKUP(AY235,'EmpGenInfo(ESS1P)'!$A$6:$AC$390,12,FALSE),0)","v":0},0]
[null,null,null,null,null,null,null,null,null,null,null,null,null,null,null,null,null,null,null,null,null,null,null,null,null,null,null,null,null,null,null,null,null,null,null,null,null,null,null,null,null,null,null,null,null,null,null,null,null,null,0,"","",{"$f":"IFERROR(VLOOKUP(AY236,'EmpGenInfo(ESS1P)'!$A$6:$AC$390,3,FALSE),0)","v":0},{"$f":"IFERROR(VLOOKUP(AY236,'EmpGenInfo(ESS1P)'!$A$6:$AC$390,12,FALSE),0)","v":0},0]
[null,null,null,null,null,null,null,null,null,null,null,null,null,null,null,null,null,null,null,null,null,null,null,null,null,null,null,null,null,null,null,null,null,null,null,null,null,null,null,null,null,null,null,null,null,null,null,null,null,null,0,"","",{"$f":"IFERROR(VLOOKUP(AY237,'EmpGenInfo(ESS1P)'!$A$6:$AC$390,3,FALSE),0)","v":0},{"$f":"IFERROR(VLOOKUP(AY237,'EmpGenInfo(ESS1P)'!$A$6:$AC$390,12,FALSE),0)","v":0},0]
[null,null,null,null,null,null,null,null,null,null,null,null,null,null,null,null,null,null,null,null,null,null,null,null,null,null,null,null,null,null,null,null,null,null,null,null,null,null,null,null,null,null,null,null,null,null,null,null,null,null,0,"","",{"$f":"IFERROR(VLOOKUP(AY238,'EmpGenInfo(ESS1P)'!$A$6:$AC$390,3,FALSE),0)","v":0},{"$f":"IFERROR(VLOOKUP(AY238,'EmpGenInfo(ESS1P)'!$A$6:$AC$390,12,FALSE),0)","v":0},0]
[null,null,null,null,null,null,null,null,null,null,null,null,null,null,null,null,null,null,null,null,null,null,null,null,null,null,null,null,null,null,null,null,null,null,null,null,null,null,null,null,null,null,null,null,null,null,null,null,null,null,0,"","",{"$f":"IFERROR(VLOOKUP(AY239,'EmpGenInfo(ESS1P)'!$A$6:$AC$390,3,FALSE),0)","v":0},{"$f":"IFERROR(VLOOKUP(AY239,'EmpGenInfo(ESS1P)'!$A$6:$AC$390,12,FALSE),0)","v":0},0]
[null,null,null,null,null,null,null,null,null,null,null,null,null,null,null,null,null,null,null,null,null,null,null,null,null,null,null,null,null,null,null,null,null,null,null,null,null,null,null,null,null,null,null,null,null,null,null,null,null,null,0,"","",{"$f":"IFERROR(VLOOKUP(AY240,'EmpGenInfo(ESS1P)'!$A$6:$AC$390,3,FALSE),0)","v":0},{"$f":"IFERROR(VLOOKUP(AY240,'EmpGenInfo(ESS1P)'!$A$6:$AC$390,12,FALSE),0)","v":0},0]
[null,null,null,null,null,null,null,null,null,null,null,null,null,null,null,null,null,null,null,null,null,null,null,null,null,null,null,null,null,null,null,null,null,null,null,null,null,null,null,null,null,null,null,null,null,null,null,null,null,null,0,"","",{"$f":"IFERROR(VLOOKUP(AY241,'EmpGenInfo(ESS1P)'!$A$6:$AC$390,3,FALSE),0)","v":0},{"$f":"IFERROR(VLOOKUP(AY241,'EmpGenInfo(ESS1P)'!$A$6:$AC$390,12,FALSE),0)","v":0},0]
[null,null,null,null,null,null,null,null,null,null,null,null,null,null,null,null,null,null,null,null,null,null,null,null,null,null,null,null,null,null,null,null,null,null,null,null,null,null,null,null,null,null,null,null,null,null,null,null,null,null,0,"","",{"$f":"IFERROR(VLOOKUP(AY242,'EmpGenInfo(ESS1P)'!$A$6:$AC$390,3,FALSE),0)","v":0},{"$f":"IFERROR(VLOOKUP(AY242,'EmpGenInfo(ESS1P)'!$A$6:$AC$390,12,FALSE),0)","v":0},0]
[null,null,null,null,null,null,null,null,null,null,null,null,null,null,null,null,null,null,null,null,null,null,null,null,null,null,null,null,null,null,null,null,null,null,null,null,null,null,null,null,null,null,null,null,null,null,null,null,null,null,0,"","",{"$f":"IFERROR(VLOOKUP(AY243,'EmpGenInfo(ESS1P)'!$A$6:$AC$390,3,FALSE),0)","v":0},{"$f":"IFERROR(VLOOKUP(AY243,'EmpGenInfo(ESS1P)'!$A$6:$AC$390,12,FALSE),0)","v":0},0]
[null,null,null,null,null,null,null,null,null,null,null,null,null,null,null,null,null,null,null,null,null,null,null,null,null,null,null,null,null,null,null,null,null,null,null,null,null,null,null,null,null,null,null,null,null,null,null,null,null,null,0,"","",{"$f":"IFERROR(VLOOKUP(AY244,'EmpGenInfo(ESS1P)'!$A$6:$AC$390,3,FALSE),0)","v":0},{"$f":"IFERROR(VLOOKUP(AY244,'EmpGenInfo(ESS1P)'!$A$6:$AC$390,12,FALSE),0)","v":0},0]
[null,null,null,null,null,null,null,null,null,null,null,null,null,null,null,null,null,null,null,null,null,null,null,null,null,null,null,null,null,null,null,null,null,null,null,null,null,null,null,null,null,null,null,null,null,null,null,null,null,null,0,"","",{"$f":"IFERROR(VLOOKUP(AY245,'EmpGenInfo(ESS1P)'!$A$6:$AC$390,3,FALSE),0)","v":0},{"$f":"IFERROR(VLOOKUP(AY245,'EmpGenInfo(ESS1P)'!$A$6:$AC$390,12,FALSE),0)","v":0},0]
[null,null,null,null,null,null,null,null,null,null,null,null,null,null,null,null,null,null,null,null,null,null,null,null,null,null,null,null,null,null,null,null,null,null,null,null,null,null,null,null,null,null,null,null,null,null,null,null,null,null,0,"","",{"$f":"IFERROR(VLOOKUP(AY246,'EmpGenInfo(ESS1P)'!$A$6:$AC$390,3,FALSE),0)","v":0},{"$f":"IFERROR(VLOOKUP(AY246,'EmpGenInfo(ESS1P)'!$A$6:$AC$390,12,FALSE),0)","v":0},0]
[null,null,null,null,null,null,null,null,null,null,null,null,null,null,null,null,null,null,null,null,null,null,null,null,null,null,null,null,null,null,null,null,null,null,null,null,null,null,null,null,null,null,null,null,null,null,null,null,null,null,0,"","",{"$f":"IFERROR(VLOOKUP(AY247,'EmpGenInfo(ESS1P)'!$A$6:$AC$390,3,FALSE),0)","v":0},{"$f":"IFERROR(VLOOKUP(AY247,'EmpGenInfo(ESS1P)'!$A$6:$AC$390,12,FALSE),0)","v":0},0]
[null,null,null,null,null,null,null,null,null,null,null,null,null,null,null,null,null,null,null,null,null,null,null,null,null,null,null,null,null,null,null,null,null,null,null,null,null,null,null,null,null,null,null,null,null,null,null,null,null,null,0,"","",{"$f":"IFERROR(VLOOKUP(AY248,'EmpGenInfo(ESS1P)'!$A$6:$AC$390,3,FALSE),0)","v":0},{"$f":"IFERROR(VLOOKUP(AY248,'EmpGenInfo(ESS1P)'!$A$6:$AC$390,12,FALSE),0)","v":0},0]
[null,null,null,null,null,null,null,null,null,null,null,null,null,null,null,null,null,null,null,null,null,null,null,null,null,null,null,null,null,null,null,null,null,null,null,null,null,null,null,null,null,null,null,null,null,null,null,null,null,null,0,"","",{"$f":"IFERROR(VLOOKUP(AY249,'EmpGenInfo(ESS1P)'!$A$6:$AC$390,3,FALSE),0)","v":0},{"$f":"IFERROR(VLOOKUP(AY249,'EmpGenInfo(ESS1P)'!$A$6:$AC$390,12,FALSE),0)","v":0},0]
[null,null,null,null,null,null,null,null,null,null,null,null,null,null,null,null,null,null,null,null,null,null,null,null,null,null,null,null,null,null,null,null,null,null,null,null,null,null,null,null,null,null,null,null,null,null,null,null,null,null,0,"","",{"$f":"IFERROR(VLOOKUP(AY250,'EmpGenInfo(ESS1P)'!$A$6:$AC$390,3,FALSE),0)","v":0},{"$f":"IFERROR(VLOOKUP(AY250,'EmpGenInfo(ESS1P)'!$A$6:$AC$390,12,FALSE),0)","v":0},0]
[null,null,null,null,null,null,null,null,null,null,null,null,null,null,null,null,null,null,null,null,null,null,null,null,null,null,null,null,null,null,null,null,null,null,null,null,null,null,null,null,null,null,null,null,null,null,null,null,null,null,0,"","",{"$f":"IFERROR(VLOOKUP(AY251,'EmpGenInfo(ESS1P)'!$A$6:$AC$390,3,FALSE),0)","v":0},{"$f":"IFERROR(VLOOKUP(AY251,'EmpGenInfo(ESS1P)'!$A$6:$AC$390,12,FALSE),0)","v":0},0]
[null,null,null,null,null,null,null,null,null,null,null,null,null,null,null,null,null,null,null,null,null,null,null,null,null,null,null,null,null,null,null,null,null,null,null,null,null,null,null,null,null,null,null,null,null,null,null,null,null,null,0,"","",{"$f":"IFERROR(VLOOKUP(AY252,'EmpGenInfo(ESS1P)'!$A$6:$AC$390,3,FALSE),0)","v":0},{"$f":"IFERROR(VLOOKUP(AY252,'EmpGenInfo(ESS1P)'!$A$6:$AC$390,12,FALSE),0)","v":0},0]
[null,null,null,null,null,null,null,null,null,null,null,null,null,null,null,null,null,null,null,null,null,null,null,null,null,null,null,null,null,null,null,null,null,null,null,null,null,null,null,null,null,null,null,null,null,null,null,null,null,null,0,"","",{"$f":"IFERROR(VLOOKUP(AY253,'EmpGenInfo(ESS1P)'!$A$6:$AC$390,3,FALSE),0)","v":0},{"$f":"IFERROR(VLOOKUP(AY253,'EmpGenInfo(ESS1P)'!$A$6:$AC$390,12,FALSE),0)","v":0},0]
[null,null,null,null,null,null,null,null,null,null,null,null,null,null,null,null,null,null,null,null,null,null,null,null,null,null,null,null,null,null,null,null,null,null,null,null,null,null,null,null,null,null,null,null,null,null,null,null,null,null,0,"","",{"$f":"IFERROR(VLOOKUP(AY254,'EmpGenInfo(ESS1P)'!$A$6:$AC$390,3,FALSE),0)","v":0},{"$f":"IFERROR(VLOOKUP(AY254,'EmpGenInfo(ESS1P)'!$A$6:$AC$390,12,FALSE),0)","v":0},0]
[null,null,null,null,null,null,null,null,null,null,null,null,null,null,null,null,null,null,null,null,null,null,null,null,null,null,null,null,null,null,null,null,null,null,null,null,null,null,null,null,null,null,null,null,null,null,null,null,null,null,0,"","",{"$f":"IFERROR(VLOOKUP(AY255,'EmpGenInfo(ESS1P)'!$A$6:$AC$390,3,FALSE),0)","v":0},{"$f":"IFERROR(VLOOKUP(AY255,'EmpGenInfo(ESS1P)'!$A$6:$AC$390,12,FALSE),0)","v":0},0]
[null,null,null,null,null,null,null,null,null,null,null,null,null,null,null,null,null,null,null,null,null,null,null,null,null,null,null,null,null,null,null,null,null,null,null,null,null,null,null,null,null,null,null,null,null,null,null,null,null,null,0,"","",{"$f":"IFERROR(VLOOKUP(AY256,'EmpGenInfo(ESS1P)'!$A$6:$AC$390,3,FALSE),0)","v":0},{"$f":"IFERROR(VLOOKUP(AY256,'EmpGenInfo(ESS1P)'!$A$6:$AC$390,12,FALSE),0)","v":0},0]
[null,null,null,null,null,null,null,null,null,null,null,null,null,null,null,null,null,null,null,null,null,null,null,null,null,null,null,null,null,null,null,null,null,null,null,null,null,null,null,null,null,null,null,null,null,null,null,null,null,null,0,"","",{"$f":"IFERROR(VLOOKUP(AY257,'EmpGenInfo(ESS1P)'!$A$6:$AC$390,3,FALSE),0)","v":0},{"$f":"IFERROR(VLOOKUP(AY257,'EmpGenInfo(ESS1P)'!$A$6:$AC$390,12,FALSE),0)","v":0},0]
[null,null,null,null,null,null,null,null,null,null,null,null,null,null,null,null,null,null,null,null,null,null,null,null,null,null,null,null,null,null,null,null,null,null,null,null,null,null,null,null,null,null,null,null,null,null,null,null,null,null,0,"","",{"$f":"IFERROR(VLOOKUP(AY258,'EmpGenInfo(ESS1P)'!$A$6:$AC$390,3,FALSE),0)","v":0},{"$f":"IFERROR(VLOOKUP(AY258,'EmpGenInfo(ESS1P)'!$A$6:$AC$390,12,FALSE),0)","v":0},0]
[null,null,null,null,null,null,null,null,null,null,null,null,null,null,null,null,null,null,null,null,null,null,null,null,null,null,null,null,null,null,null,null,null,null,null,null,null,null,null,null,null,null,null,null,null,null,null,null,null,null,0,"","",{"$f":"IFERROR(VLOOKUP(AY259,'EmpGenInfo(ESS1P)'!$A$6:$AC$390,3,FALSE),0)","v":0},{"$f":"IFERROR(VLOOKUP(AY259,'EmpGenInfo(ESS1P)'!$A$6:$AC$390,12,FALSE),0)","v":0},0]
[null,null,null,null,null,null,null,null,null,null,null,null,null,null,null,null,null,null,null,null,null,null,null,null,null,null,null,null,null,null,null,null,null,null,null,null,null,null,null,null,null,null,null,null,null,null,null,null,null,null,0,"","",{"$f":"IFERROR(VLOOKUP(AY260,'EmpGenInfo(ESS1P)'!$A$6:$AC$390,3,FALSE),0)","v":0},{"$f":"IFERROR(VLOOKUP(AY260,'EmpGenInfo(ESS1P)'!$A$6:$AC$390,12,FALSE),0)","v":0},0]
[null,null,null,null,null,null,null,null,null,null,null,null,null,null,null,null,null,null,null,null,null,null,null,null,null,null,null,null,null,null,null,null,null,null,null,null,null,null,null,null,null,null,null,null,null,null,null,null,null,null,0,"","",{"$f":"IFERROR(VLOOKUP(AY261,'EmpGenInfo(ESS1P)'!$A$6:$AC$390,3,FALSE),0)","v":0},{"$f":"IFERROR(VLOOKUP(AY261,'EmpGenInfo(ESS1P)'!$A$6:$AC$390,12,FALSE),0)","v":0},0]
[null,null,null,null,null,null,null,null,null,null,null,null,null,null,null,null,null,null,null,null,null,null,null,null,null,null,null,null,null,null,null,null,null,null,null,null,null,null,null,null,null,null,null,null,null,null,null,null,null,null,0,"","",{"$f":"IFERROR(VLOOKUP(AY262,'EmpGenInfo(ESS1P)'!$A$6:$AC$390,3,FALSE),0)","v":0},{"$f":"IFERROR(VLOOKUP(AY262,'EmpGenInfo(ESS1P)'!$A$6:$AC$390,12,FALSE),0)","v":0},0]
[null,null,null,null,null,null,null,null,null,null,null,null,null,null,null,null,null,null,null,null,null,null,null,null,null,null,null,null,null,null,null,null,null,null,null,null,null,null,null,null,null,null,null,null,null,null,null,null,null,null,0,"","",{"$f":"IFERROR(VLOOKUP(AY263,'EmpGenInfo(ESS1P)'!$A$6:$AC$390,3,FALSE),0)","v":0},{"$f":"IFERROR(VLOOKUP(AY263,'EmpGenInfo(ESS1P)'!$A$6:$AC$390,12,FALSE),0)","v":0},0]
[null,null,null,null,null,null,null,null,null,null,null,null,null,null,null,null,null,null,null,null,null,null,null,null,null,null,null,null,null,null,null,null,null,null,null,null,null,null,null,null,null,null,null,null,null,null,null,null,null,null,{"$f":"S264","v":0},"","",{"$f":"IFERROR(VLOOKUP(AY264,'EmpGenInfo(ESS1P)'!$A$6:$AC$390,3,FALSE),0)","v":0},{"$f":"IFERROR(VLOOKUP(AY264,'EmpGenInfo(ESS1P)'!$A$6:$AC$390,12,FALSE),0)","v":0},{"$f":"AP264*100/15","v":0}]
[null,null,null,null,null,null,null,null,null,null,null,null,null,null,null,null,null,null,null,null,null,null,null,null,null,null,null,null,null,null,null,null,null,null,null,null,null,null,null,null,null,null,null,null,null,null,null,null,null,null,0,"","",{"$f":"IFERROR(VLOOKUP(AY265,'EmpGenInfo(ESS1P)'!$A$6:$AC$390,3,FALSE),0)","v":0},{"$f":"IFERROR(VLOOKUP(AY265,'EmpGenInfo(ESS1P)'!$A$6:$AC$390,12,FALSE),0)","v":0},0]
[null,null,null,null,null,null,null,null,null,null,null,null,null,null,null,null,null,null,null,null,null,null,null,null,null,null,null,null,null,null,null,null,null,null,null,null,null,null,null,null,null,null,null,null,null,null,null,null,null,null,0,"","",{"$f":"IFERROR(VLOOKUP(AY266,'EmpGenInfo(ESS1P)'!$A$6:$AC$390,3,FALSE),0)","v":0},{"$f":"IFERROR(VLOOKUP(AY266,'EmpGenInfo(ESS1P)'!$A$6:$AC$390,12,FALSE),0)","v":0},0]
[null,null,null,null,null,null,null,null,null,null,null,null,null,null,null,null,null,null,null,null,null,null,null,null,null,null,null,null,null,null,null,null,null,null,null,null,null,null,null,null,null,null,null,null,null,null,null,null,null,null,0,"","",{"$f":"IFERROR(VLOOKUP(AY267,'EmpGenInfo(ESS1P)'!$A$6:$AC$390,3,FALSE),0)","v":0},{"$f":"IFERROR(VLOOKUP(AY267,'EmpGenInfo(ESS1P)'!$A$6:$AC$390,12,FALSE),0)","v":0},0]
[null,null,null,null,null,null,null,null,null,null,null,null,null,null,null,null,null,null,null,null,null,null,null,null,null,null,null,null,null,null,null,null,null,null,null,null,null,null,null,null,null,null,null,null,null,null,null,null,null,null,0,"","",{"$f":"IFERROR(VLOOKUP(AY268,'EmpGenInfo(ESS1P)'!$A$6:$AC$390,3,FALSE),0)","v":0},{"$f":"IFERROR(VLOOKUP(AY268,'EmpGenInfo(ESS1P)'!$A$6:$AC$390,12,FALSE),0)","v":0},0]
[null,null,null,null,null,null,null,null,null,null,null,null,null,null,null,null,null,null,null,null,null,null,null,null,null,null,null,null,null,null,null,null,null,null,null,null,null,null,null,null,null,null,null,null,null,null,null,null,null,null,0,"","",{"$f":"IFERROR(VLOOKUP(AY269,'EmpGenInfo(ESS1P)'!$A$6:$AC$390,3,FALSE),0)","v":0},{"$f":"IFERROR(VLOOKUP(AY269,'EmpGenInfo(ESS1P)'!$A$6:$AC$390,12,FALSE),0)","v":0},0]
[null,null,null,null,null,null,null,null,null,null,null,null,null,null,null,null,null,null,null,null,null,null,null,null,null,null,null,null,null,null,null,null,null,null,null,null,null,null,null,null,null,null,null,null,null,null,null,null,null,null,0,"","",{"$f":"IFERROR(VLOOKUP(AY270,'EmpGenInfo(ESS1P)'!$A$6:$AC$390,3,FALSE),0)","v":0},{"$f":"IFERROR(VLOOKUP(AY270,'EmpGenInfo(ESS1P)'!$A$6:$AC$390,12,FALSE),0)","v":0},0]
[null,null,null,null,null,null,null,null,null,null,null,null,null,null,null,null,null,null,null,null,null,null,null,null,null,null,null,null,null,null,null,null,null,null,null,null,null,null,null,null,null,null,null,null,null,null,null,null,null,null,0,"","",{"$f":"IFERROR(VLOOKUP(AY271,'EmpGenInfo(ESS1P)'!$A$6:$AC$390,3,FALSE),0)","v":0},{"$f":"IFERROR(VLOOKUP(AY271,'EmpGenInfo(ESS1P)'!$A$6:$AC$390,12,FALSE),0)","v":0},0]
[null,null,null,null,null,null,null,null,null,null,null,null,null,null,null,null,null,null,null,null,null,null,null,null,null,null,null,null,null,null,null,null,null,null,null,null,null,null,null,null,null,null,null,null,null,null,null,null,null,null,0,"","",{"$f":"IFERROR(VLOOKUP(AY272,'EmpGenInfo(ESS1P)'!$A$6:$AC$390,3,FALSE),0)","v":0},{"$f":"IFERROR(VLOOKUP(AY272,'EmpGenInfo(ESS1P)'!$A$6:$AC$390,12,FALSE),0)","v":0},0]
[null,null,null,null,null,null,null,null,null,null,null,null,null,null,null,null,null,null,null,null,null,null,null,null,null,null,null,null,null,null,null,null,null,null,null,null,null,null,null,null,null,null,null,null,null,null,null,null,null,null,0,{"$f":"IFERROR(RIGHT(V273,LEN(V273)-FIND(\" \",V273)),\"\")","v":""},{"$f":"IFERROR(LEFT(V273,FIND(\" \",V273,1)-1),\"\")","v":""},{"$f":"IFERROR(VLOOKUP(AY273,'EmpGenInfo(ESS1P)'!$A$6:$AC$390,3,FALSE),0)","v":0},{"$f":"IFERROR(VLOOKUP(AY273,'EmpGenInfo(ESS1P)'!$A$6:$AC$390,12,FALSE),0)","v":0},0]
[null,null,null,null,null,null,null,null,null,null,null,null,null,null,null,null,null,null,null,null,null,null,null,null,null,null,null,null,null,null,null,null,null,null,null,null,null,null,null,null,null,null,null,null,null,null,null,null,null,null,0,"","",{"$f":"IFERROR(VLOOKUP(AY274,'EmpGenInfo(ESS1P)'!$A$6:$AC$390,3,FALSE),0)","v":0},{"$f":"IFERROR(VLOOKUP(AY274,'EmpGenInfo(ESS1P)'!$A$6:$AC$390,12,FALSE),0)","v":0},0]
[null,null,null,null,null,null,null,null,null,null,null,null,null,null,null,null,null,null,null,null,null,null,null,null,null,null,null,null,null,null,null,null,null,null,null,null,null,null,null,null,null,null,null,null,null,null,null,null,null,null,0,"","",{"$f":"IFERROR(VLOOKUP(AY275,'EmpGenInfo(ESS1P)'!$A$6:$AC$390,3,FALSE),0)","v":0},{"$f":"IFERROR(VLOOKUP(AY275,'EmpGenInfo(ESS1P)'!$A$6:$AC$390,12,FALSE),0)","v":0},0]
[null,null,null,null,null,null,null,null,null,null,null,null,null,null,null,null,null,null,null,null,null,null,null,null,null,null,null,null,null,null,null,null,null,null,null,null,null,null,null,null,null,null,null,null,null,null,null,null,null,null,0,"","",{"$f":"IFERROR(VLOOKUP(AY276,'EmpGenInfo(ESS1P)'!$A$6:$AC$390,3,FALSE),0)","v":0},{"$f":"IFERROR(VLOOKUP(AY276,'EmpGenInfo(ESS1P)'!$A$6:$AC$390,12,FALSE),0)","v":0},0]
[null,null,null,null,null,null,null,null,null,null,null,null,null,null,null,null,null,null,null,null,null,null,null,null,null,null,null,null,null,null,null,null,null,null,null,null,null,null,null,null,null,null,null,null,null,null,null,null,null,null,0,"","",{"$f":"IFERROR(VLOOKUP(AY277,'EmpGenInfo(ESS1P)'!$A$6:$AC$390,3,FALSE),0)","v":0},{"$f":"IFERROR(VLOOKUP(AY277,'EmpGenInfo(ESS1P)'!$A$6:$AC$390,12,FALSE),0)","v":0},0]
[null,null,null,null,null,null,null,null,null,null,null,null,null,null,null,null,null,null,null,null,null,null,null,null,null,null,null,null,null,null,null,null,null,null,null,null,null,null,null,null,null,null,null,null,null,null,null,null,null,null,0,"","",{"$f":"IFERROR(VLOOKUP(AY278,'EmpGenInfo(ESS1P)'!$A$6:$AC$390,3,FALSE),0)","v":0},{"$f":"IFERROR(VLOOKUP(AY278,'EmpGenInfo(ESS1P)'!$A$6:$AC$390,12,FALSE),0)","v":0},0]
[null,null,null,null,null,null,null,null,null,null,null,null,null,null,null,null,null,null,null,null,null,null,null,null,null,null,null,null,null,null,null,null,null,null,null,null,null,null,null,null,null,null,null,null,null,null,null,null,null,null,0,"","",{"$f":"IFERROR(VLOOKUP(AY279,'EmpGenInfo(ESS1P)'!$A$6:$AC$390,3,FALSE),0)","v":0},{"$f":"IFERROR(VLOOKUP(AY279,'EmpGenInfo(ESS1P)'!$A$6:$AC$390,12,FALSE),0)","v":0},0]
[null,null,null,null,null,null,null,null,null,null,null,null,null,null,null,null,null,null,null,null,null,null,null,null,null,null,null,null,null,null,null,null,null,null,null,null,null,null,null,null,null,null,null,null,null,null,null,null,null,null,0,"","",{"$f":"IFERROR(VLOOKUP(AY280,'EmpGenInfo(ESS1P)'!$A$6:$AC$390,3,FALSE),0)","v":0},{"$f":"IFERROR(VLOOKUP(AY280,'EmpGenInfo(ESS1P)'!$A$6:$AC$390,12,FALSE),0)","v":0},0]
[null,null,null,null,null,null,null,null,null,null,null,null,null,null,null,null,null,null,null,null,null,null,null,null,null,null,null,null,null,null,null,null,null,null,null,null,null,null,null,null,null,null,null,null,null,null,null,null,null,null,0,"","",{"$f":"IFERROR(VLOOKUP(AY281,'EmpGenInfo(ESS1P)'!$A$6:$AC$390,3,FALSE),0)","v":0},{"$f":"IFERROR(VLOOKUP(AY281,'EmpGenInfo(ESS1P)'!$A$6:$AC$390,12,FALSE),0)","v":0},0]
[null,null,null,null,null,null,null,null,null,null,null,null,null,null,null,null,null,null,null,null,null,null,null,null,null,null,null,null,null,null,null,null,null,null,null,null,null,null,null,null,null,null,null,null,null,null,null,null,null,null,0,"","",{"$f":"IFERROR(VLOOKUP(AY282,'EmpGenInfo(ESS1P)'!$A$6:$AC$390,3,FALSE),0)","v":0},{"$f":"IFERROR(VLOOKUP(AY282,'EmpGenInfo(ESS1P)'!$A$6:$AC$390,12,FALSE),0)","v":0},0]
[null,null,null,null,null,null,null,null,null,null,null,null,null,null,null,null,null,null,null,null,null,null,null,null,null,null,null,null,null,null,null,null,null,null,null,null,null,null,null,null,null,null,null,null,null,null,null,null,null,null,0,"","",{"$f":"IFERROR(VLOOKUP(AY283,'EmpGenInfo(ESS1P)'!$A$6:$AC$390,3,FALSE),0)","v":0},{"$f":"IFERROR(VLOOKUP(AY283,'EmpGenInfo(ESS1P)'!$A$6:$AC$390,12,FALSE),0)","v":0},0]
[null,null,null,null,null,null,null,null,null,null,null,null,null,null,null,null,null,null,null,null,null,null,null,null,null,null,null,null,null,null,null,null,null,null,null,null,null,null,null,null,null,null,null,null,null,null,null,null,null,null,0,"","",{"$f":"IFERROR(VLOOKUP(AY284,'EmpGenInfo(ESS1P)'!$A$6:$AC$390,3,FALSE),0)","v":0},{"$f":"IFERROR(VLOOKUP(AY284,'EmpGenInfo(ESS1P)'!$A$6:$AC$390,12,FALSE),0)","v":0},0]
[null,null,null,null,null,null,null,null,null,null,null,null,null,null,null,null,null,null,null,null,null,null,null,null,null,null,null,null,null,null,null,null,null,null,null,null,null,null,null,null,null,null,null,null,null,null,null,null,null,null,0,"","",{"$f":"IFERROR(VLOOKUP(AY285,'EmpGenInfo(ESS1P)'!$A$6:$AC$390,3,FALSE),0)","v":0},{"$f":"IFERROR(VLOOKUP(AY285,'EmpGenInfo(ESS1P)'!$A$6:$AC$390,12,FALSE),0)","v":0},0]
[null,null,null,null,null,null,null,null,null,null,null,null,null,null,null,null,null,null,null,null,null,null,null,null,null,null,null,null,null,null,null,null,null,null,null,null,null,null,null,null,null,null,null,null,null,null,null,null,null,null,0,"","",{"$f":"IFERROR(VLOOKUP(AY286,'EmpGenInfo(ESS1P)'!$A$6:$AC$390,3,FALSE),0)","v":0},{"$f":"IFERROR(VLOOKUP(AY286,'EmpGenInfo(ESS1P)'!$A$6:$AC$390,12,FALSE),0)","v":0},0]
[null,null,null,null,null,null,null,null,null,null,null,null,null,null,null,null,null,null,null,null,null,null,null,null,null,null,null,null,null,null,null,null,null,null,null,null,null,null,null,null,null,null,null,null,null,null,null,null,null,null,0,"","",{"$f":"IFERROR(VLOOKUP(AY287,'EmpGenInfo(ESS1P)'!$A$6:$AC$390,3,FALSE),0)","v":0},{"$f":"IFERROR(VLOOKUP(AY287,'EmpGenInfo(ESS1P)'!$A$6:$AC$390,12,FALSE),0)","v":0},0]
[null,null,null,null,null,null,null,null,null,null,null,null,null,null,null,null,null,null,null,null,null,null,null,null,null,null,null,null,null,null,null,null,null,null,null,null,null,null,null,null,null,null,null,null,null,null,null,null,null,null,0,"","",{"$f":"IFERROR(VLOOKUP(AY288,'EmpGenInfo(ESS1P)'!$A$6:$AC$390,3,FALSE),0)","v":0},{"$f":"IFERROR(VLOOKUP(AY288,'EmpGenInfo(ESS1P)'!$A$6:$AC$390,12,FALSE),0)","v":0},0]
[null,null,null,null,null,null,null,null,null,null,null,null,null,null,null,null,null,null,null,null,null,null,null,null,null,null,null,null,null,null,null,null,null,null,null,null,null,null,null,null,null,null,null,null,null,null,null,null,null,null,0,"","",{"$f":"IFERROR(VLOOKUP(AY289,'EmpGenInfo(ESS1P)'!$A$6:$AC$390,3,FALSE),0)","v":0},{"$f":"IFERROR(VLOOKUP(AY289,'EmpGenInfo(ESS1P)'!$A$6:$AC$390,12,FALSE),0)","v":0},0]
[null,null,null,null,null,null,null,null,null,null,null,null,null,null,null,null,null,null,null,null,null,null,null,null,null,null,null,null,null,null,null,null,null,null,null,null,null,null,null,null,null,null,null,null,null,null,null,null,null,null,0,"","",{"$f":"IFERROR(VLOOKUP(AY290,'EmpGenInfo(ESS1P)'!$A$6:$AC$390,3,FALSE),0)","v":0},{"$f":"IFERROR(VLOOKUP(AY290,'EmpGenInfo(ESS1P)'!$A$6:$AC$390,12,FALSE),0)","v":0},0]
[null,null,null,null,null,null,null,null,null,null,null,null,null,null,null,null,null,null,null,null,null,null,null,null,null,null,null,null,null,null,null,null,null,null,null,null,null,null,null,null,null,null,null,null,null,null,null,null,null,null,0,"","",{"$f":"IFERROR(VLOOKUP(AY291,'EmpGenInfo(ESS1P)'!$A$6:$AC$390,3,FALSE),0)","v":0},{"$f":"IFERROR(VLOOKUP(AY291,'EmpGenInfo(ESS1P)'!$A$6:$AC$390,12,FALSE),0)","v":0},0]
[null,null,null,null,null,null,null,null,null,null,null,null,null,null,null,null,null,null,null,null,null,null,null,null,null,null,null,null,null,null,null,null,null,null,null,null,null,null,null,null,null,null,null,null,null,null,null,null,null,null,0,"","",{"$f":"IFERROR(VLOOKUP(AY292,'EmpGenInfo(ESS1P)'!$A$6:$AC$390,3,FALSE),0)","v":0},{"$f":"IFERROR(VLOOKUP(AY292,'EmpGenInfo(ESS1P)'!$A$6:$AC$390,12,FALSE),0)","v":0},0]
[null,null,null,null,null,null,null,null,null,null,null,null,null,null,null,null,null,null,null,null,null,null,null,null,null,null,null,null,null,null,null,null,null,null,null,null,null,null,null,null,null,null,null,null,null,null,null,null,null,null,0,"","",{"$f":"IFERROR(VLOOKUP(AY293,'EmpGenInfo(ESS1P)'!$A$6:$AC$390,3,FALSE),0)","v":0},{"$f":"IFERROR(VLOOKUP(AY293,'EmpGenInfo(ESS1P)'!$A$6:$AC$390,12,FALSE),0)","v":0},0]
[null,null,null,null,null,null,null,null,null,null,null,null,null,null,null,null,null,null,null,null,null,null,null,null,null,null,null,null,null,null,null,null,null,null,null,null,null,null,null,null,null,null,null,null,null,null,null,null,null,null,0,"","",{"$f":"IFERROR(VLOOKUP(AY294,'EmpGenInfo(ESS1P)'!$A$6:$AC$390,3,FALSE),0)","v":0},{"$f":"IFERROR(VLOOKUP(AY294,'EmpGenInfo(ESS1P)'!$A$6:$AC$390,12,FALSE),0)","v":0},0]
[null,null,null,null,null,null,null,null,null,null,null,null,null,null,null,null,null,null,null,null,null,null,null,null,null,null,null,null,null,null,null,null,null,null,null,null,null,null,null,null,null,null,null,null,null,null,null,null,null,null,0,"","",{"$f":"IFERROR(VLOOKUP(AY295,'EmpGenInfo(ESS1P)'!$A$6:$AC$390,3,FALSE),0)","v":0},{"$f":"IFERROR(VLOOKUP(AY295,'EmpGenInfo(ESS1P)'!$A$6:$AC$390,12,FALSE),0)","v":0},0]
[null,null,null,null,null,null,null,null,null,null,null,null,null,null,null,null,null,null,null,null,null,null,null,null,null,null,null,null,null,null,null,null,null,null,null,null,null,null,null,null,null,null,null,null,null,null,null,null,null,null,0,"","",{"$f":"IFERROR(VLOOKUP(AY296,'EmpGenInfo(ESS1P)'!$A$6:$AC$390,3,FALSE),0)","v":0},{"$f":"IFERROR(VLOOKUP(AY296,'EmpGenInfo(ESS1P)'!$A$6:$AC$390,12,FALSE),0)","v":0},0]
[null,null,null,null,null,null,null,null,null,null,null,null,null,null,null,null,null,null,null,null,null,null,null,null,null,null,null,null,null,null,null,null,null,null,null,null,null,null,null,null,null,null,null,null,null,null,null,null,null,null,0,"","",{"$f":"IFERROR(VLOOKUP(AY297,'EmpGenInfo(ESS1P)'!$A$6:$AC$390,3,FALSE),0)","v":0},{"$f":"IFERROR(VLOOKUP(AY297,'EmpGenInfo(ESS1P)'!$A$6:$AC$390,12,FALSE),0)","v":0},0]
[null,null,null,null,null,null,null,null,null,null,null,null,null,null,null,null,null,null,null,null,null,null,null,null,null,null,null,null,null,null,null,null,null,null,null,null,null,null,null,null,null,null,null,null,null,null,null,null,null,null,0,"","",{"$f":"IFERROR(VLOOKUP(AY298,'EmpGenInfo(ESS1P)'!$A$6:$AC$390,3,FALSE),0)","v":0},{"$f":"IFERROR(VLOOKUP(AY298,'EmpGenInfo(ESS1P)'!$A$6:$AC$390,12,FALSE),0)","v":0},0]
[null,null,null,null,null,null,null,null,null,null,null,null,null,null,null,null,null,null,null,null,null,null,null,null,null,null,null,null,null,null,null,null,null,null,null,null,null,null,null,null,null,null,null,null,null,null,null,null,null,null,0,"","",{"$f":"IFERROR(VLOOKUP(AY299,'EmpGenInfo(ESS1P)'!$A$6:$AC$390,3,FALSE),0)","v":0},{"$f":"IFERROR(VLOOKUP(AY299,'EmpGenInfo(ESS1P)'!$A$6:$AC$390,12,FALSE),0)","v":0},0]
[null,null,null,null,null,null,null,null,null,null,null,null,null,null,null,null,null,null,null,null,null,null,null,null,null,null,null,null,null,null,null,null,null,null,null,null,null,null,null,null,null,null,null,null,null,null,null,null,null,null,0,"","",{"$f":"IFERROR(VLOOKUP(AY300,'EmpGenInfo(ESS1P)'!$A$6:$AC$390,3,FALSE),0)","v":0},{"$f":"IFERROR(VLOOKUP(AY300,'EmpGenInfo(ESS1P)'!$A$6:$AC$390,12,FALSE),0)","v":0},0]
[null,null,null,null,null,null,null,null,null,null,null,null,null,null,null,null,null,null,null,null,null,null,null,null,null,null,null,null,null,null,null,null,null,null,null,null,null,null,null,null,null,null,null,null,null,null,null,null,null,null,{"$f":"S301","v":0},{"$f":"IFERROR(RIGHT(V301,LEN(V301)-FIND(\" \",V301)),\"\")","v":""},{"$f":"IFERROR(LEFT(V301,FIND(\" \",V301,1)-1),\"\")","v":""},{"$f":"IFERROR(VLOOKUP(AY301,'EmpGenInfo(ESS1P)'!$A$6:$AC$390,3,FALSE),0)","v":0},{"$f":"IFERROR(VLOOKUP(AY301,'EmpGenInfo(ESS1P)'!$A$6:$AC$390,12,FALSE),0)","v":0},{"$f":"AP301*100/15","v":0}]
[null,null,null,null,null,null,null,null,null,null,null,null,null,null,null,null,null,null,null,null,null,null,null,null,null,null,null,null,null,null,null,null,null,null,null,null,null,null,null,null,null,null,null,null,null,null,null,null,null,null,0,"","",{"$f":"IFERROR(VLOOKUP(AY302,'EmpGenInfo(ESS1P)'!$A$6:$AC$390,3,FALSE),0)","v":0},{"$f":"IFERROR(VLOOKUP(AY302,'EmpGenInfo(ESS1P)'!$A$6:$AC$390,12,FALSE),0)","v":0},0]
[null,null,null,null,null,null,null,null,null,null,null,null,null,null,null,null,null,null,null,null,null,null,null,null,null,null,null,null,null,null,null,null,null,null,null,null,null,null,null,null,null,null,null,null,null,null,null,null,null,null,0,"","",{"$f":"IFERROR(VLOOKUP(AY303,'EmpGenInfo(ESS1P)'!$A$6:$AC$390,3,FALSE),0)","v":0},{"$f":"IFERROR(VLOOKUP(AY303,'EmpGenInfo(ESS1P)'!$A$6:$AC$390,12,FALSE),0)","v":0},0]
[null,null,null,null,null,null,null,null,null,null,null,null,null,null,null,null,null,null,null,null,null,null,null,null,null,null,null,null,null,null,null,null,null,null,null,null,null,null,null,null,null,null,null,null,null,null,null,null,null,null,0,"","",{"$f":"IFERROR(VLOOKUP(AY304,'EmpGenInfo(ESS1P)'!$A$6:$AC$390,3,FALSE),0)","v":0},{"$f":"IFERROR(VLOOKUP(AY304,'EmpGenInfo(ESS1P)'!$A$6:$AC$390,12,FALSE),0)","v":0},0]
[null,null,null,null,null,null,null,null,null,null,null,null,null,null,null,null,null,null,null,null,null,null,null,null,null,null,null,null,null,null,null,null,null,null,null,null,null,null,null,null,null,null,null,null,null,null,null,null,null,null,0,"","",{"$f":"IFERROR(VLOOKUP(AY305,'EmpGenInfo(ESS1P)'!$A$6:$AC$390,3,FALSE),0)","v":0},{"$f":"IFERROR(VLOOKUP(AY305,'EmpGenInfo(ESS1P)'!$A$6:$AC$390,12,FALSE),0)","v":0},0]
[null,null,null,null,null,null,null,null,null,null,null,null,null,null,null,null,null,null,null,null,null,null,null,null,null,null,null,null,null,null,null,null,null,null,null,null,null,null,null,null,null,null,null,null,null,null,null,null,null,null,0,"","",{"$f":"IFERROR(VLOOKUP(AY306,'EmpGenInfo(ESS1P)'!$A$6:$AC$390,3,FALSE),0)","v":0},{"$f":"IFERROR(VLOOKUP(AY306,'EmpGenInfo(ESS1P)'!$A$6:$AC$390,12,FALSE),0)","v":0},0]
[null,null,null,null,null,null,null,null,null,null,null,null,null,null,null,null,null,null,null,null,null,null,null,null,null,null,null,null,null,null,null,null,null,null,null,null,null,null,null,null,null,null,null,null,null,null,null,null,null,null,0,"","",{"$f":"IFERROR(VLOOKUP(AY307,'EmpGenInfo(ESS1P)'!$A$6:$AC$390,3,FALSE),0)","v":0},{"$f":"IFERROR(VLOOKUP(AY307,'EmpGenInfo(ESS1P)'!$A$6:$AC$390,12,FALSE),0)","v":0},0]
[null,null,null,null,null,null,null,null,null,null,null,null,null,null,null,null,null,null,null,null,null,null,null,null,null,null,null,null,null,null,null,null,null,null,null,null,null,null,null,null,null,null,null,null,null,null,null,null,null,null,0,"","",{"$f":"IFERROR(VLOOKUP(AY308,'EmpGenInfo(ESS1P)'!$A$6:$AC$390,3,FALSE),0)","v":0},{"$f":"IFERROR(VLOOKUP(AY308,'EmpGenInfo(ESS1P)'!$A$6:$AC$390,12,FALSE),0)","v":0},0]
[null,null,null,null,null,null,null,null,null,null,null,null,null,null,null,null,null,null,null,null,null,null,null,null,null,null,null,null,null,null,null,null,null,null,null,null,null,null,null,null,null,null,null,null,null,null,null,null,null,null,0,"","",{"$f":"IFERROR(VLOOKUP(AY309,'EmpGenInfo(ESS1P)'!$A$6:$AC$390,3,FALSE),0)","v":0},{"$f":"IFERROR(VLOOKUP(AY309,'EmpGenInfo(ESS1P)'!$A$6:$AC$390,12,FALSE),0)","v":0},0]
[null,null,null,null,null,null,null,null,null,null,null,null,null,null,null,null,null,null,null,null,null,null,null,null,null,null,null,null,null,null,null,null,null,null,null,null,null,null,null,null,null,null,null,null,null,null,null,null,null,null,0,"","",{"$f":"IFERROR(VLOOKUP(AY310,'EmpGenInfo(ESS1P)'!$A$6:$AC$390,3,FALSE),0)","v":0},{"$f":"IFERROR(VLOOKUP(AY310,'EmpGenInfo(ESS1P)'!$A$6:$AC$390,12,FALSE),0)","v":0},0]
[null,null,null,null,null,null,null,null,null,null,null,null,null,null,null,null,null,null,null,null,null,null,null,null,null,null,null,null,null,null,null,null,null,null,null,null,null,null,null,null,null,null,null,null,null,null,null,null,null,null,0,"","",{"$f":"IFERROR(VLOOKUP(AY311,'EmpGenInfo(ESS1P)'!$A$6:$AC$390,3,FALSE),0)","v":0},{"$f":"IFERROR(VLOOKUP(AY311,'EmpGenInfo(ESS1P)'!$A$6:$AC$390,12,FALSE),0)","v":0},0]
[null,null,null,null,null,null,null,null,null,null,null,null,null,null,null,null,null,null,null,null,null,null,null,null,null,null,null,null,null,null,null,null,null,null,null,null,null,null,null,null,null,null,null,null,null,null,null,null,null,null,0,"","",{"$f":"IFERROR(VLOOKUP(AY312,'EmpGenInfo(ESS1P)'!$A$6:$AC$390,3,FALSE),0)","v":0},{"$f":"IFERROR(VLOOKUP(AY312,'EmpGenInfo(ESS1P)'!$A$6:$AC$390,12,FALSE),0)","v":0},0]
[null,null,null,null,null,null,null,null,null,null,null,null,null,null,null,null,null,null,null,null,null,null,null,null,null,null,null,null,null,null,null,null,null,null,null,null,null,null,null,null,null,null,null,null,null,null,null,null,null,null,0,"","",{"$f":"IFERROR(VLOOKUP(AY313,'EmpGenInfo(ESS1P)'!$A$6:$AC$390,3,FALSE),0)","v":0},{"$f":"IFERROR(VLOOKUP(AY313,'EmpGenInfo(ESS1P)'!$A$6:$AC$390,12,FALSE),0)","v":0},0]
[null,null,null,null,null,null,null,null,null,null,null,null,null,null,null,null,null,null,null,null,null,null,null,null,null,null,null,null,null,null,null,null,null,null,null,null,null,null,null,null,null,null,null,null,null,null,null,null,null,null,0,"","",{"$f":"IFERROR(VLOOKUP(AY314,'EmpGenInfo(ESS1P)'!$A$6:$AC$390,3,FALSE),0)","v":0},{"$f":"IFERROR(VLOOKUP(AY314,'EmpGenInfo(ESS1P)'!$A$6:$AC$390,12,FALSE),0)","v":0},0]
[null,null,null,null,null,null,null,null,null,null,null,null,null,null,null,null,null,null,null,null,null,null,null,null,null,null,null,null,null,null,null,null,null,null,null,null,null,null,null,null,null,null,null,null,null,null,null,null,null,null,0,"","",{"$f":"IFERROR(VLOOKUP(AY315,'EmpGenInfo(ESS1P)'!$A$6:$AC$390,3,FALSE),0)","v":0},{"$f":"IFERROR(VLOOKUP(AY315,'EmpGenInfo(ESS1P)'!$A$6:$AC$390,12,FALSE),0)","v":0},0]
[null,null,null,null,null,null,null,null,null,null,null,null,null,null,null,null,null,null,null,null,null,null,null,null,null,null,null,null,null,null,null,null,null,null,null,null,null,null,null,null,null,null,null,null,null,null,null,null,null,null,0,"","",{"$f":"IFERROR(VLOOKUP(AY316,'EmpGenInfo(ESS1P)'!$A$6:$AC$390,3,FALSE),0)","v":0},{"$f":"IFERROR(VLOOKUP(AY316,'EmpGenInfo(ESS1P)'!$A$6:$AC$390,12,FALSE),0)","v":0},0]
[null,null,null,null,null,null,null,null,null,null,null,null,null,null,null,null,null,null,null,null,null,null,null,null,null,null,null,null,null,null,null,null,null,null,null,null,null,null,null,null,null,null,null,null,null,null,null,null,null,null,0,"","",{"$f":"IFERROR(VLOOKUP(AY317,'EmpGenInfo(ESS1P)'!$A$6:$AC$390,3,FALSE),0)","v":0},{"$f":"IFERROR(VLOOKUP(AY317,'EmpGenInfo(ESS1P)'!$A$6:$AC$390,12,FALSE),0)","v":0},0]
[null,null,null,null,null,null,null,null,null,null,null,null,null,null,null,null,null,null,null,null,null,null,null,null,null,null,null,null,null,null,null,null,null,null,null,null,null,null,null,null,null,null,null,null,null,null,null,null,null,null,0,"","",{"$f":"IFERROR(VLOOKUP(AY318,'EmpGenInfo(ESS1P)'!$A$6:$AC$390,3,FALSE),0)","v":0},{"$f":"IFERROR(VLOOKUP(AY318,'EmpGenInfo(ESS1P)'!$A$6:$AC$390,12,FALSE),0)","v":0},0]
[null,null,null,null,null,null,null,null,null,null,null,null,null,null,null,null,null,null,null,null,null,null,null,null,null,null,null,null,null,null,null,null,null,null,null,null,null,null,null,null,null,null,null,null,null,null,null,null,null,null,0,"","",{"$f":"IFERROR(VLOOKUP(AY319,'EmpGenInfo(ESS1P)'!$A$6:$AC$390,3,FALSE),0)","v":0},{"$f":"IFERROR(VLOOKUP(AY319,'EmpGenInfo(ESS1P)'!$A$6:$AC$390,12,FALSE),0)","v":0},0]
[null,null,null,null,null,null,null,null,null,null,null,null,null,null,null,null,null,null,null,null,null,null,null,null,null,null,null,null,null,null,null,null,null,null,null,null,null,null,null,null,null,null,null,null,null,null,null,null,null,null,0,"","",{"$f":"IFERROR(VLOOKUP(AY320,'EmpGenInfo(ESS1P)'!$A$6:$AC$390,3,FALSE),0)","v":0},{"$f":"IFERROR(VLOOKUP(AY320,'EmpGenInfo(ESS1P)'!$A$6:$AC$390,12,FALSE),0)","v":0},0]
[null,null,null,null,null,null,null,null,null,null,null,null,null,null,null,null,null,null,null,null,null,null,null,null,null,null,null,null,null,null,null,null,null,null,null,null,null,null,null,null,null,null,null,null,null,null,null,null,null,null,0,"","",{"$f":"IFERROR(VLOOKUP(AY321,'EmpGenInfo(ESS1P)'!$A$6:$AC$390,3,FALSE),0)","v":0},{"$f":"IFERROR(VLOOKUP(AY321,'EmpGenInfo(ESS1P)'!$A$6:$AC$390,12,FALSE),0)","v":0},0]
[null,null,null,null,null,null,null,null,null,null,null,null,null,null,null,null,null,null,null,null,null,null,null,null,null,null,null,null,null,null,null,null,null,null,null,null,null,null,null,null,null,null,null,null,null,null,null,null,null,null,0,"","",{"$f":"IFERROR(VLOOKUP(AY322,'EmpGenInfo(ESS1P)'!$A$6:$AC$390,3,FALSE),0)","v":0},{"$f":"IFERROR(VLOOKUP(AY322,'EmpGenInfo(ESS1P)'!$A$6:$AC$390,12,FALSE),0)","v":0},0]
[null,null,null,null,null,null,null,null,null,null,null,null,null,null,null,null,null,null,null,null,null,null,null,null,null,null,null,null,null,null,null,null,null,null,null,null,null,null,null,null,null,null,null,null,null,null,null,null,null,null,0,"","",{"$f":"IFERROR(VLOOKUP(AY323,'EmpGenInfo(ESS1P)'!$A$6:$AC$390,3,FALSE),0)","v":0},{"$f":"IFERROR(VLOOKUP(AY323,'EmpGenInfo(ESS1P)'!$A$6:$AC$390,12,FALSE),0)","v":0},0]
[null,null,null,null,null,null,null,null,null,null,null,null,null,null,null,null,null,null,null,null,null,null,null,null,null,null,null,null,null,null,null,null,null,null,null,null,null,null,null,null,null,null,null,null,null,null,null,null,null,null,0,"","",{"$f":"IFERROR(VLOOKUP(AY324,'EmpGenInfo(ESS1P)'!$A$6:$AC$390,3,FALSE),0)","v":0},{"$f":"IFERROR(VLOOKUP(AY324,'EmpGenInfo(ESS1P)'!$A$6:$AC$390,12,FALSE),0)","v":0},0]
[null,null,null,null,null,null,null,null,null,null,null,null,null,null,null,null,null,null,null,null,null,null,null,null,null,null,null,null,null,null,null,null,null,null,null,null,null,null,null,null,null,null,null,null,null,null,null,null,null,null,0,"","",{"$f":"IFERROR(VLOOKUP(AY325,'EmpGenInfo(ESS1P)'!$A$6:$AC$390,3,FALSE),0)","v":0},{"$f":"IFERROR(VLOOKUP(AY325,'EmpGenInfo(ESS1P)'!$A$6:$AC$390,12,FALSE),0)","v":0},0]
[null,null,null,null,null,null,null,null,null,null,null,null,null,null,null,null,null,null,null,null,null,null,null,null,null,null,null,null,null,null,null,null,null,null,null,null,null,null,null,null,null,null,null,null,null,null,null,null,null,null,0,"","",{"$f":"IFERROR(VLOOKUP(AY326,'EmpGenInfo(ESS1P)'!$A$6:$AC$390,3,FALSE),0)","v":0},{"$f":"IFERROR(VLOOKUP(AY326,'EmpGenInfo(ESS1P)'!$A$6:$AC$390,12,FALSE),0)","v":0},0]
[null,null,null,null,null,null,null,null,null,null,null,null,null,null,null,null,null,null,null,null,null,null,null,null,null,null,null,null,null,null,null,null,null,null,null,null,null,null,null,null,null,null,null,null,null,null,null,null,null,null,0,"","",{"$f":"IFERROR(VLOOKUP(AY327,'EmpGenInfo(ESS1P)'!$A$6:$AC$390,3,FALSE),0)","v":0},{"$f":"IFERROR(VLOOKUP(AY327,'EmpGenInfo(ESS1P)'!$A$6:$AC$390,12,FALSE),0)","v":0},0]
[null,null,null,null,null,null,null,null,null,null,null,null,null,null,null,null,null,null,null,null,null,null,null,null,null,null,null,null,null,null,null,null,null,null,null,null,null,null,null,null,null,null,null,null,null,null,null,null,null,null,0,"","",{"$f":"IFERROR(VLOOKUP(AY328,'EmpGenInfo(ESS1P)'!$A$6:$AC$390,3,FALSE),0)","v":0},{"$f":"IFERROR(VLOOKUP(AY328,'EmpGenInfo(ESS1P)'!$A$6:$AC$390,12,FALSE),0)","v":0},0]
[null,null,null,null,null,null,null,null,null,null,null,null,null,null,null,null,null,null,null,null,null,null,null,null,null,null,null,null,null,null,null,null,null,null,null,null,null,null,null,null,null,null,null,null,null,null,null,null,null,null,0,"","",{"$f":"IFERROR(VLOOKUP(AY329,'EmpGenInfo(ESS1P)'!$A$6:$AC$390,3,FALSE),0)","v":0},{"$f":"IFERROR(VLOOKUP(AY329,'EmpGenInfo(ESS1P)'!$A$6:$AC$390,12,FALSE),0)","v":0},0]
[null,null,null,null,null,null,null,null,null,null,null,null,null,null,null,null,null,null,null,null,null,null,null,null,null,null,null,null,null,null,null,null,null,null,null,null,null,null,null,null,null,null,null,null,null,null,null,null,null,null,0,"","",{"$f":"IFERROR(VLOOKUP(AY330,'EmpGenInfo(ESS1P)'!$A$6:$AC$390,3,FALSE),0)","v":0},{"$f":"IFERROR(VLOOKUP(AY330,'EmpGenInfo(ESS1P)'!$A$6:$AC$390,12,FALSE),0)","v":0},0]
[null,null,null,null,null,null,null,null,null,null,null,null,null,null,null,null,null,null,null,null,null,null,null,null,null,null,null,null,null,null,null,null,null,null,null,null,null,null,null,null,null,null,null,null,null,null,null,null,null,null,0,"","",{"$f":"IFERROR(VLOOKUP(AY331,'EmpGenInfo(ESS1P)'!$A$6:$AC$390,3,FALSE),0)","v":0},{"$f":"IFERROR(VLOOKUP(AY331,'EmpGenInfo(ESS1P)'!$A$6:$AC$390,12,FALSE),0)","v":0},0]
[null,null,null,null,null,null,null,null,null,null,null,null,null,null,null,null,null,null,null,null,null,null,null,null,null,null,null,null,null,null,null,null,null,null,null,null,null,null,null,null,null,null,null,null,null,null,null,null,null,null,0,"","",{"$f":"IFERROR(VLOOKUP(AY332,'EmpGenInfo(ESS1P)'!$A$6:$AC$390,3,FALSE),0)","v":0},{"$f":"IFERROR(VLOOKUP(AY332,'EmpGenInfo(ESS1P)'!$A$6:$AC$390,12,FALSE),0)","v":0},0]
[null,null,null,null,null,null,null,null,null,null,null,null,null,null,null,null,null,null,null,null,null,null,null,null,null,null,null,null,null,null,null,null,null,null,null,null,null,null,null,null,null,null,null,null,null,null,null,null,null,null,0,"","",{"$f":"IFERROR(VLOOKUP(AY333,'EmpGenInfo(ESS1P)'!$A$6:$AC$390,3,FALSE),0)","v":0},{"$f":"IFERROR(VLOOKUP(AY333,'EmpGenInfo(ESS1P)'!$A$6:$AC$390,12,FALSE),0)","v":0},0]
[null,null,null,null,null,null,null,null,null,null,null,null,null,null,null,null,null,null,null,null,null,null,null,null,null,null,null,null,null,null,null,null,null,null,null,null,null,null,null,null,null,null,null,null,null,null,null,null,null,null,0,"","",{"$f":"IFERROR(VLOOKUP(AY334,'EmpGenInfo(ESS1P)'!$A$6:$AC$390,3,FALSE),0)","v":0},{"$f":"IFERROR(VLOOKUP(AY334,'EmpGenInfo(ESS1P)'!$A$6:$AC$390,12,FALSE),0)","v":0},0]
[null,null,null,null,null,null,null,null,null,null,null,null,null,null,null,null,null,null,null,null,null,null,null,null,null,null,null,null,null,null,null,null,null,null,null,null,null,null,null,null,null,null,null,null,null,null,null,null,null,null,0,"","",{"$f":"IFERROR(VLOOKUP(AY335,'EmpGenInfo(ESS1P)'!$A$6:$AC$390,3,FALSE),0)","v":0},{"$f":"IFERROR(VLOOKUP(AY335,'EmpGenInfo(ESS1P)'!$A$6:$AC$390,12,FALSE),0)","v":0},0]
[null,null,null,null,null,null,null,null,null,null,null,null,null,null,null,null,null,null,null,null,null,null,null,null,null,null,null,null,null,null,null,null,null,null,null,null,null,null,null,null,null,null,null,null,null,null,null,null,null,null,0,"","",{"$f":"IFERROR(VLOOKUP(AY336,'EmpGenInfo(ESS1P)'!$A$6:$AC$390,3,FALSE),0)","v":0},{"$f":"IFERROR(VLOOKUP(AY336,'EmpGenInfo(ESS1P)'!$A$6:$AC$390,12,FALSE),0)","v":0},0]
[null,null,null,null,null,null,null,null,null,null,null,null,null,null,null,null,null,null,null,null,null,null,null,null,null,null,null,null,null,null,null,null,null,null,null,null,null,null,null,null,null,null,null,null,null,null,null,null,null,null,0,"","",{"$f":"IFERROR(VLOOKUP(AY337,'EmpGenInfo(ESS1P)'!$A$6:$AC$390,3,FALSE),0)","v":0},{"$f":"IFERROR(VLOOKUP(AY337,'EmpGenInfo(ESS1P)'!$A$6:$AC$390,12,FALSE),0)","v":0},0]
[null,null,null,null,null,null,null,null,null,null,null,null,null,null,null,null,null,null,null,null,null,null,null,null,null,null,null,null,null,null,null,null,null,null,null,null,null,null,null,null,null,null,null,null,null,null,null,null,null,null,0,"","",{"$f":"IFERROR(VLOOKUP(AY338,'EmpGenInfo(ESS1P)'!$A$6:$AC$390,3,FALSE),0)","v":0},{"$f":"IFERROR(VLOOKUP(AY338,'EmpGenInfo(ESS1P)'!$A$6:$AC$390,12,FALSE),0)","v":0},0]
[null,null,null,null,null,null,null,null,null,null,null,null,null,null,null,null,null,null,null,null,null,null,null,null,null,null,null,null,null,null,null,null,null,null,null,null,null,null,null,null,null,null,null,null,null,null,null,null,null,null,0,"","",{"$f":"IFERROR(VLOOKUP(AY339,'EmpGenInfo(ESS1P)'!$A$6:$AC$390,3,FALSE),0)","v":0},{"$f":"IFERROR(VLOOKUP(AY339,'EmpGenInfo(ESS1P)'!$A$6:$AC$390,12,FALSE),0)","v":0},0]
[null,null,null,null,null,null,null,null,null,null,null,null,null,null,null,null,null,null,null,null,null,null,null,null,null,null,null,null,null,null,null,null,null,null,null,null,null,null,null,null,null,null,null,null,null,null,null,null,null,null,0,"","",{"$f":"IFERROR(VLOOKUP(AY340,'EmpGenInfo(ESS1P)'!$A$6:$AC$390,3,FALSE),0)","v":0},{"$f":"IFERROR(VLOOKUP(AY340,'EmpGenInfo(ESS1P)'!$A$6:$AC$390,12,FALSE),0)","v":0},0]
[null,null,null,null,null,null,null,null,null,null,null,null,null,null,null,null,null,null,null,null,null,null,null,null,null,null,null,null,null,null,null,null,null,null,null,null,null,null,null,null,null,null,null,null,null,null,null,null,null,null,0,"","",{"$f":"IFERROR(VLOOKUP(AY341,'EmpGenInfo(ESS1P)'!$A$6:$AC$390,3,FALSE),0)","v":0},{"$f":"IFERROR(VLOOKUP(AY341,'EmpGenInfo(ESS1P)'!$A$6:$AC$390,12,FALSE),0)","v":0},0]
[null,null,null,null,null,null,null,null,null,null,null,null,null,null,null,null,null,null,null,null,null,null,null,null,null,null,null,null,null,null,null,null,null,null,null,null,null,null,null,null,null,null,null,null,null,null,null,null,null,null,0,"","",{"$f":"IFERROR(VLOOKUP(AY342,'EmpGenInfo(ESS1P)'!$A$6:$AC$390,3,FALSE),0)","v":0},{"$f":"IFERROR(VLOOKUP(AY342,'EmpGenInfo(ESS1P)'!$A$6:$AC$390,12,FALSE),0)","v":0},0]
[null,null,null,null,null,null,null,null,null,null,null,null,null,null,null,null,null,null,null,null,null,null,null,null,null,null,null,null,null,null,null,null,null,null,null,null,null,null,null,null,null,null,null,null,null,null,null,null,null,null,0,"","",{"$f":"IFERROR(VLOOKUP(AY343,'EmpGenInfo(ESS1P)'!$A$6:$AC$390,3,FALSE),0)","v":0},{"$f":"IFERROR(VLOOKUP(AY343,'EmpGenInfo(ESS1P)'!$A$6:$AC$390,12,FALSE),0)","v":0},0]
[null,null,null,null,null,null,null,null,null,null,null,null,null,null,null,null,null,null,null,null,null,null,null,null,null,null,null,null,null,null,null,null,null,null,null,null,null,null,null,null,null,null,null,null,null,null,null,null,null,null,0,"","",{"$f":"IFERROR(VLOOKUP(AY344,'EmpGenInfo(ESS1P)'!$A$6:$AC$390,3,FALSE),0)","v":0},{"$f":"IFERROR(VLOOKUP(AY344,'EmpGenInfo(ESS1P)'!$A$6:$AC$390,12,FALSE),0)","v":0},0]
[null,null,null,null,null,null,null,null,null,null,null,null,null,null,null,null,null,null,null,null,null,null,null,null,null,null,null,null,null,null,null,null,null,null,null,null,null,null,null,null,null,null,null,null,null,null,null,null,null,null,0,"","",{"$f":"IFERROR(VLOOKUP(AY345,'EmpGenInfo(ESS1P)'!$A$6:$AC$390,3,FALSE),0)","v":0},{"$f":"IFERROR(VLOOKUP(AY345,'EmpGenInfo(ESS1P)'!$A$6:$AC$390,12,FALSE),0)","v":0},0]
[null,null,null,null,null,null,null,null,null,null,null,null,null,null,null,null,null,null,null,null,null,null,null,null,null,null,null,null,null,null,null,null,null,null,null,null,null,null,null,null,null,null,null,null,null,null,null,null,null,null,0,"","",{"$f":"IFERROR(VLOOKUP(AY346,'EmpGenInfo(ESS1P)'!$A$6:$AC$390,3,FALSE),0)","v":0},{"$f":"IFERROR(VLOOKUP(AY346,'EmpGenInfo(ESS1P)'!$A$6:$AC$390,12,FALSE),0)","v":0},0]
[null,null,null,null,null,null,null,null,null,null,null,null,null,null,null,null,null,null,null,null,null,null,null,null,null,null,null,null,null,null,null,null,null,null,null,null,null,null,null,null,null,null,null,null,null,null,null,null,null,null,0,"","",{"$f":"IFERROR(VLOOKUP(AY347,'EmpGenInfo(ESS1P)'!$A$6:$AC$390,3,FALSE),0)","v":0},{"$f":"IFERROR(VLOOKUP(AY347,'EmpGenInfo(ESS1P)'!$A$6:$AC$390,12,FALSE),0)","v":0},0]
[null,null,null,null,null,null,null,null,null,null,null,null,null,null,null,null,null,null,null,null,null,null,null,null,null,null,null,null,null,null,null,null,null,null,null,null,null,null,null,null,null,null,null,null,null,null,null,null,null,null,0,"","",{"$f":"IFERROR(VLOOKUP(AY348,'EmpGenInfo(ESS1P)'!$A$6:$AC$390,3,FALSE),0)","v":0},{"$f":"IFERROR(VLOOKUP(AY348,'EmpGenInfo(ESS1P)'!$A$6:$AC$390,12,FALSE),0)","v":0},0]
[null,null,null,null,null,null,null,null,null,null,null,null,null,null,null,null,null,null,null,null,null,null,null,null,null,null,null,null,null,null,null,null,null,null,null,null,null,null,null,null,null,null,null,null,null,null,null,null,null,null,0,"","",{"$f":"IFERROR(VLOOKUP(AY349,'EmpGenInfo(ESS1P)'!$A$6:$AC$390,3,FALSE),0)","v":0},{"$f":"IFERROR(VLOOKUP(AY349,'EmpGenInfo(ESS1P)'!$A$6:$AC$390,12,FALSE),0)","v":0},0]
[null,null,null,null,null,null,null,null,null,null,null,null,null,null,null,null,null,null,null,null,null,null,null,null,null,null,null,null,null,null,null,null,null,null,null,null,null,null,null,null,null,null,null,null,null,null,null,null,null,null,0,"","",{"$f":"IFERROR(VLOOKUP(AY350,'EmpGenInfo(ESS1P)'!$A$6:$AC$390,3,FALSE),0)","v":0},{"$f":"IFERROR(VLOOKUP(AY350,'EmpGenInfo(ESS1P)'!$A$6:$AC$390,12,FALSE),0)","v":0},0]
[null,null,null,null,null,null,null,null,null,null,null,null,null,null,null,null,null,null,null,null,null,null,null,null,null,null,null,null,null,null,null,null,null,null,null,null,null,null,null,null,null,null,null,null,null,null,null,null,null,null,0,"","",{"$f":"IFERROR(VLOOKUP(AY351,'EmpGenInfo(ESS1P)'!$A$6:$AC$390,3,FALSE),0)","v":0},{"$f":"IFERROR(VLOOKUP(AY351,'EmpGenInfo(ESS1P)'!$A$6:$AC$390,12,FALSE),0)","v":0},0]
[null,null,null,null,null,null,null,null,null,null,null,null,null,null,null,null,null,null,null,null,null,null,null,null,null,null,null,null,null,null,null,null,null,null,null,null,null,null,null,null,null,null,null,null,null,null,null,null,null,null,0,"","",{"$f":"IFERROR(VLOOKUP(AY352,'EmpGenInfo(ESS1P)'!$A$6:$AC$390,3,FALSE),0)","v":0},{"$f":"IFERROR(VLOOKUP(AY352,'EmpGenInfo(ESS1P)'!$A$6:$AC$390,12,FALSE),0)","v":0},0]
[null,null,null,null,null,null,null,null,null,null,null,null,null,null,null,null,null,null,null,null,null,null,null,null,null,null,null,null,null,null,null,null,null,null,null,null,null,null,null,null,null,null,null,null,null,null,null,null,null,null,0,"","",{"$f":"IFERROR(VLOOKUP(AY353,'EmpGenInfo(ESS1P)'!$A$6:$AC$390,3,FALSE),0)","v":0},{"$f":"IFERROR(VLOOKUP(AY353,'EmpGenInfo(ESS1P)'!$A$6:$AC$390,12,FALSE),0)","v":0},0]
[null,null,null,null,null,null,null,null,null,null,null,null,null,null,null,null,null,null,null,null,null,null,null,null,null,null,null,null,null,null,null,null,null,null,null,null,null,null,null,null,null,null,null,null,null,null,null,null,null,null,0,"","",{"$f":"IFERROR(VLOOKUP(AY354,'EmpGenInfo(ESS1P)'!$A$6:$AC$390,3,FALSE),0)","v":0},{"$f":"IFERROR(VLOOKUP(AY354,'EmpGenInfo(ESS1P)'!$A$6:$AC$390,12,FALSE),0)","v":0},0]
[null,null,null,null,null,null,null,null,null,null,null,null,null,null,null,null,null,null,null,null,null,null,null,null,null,null,null,null,null,null,null,null,null,null,null,null,null,null,null,null,null,null,null,null,null,null,null,null,null,null,0,"","",{"$f":"IFERROR(VLOOKUP(AY355,'EmpGenInfo(ESS1P)'!$A$6:$AC$390,3,FALSE),0)","v":0},{"$f":"IFERROR(VLOOKUP(AY355,'EmpGenInfo(ESS1P)'!$A$6:$AC$390,12,FALSE),0)","v":0},0]
[null,null,null,null,null,null,null,null,null,null,null,null,null,null,null,null,null,null,null,null,null,null,null,null,null,null,null,null,null,null,null,null,null,null,null,null,null,null,null,null,null,null,null,null,null,null,null,null,null,null,0,"","",{"$f":"IFERROR(VLOOKUP(AY356,'EmpGenInfo(ESS1P)'!$A$6:$AC$390,3,FALSE),0)","v":0},{"$f":"IFERROR(VLOOKUP(AY356,'EmpGenInfo(ESS1P)'!$A$6:$AC$390,12,FALSE),0)","v":0},0]
[null,null,null,null,null,null,null,null,null,null,null,null,null,null,null,null,null,null,null,null,null,null,null,null,null,null,null,null,null,null,null,null,null,null,null,null,null,null,null,null,null,null,null,null,null,null,null,null,null,null,0,"","",{"$f":"IFERROR(VLOOKUP(AY357,'EmpGenInfo(ESS1P)'!$A$6:$AC$390,3,FALSE),0)","v":0},{"$f":"IFERROR(VLOOKUP(AY357,'EmpGenInfo(ESS1P)'!$A$6:$AC$390,12,FALSE),0)","v":0},0]
[null,null,null,null,null,null,null,null,null,null,null,null,null,null,null,null,null,null,null,null,null,null,null,null,null,null,null,null,null,null,null,null,null,null,null,null,null,null,null,null,null,null,null,null,null,null,null,null,null,null,0,"","",{"$f":"IFERROR(VLOOKUP(AY358,'EmpGenInfo(ESS1P)'!$A$6:$AC$390,3,FALSE),0)","v":0},{"$f":"IFERROR(VLOOKUP(AY358,'EmpGenInfo(ESS1P)'!$A$6:$AC$390,12,FALSE),0)","v":0},0]
[null,null,null,null,null,null,null,null,null,null,null,null,null,null,null,null,null,null,null,null,null,null,null,null,null,null,null,null,null,null,null,null,null,null,null,null,null,null,null,null,null,null,null,null,null,null,null,null,null,null,0,"","",{"$f":"IFERROR(VLOOKUP(AY359,'EmpGenInfo(ESS1P)'!$A$6:$AC$390,3,FALSE),0)","v":0},{"$f":"IFERROR(VLOOKUP(AY359,'EmpGenInfo(ESS1P)'!$A$6:$AC$390,12,FALSE),0)","v":0},0]
[null,null,null,null,null,null,null,null,null,null,null,null,null,null,null,null,null,null,null,null,null,null,null,null,null,null,null,null,null,null,null,null,null,null,null,null,null,null,null,null,null,null,null,null,null,null,null,null,null,null,0,"","",{"$f":"IFERROR(VLOOKUP(AY360,'EmpGenInfo(ESS1P)'!$A$6:$AC$390,3,FALSE),0)","v":0},{"$f":"IFERROR(VLOOKUP(AY360,'EmpGenInfo(ESS1P)'!$A$6:$AC$390,12,FALSE),0)","v":0},0]
[null,null,null,null,null,null,null,null,null,null,null,null,null,null,null,null,null,null,null,null,null,null,null,null,null,null,null,null,null,null,null,null,null,null,null,null,null,null,null,null,null,null,null,null,null,null,null,null,null,null,0,"","",{"$f":"IFERROR(VLOOKUP(AY361,'EmpGenInfo(ESS1P)'!$A$6:$AC$390,3,FALSE),0)","v":0},{"$f":"IFERROR(VLOOKUP(AY361,'EmpGenInfo(ESS1P)'!$A$6:$AC$390,12,FALSE),0)","v":0},0]
[null,null,null,null,null,null,null,null,null,null,null,null,null,null,null,null,null,null,null,null,null,null,null,null,null,null,null,null,null,null,null,null,null,null,null,null,null,null,null,null,null,null,null,null,null,null,null,null,null,null,0,"","",{"$f":"IFERROR(VLOOKUP(AY362,'EmpGenInfo(ESS1P)'!$A$6:$AC$390,3,FALSE),0)","v":0},{"$f":"IFERROR(VLOOKUP(AY362,'EmpGenInfo(ESS1P)'!$A$6:$AC$390,12,FALSE),0)","v":0},0]
[null,null,null,null,null,null,null,null,null,null,null,null,null,null,null,null,null,null,null,null,null,null,null,null,null,null,null,null,null,null,null,null,null,null,null,null,null,null,null,null,null,null,null,null,null,null,null,null,null,null,0,"","",{"$f":"IFERROR(VLOOKUP(AY363,'EmpGenInfo(ESS1P)'!$A$6:$AC$390,3,FALSE),0)","v":0},{"$f":"IFERROR(VLOOKUP(AY363,'EmpGenInfo(ESS1P)'!$A$6:$AC$390,12,FALSE),0)","v":0},0]
[null,null,null,null,null,null,null,null,null,null,null,null,null,null,null,null,null,null,null,null,null,null,null,null,null,null,null,null,null,null,null,null,null,null,null,null,null,null,null,null,null,null,null,null,null,null,null,null,null,null,0,"","",{"$f":"IFERROR(VLOOKUP(AY364,'EmpGenInfo(ESS1P)'!$A$6:$AC$390,3,FALSE),0)","v":0},{"$f":"IFERROR(VLOOKUP(AY364,'EmpGenInfo(ESS1P)'!$A$6:$AC$390,12,FALSE),0)","v":0},0]
[null,null,null,null,null,null,null,null,null,null,null,null,null,null,null,null,null,null,null,null,null,null,null,null,null,null,null,null,null,null,null,null,null,null,null,null,null,null,null,null,null,null,null,null,null,null,null,null,null,null,{"$f":"S365","v":0},{"$f":"IFERROR(RIGHT(V365,LEN(V365)-FIND(\" \",V365)),\"\")","v":""},{"$f":"IFERROR(LEFT(V365,FIND(\" \",V365,1)-1),\"\")","v":""},{"$f":"IFERROR(VLOOKUP(AY365,'EmpGenInfo(ESS1P)'!$A$6:$AC$390,3,FALSE),0)","v":0},{"$f":"IFERROR(VLOOKUP(AY365,'EmpGenInfo(ESS1P)'!$A$6:$AC$390,12,FALSE),0)","v":0},{"$f":"AP365*100/15","v":0}]
[null,null,null,null,null,null,null,null,null,null,null,null,null,null,null,null,null,null,null,null,null,null,null,null,null,null,null,null,null,null,null,null,null,null,null,null,null,null,null,null,null,null,null,null,null,null,null,null,null,null,0,"","",{"$f":"IFERROR(VLOOKUP(AY366,'EmpGenInfo(ESS1P)'!$A$6:$AC$390,3,FALSE),0)","v":0},{"$f":"IFERROR(VLOOKUP(AY366,'EmpGenInfo(ESS1P)'!$A$6:$AC$390,12,FALSE),0)","v":0},0]
[null,null,null,null,null,null,null,null,null,null,null,null,null,null,null,null,null,null,null,null,null,null,null,null,null,null,null,null,null,null,null,null,null,null,null,null,null,null,null,null,null,null,null,null,null,null,null,null,null,null,0,"","",{"$f":"IFERROR(VLOOKUP(AY367,'EmpGenInfo(ESS1P)'!$A$6:$AC$390,3,FALSE),0)","v":0},{"$f":"IFERROR(VLOOKUP(AY367,'EmpGenInfo(ESS1P)'!$A$6:$AC$390,12,FALSE),0)","v":0},0]
[null,null,null,null,null,null,null,null,null,null,null,null,null,null,null,null,null,null,null,null,null,null,null,null,null,null,null,null,null,null,null,null,null,null,null,null,null,null,null,null,null,null,null,null,null,null,null,null,null,null,0,"","",{"$f":"IFERROR(VLOOKUP(AY368,'EmpGenInfo(ESS1P)'!$A$6:$AC$390,3,FALSE),0)","v":0},{"$f":"IFERROR(VLOOKUP(AY368,'EmpGenInfo(ESS1P)'!$A$6:$AC$390,12,FALSE),0)","v":0},0]
[null,null,null,null,null,null,null,null,null,null,null,null,null,null,null,null,null,null,null,null,null,null,null,null,null,null,null,null,null,null,null,null,null,null,null,null,null,null,null,null,null,null,null,null,null,null,null,null,null,null,0,"","",{"$f":"IFERROR(VLOOKUP(AY369,'EmpGenInfo(ESS1P)'!$A$6:$AC$390,3,FALSE),0)","v":0},{"$f":"IFERROR(VLOOKUP(AY369,'EmpGenInfo(ESS1P)'!$A$6:$AC$390,12,FALSE),0)","v":0},0]
[null,null,null,null,null,null,null,null,null,null,null,null,null,null,null,null,null,null,null,null,null,null,null,null,null,null,null,null,null,null,null,null,null,null,null,null,null,null,null,null,null,null,null,null,null,null,null,null,null,null,0,"","",{"$f":"IFERROR(VLOOKUP(AY370,'EmpGenInfo(ESS1P)'!$A$6:$AC$390,3,FALSE),0)","v":0},{"$f":"IFERROR(VLOOKUP(AY370,'EmpGenInfo(ESS1P)'!$A$6:$AC$390,12,FALSE),0)","v":0},0]
[null,null,null,null,null,null,null,null,null,null,null,null,null,null,null,null,null,null,null,null,null,null,null,null,null,null,null,null,null,null,null,null,null,null,null,null,null,null,null,null,null,null,null,null,null,null,null,null,null,null,0,"","",{"$f":"IFERROR(VLOOKUP(AY371,'EmpGenInfo(ESS1P)'!$A$6:$AC$390,3,FALSE),0)","v":0},{"$f":"IFERROR(VLOOKUP(AY371,'EmpGenInfo(ESS1P)'!$A$6:$AC$390,12,FALSE),0)","v":0},0]
[null,null,null,null,null,null,null,null,null,null,null,null,null,null,null,null,null,null,null,null,null,null,null,null,null,null,null,null,null,null,null,null,null,null,null,null,null,null,null,null,null,null,null,null,null,null,null,null,null,null,0,"","",{"$f":"IFERROR(VLOOKUP(AY372,'EmpGenInfo(ESS1P)'!$A$6:$AC$390,3,FALSE),0)","v":0},{"$f":"IFERROR(VLOOKUP(AY372,'EmpGenInfo(ESS1P)'!$A$6:$AC$390,12,FALSE),0)","v":0},0]
[null,null,null,null,null,null,null,null,null,null,null,null,null,null,null,null,null,null,null,null,null,null,null,null,null,null,null,null,null,null,null,null,null,null,null,null,null,null,null,null,null,null,null,null,null,null,null,null,null,null,0,"","",{"$f":"IFERROR(VLOOKUP(AY373,'EmpGenInfo(ESS1P)'!$A$6:$AC$390,3,FALSE),0)","v":0},{"$f":"IFERROR(VLOOKUP(AY373,'EmpGenInfo(ESS1P)'!$A$6:$AC$390,12,FALSE),0)","v":0},0]
[null,null,null,null,null,null,null,null,null,null,null,null,null,null,null,null,null,null,null,null,null,null,null,null,null,null,null,null,null,null,null,null,null,null,null,null,null,null,null,null,null,null,null,null,null,null,null,null,null,null,0,"","",{"$f":"IFERROR(VLOOKUP(AY374,'EmpGenInfo(ESS1P)'!$A$6:$AC$390,3,FALSE),0)","v":0},{"$f":"IFERROR(VLOOKUP(AY374,'EmpGenInfo(ESS1P)'!$A$6:$AC$390,12,FALSE),0)","v":0},0]
[null,null,null,null,null,null,null,null,null,null,null,null,null,null,null,null,null,null,null,null,null,null,null,null,null,null,null,null,null,null,null,null,null,null,null,null,null,null,null,null,null,null,null,null,null,null,null,null,null,null,0,"","",{"$f":"IFERROR(VLOOKUP(AY375,'EmpGenInfo(ESS1P)'!$A$6:$AC$390,3,FALSE),0)","v":0},{"$f":"IFERROR(VLOOKUP(AY375,'EmpGenInfo(ESS1P)'!$A$6:$AC$390,12,FALSE),0)","v":0},0]
[null,null,null,null,null,null,null,null,null,null,null,null,null,null,null,null,null,null,null,null,null,null,null,null,null,null,null,null,null,null,null,null,null,null,null,null,null,null,null,null,null,null,null,null,null,null,null,null,null,null,0,"","",{"$f":"IFERROR(VLOOKUP(AY376,'EmpGenInfo(ESS1P)'!$A$6:$AC$390,3,FALSE),0)","v":0},{"$f":"IFERROR(VLOOKUP(AY376,'EmpGenInfo(ESS1P)'!$A$6:$AC$390,12,FALSE),0)","v":0},0]
[null,null,null,null,null,null,null,null,null,null,null,null,null,null,null,null,null,null,null,null,null,null,null,null,null,null,null,null,null,null,null,null,null,null,null,null,null,null,null,null,null,null,null,null,null,null,null,null,null,null,0,"","",{"$f":"IFERROR(VLOOKUP(AY377,'EmpGenInfo(ESS1P)'!$A$6:$AC$390,3,FALSE),0)","v":0},{"$f":"IFERROR(VLOOKUP(AY377,'EmpGenInfo(ESS1P)'!$A$6:$AC$390,12,FALSE),0)","v":0},0]
[null,null,null,null,null,null,null,null,null,null,null,null,null,null,null,null,null,null,null,null,null,null,null,null,null,null,null,null,null,null,null,null,null,null,null,null,null,null,null,null,null,null,null,null,null,null,null,null,null,null,0,"","",{"$f":"IFERROR(VLOOKUP(AY378,'EmpGenInfo(ESS1P)'!$A$6:$AC$390,3,FALSE),0)","v":0},{"$f":"IFERROR(VLOOKUP(AY378,'EmpGenInfo(ESS1P)'!$A$6:$AC$390,12,FALSE),0)","v":0},0]
[null,null,null,null,null,null,null,null,null,null,null,null,null,null,null,null,null,null,null,null,null,null,null,null,null,null,null,null,null,null,null,null,null,null,null,null,null,null,null,null,null,null,null,null,null,null,null,null,null,null,0,"","",{"$f":"IFERROR(VLOOKUP(AY379,'EmpGenInfo(ESS1P)'!$A$6:$AC$390,3,FALSE),0)","v":0},{"$f":"IFERROR(VLOOKUP(AY379,'EmpGenInfo(ESS1P)'!$A$6:$AC$390,12,FALSE),0)","v":0},0]
[null,null,null,null,null,null,null,null,null,null,null,null,null,null,null,null,null,null,null,null,null,null,null,null,null,null,null,null,null,null,null,null,null,null,null,null,null,null,null,null,null,null,null,null,null,null,null,null,null,null,0,"","",{"$f":"IFERROR(VLOOKUP(AY380,'EmpGenInfo(ESS1P)'!$A$6:$AC$390,3,FALSE),0)","v":0},{"$f":"IFERROR(VLOOKUP(AY380,'EmpGenInfo(ESS1P)'!$A$6:$AC$390,12,FALSE),0)","v":0},0]
[null,null,null,null,null,null,null,null,null,null,null,null,null,null,null,null,null,null,null,null,null,null,null,null,null,null,null,null,null,null,null,null,null,null,null,null,null,null,null,null,null,null,null,null,null,null,null,null,null,null,0,"","",{"$f":"IFERROR(VLOOKUP(AY381,'EmpGenInfo(ESS1P)'!$A$6:$AC$390,3,FALSE),0)","v":0},{"$f":"IFERROR(VLOOKUP(AY381,'EmpGenInfo(ESS1P)'!$A$6:$AC$390,12,FALSE),0)","v":0},0]
[null,null,null,null,null,null,null,null,null,null,null,null,null,null,null,null,null,null,null,null,null,null,null,null,null,null,null,null,null,null,null,null,null,null,null,null,null,null,null,null,null,null,null,null,null,null,null,null,null,null,0,"","",{"$f":"IFERROR(VLOOKUP(AY382,'EmpGenInfo(ESS1P)'!$A$6:$AC$390,3,FALSE),0)","v":0},{"$f":"IFERROR(VLOOKUP(AY382,'EmpGenInfo(ESS1P)'!$A$6:$AC$390,12,FALSE),0)","v":0},0]
[null,null,null,null,null,null,null,null,null,null,null,null,null,null,null,null,null,null,null,null,null,null,null,null,null,null,null,null,null,null,null,null,null,null,null,null,null,null,null,null,null,null,null,null,null,null,null,null,null,null,0,"","",{"$f":"IFERROR(VLOOKUP(AY383,'EmpGenInfo(ESS1P)'!$A$6:$AC$390,3,FALSE),0)","v":0},{"$f":"IFERROR(VLOOKUP(AY383,'EmpGenInfo(ESS1P)'!$A$6:$AC$390,12,FALSE),0)","v":0},0]
[null,null,null,null,null,null,null,null,null,null,null,null,null,null,null,null,null,null,null,null,null,null,null,null,null,null,null,null,null,null,null,null,null,null,null,null,null,null,null,null,null,null,null,null,null,null,null,null,null,null,0,"","",{"$f":"IFERROR(VLOOKUP(AY384,'EmpGenInfo(ESS1P)'!$A$6:$AC$390,3,FALSE),0)","v":0},{"$f":"IFERROR(VLOOKUP(AY384,'EmpGenInfo(ESS1P)'!$A$6:$AC$390,12,FALSE),0)","v":0},0]
[null,null,null,null,null,null,null,null,null,null,null,null,null,null,null,null,null,null,null,null,null,null,null,null,null,null,null,null,null,null,null,null,null,null,null,null,null,null,null,null,null,null,null,null,null,null,null,null,null,null,0,"","",{"$f":"IFERROR(VLOOKUP(AY385,'EmpGenInfo(ESS1P)'!$A$6:$AC$390,3,FALSE),0)","v":0},{"$f":"IFERROR(VLOOKUP(AY385,'EmpGenInfo(ESS1P)'!$A$6:$AC$390,12,FALSE),0)","v":0},0]
[null,null,null,null,null,null,null,null,null,null,null,null,null,null,null,null,null,null,null,null,null,null,null,null,null,null,null,null,null,null,null,null,null,null,null,null,null,null,null,null,null,null,null,null,null,null,null,null,null,null,0,"","",{"$f":"IFERROR(VLOOKUP(AY386,'EmpGenInfo(ESS1P)'!$A$6:$AC$390,3,FALSE),0)","v":0},{"$f":"IFERROR(VLOOKUP(AY386,'EmpGenInfo(ESS1P)'!$A$6:$AC$390,12,FALSE),0)","v":0},0]
[null,null,null,null,null,null,null,null,null,null,null,null,null,null,null,null,null,null,null,null,null,null,null,null,null,null,null,null,null,null,null,null,null,null,null,null,null,null,null,null,null,null,null,null,null,null,null,null,null,null,0,"","",{"$f":"IFERROR(VLOOKUP(AY387,'EmpGenInfo(ESS1P)'!$A$6:$AC$390,3,FALSE),0)","v":0},{"$f":"IFERROR(VLOOKUP(AY387,'EmpGenInfo(ESS1P)'!$A$6:$AC$390,12,FALSE),0)","v":0},0]
[null,null,null,null,null,null,null,null,null,null,null,null,null,null,null,null,null,null,null,null,null,null,null,null,null,null,null,null,null,null,null,null,null,null,null,null,null,null,null,null,null,null,null,null,null,null,null,null,null,null,0,"","",{"$f":"IFERROR(VLOOKUP(AY388,'EmpGenInfo(ESS1P)'!$A$6:$AC$390,3,FALSE),0)","v":0},{"$f":"IFERROR(VLOOKUP(AY388,'EmpGenInfo(ESS1P)'!$A$6:$AC$390,12,FALSE),0)","v":0},0]
[null,null,null,null,null,null,null,null,null,null,null,null,null,null,null,null,null,null,null,null,null,null,null,null,null,null,null,null,null,null,null,null,null,null,null,null,null,null,null,null,null,null,null,null,null,null,null,null,null,null,0,"","",{"$f":"IFERROR(VLOOKUP(AY389,'EmpGenInfo(ESS1P)'!$A$6:$AC$390,3,FALSE),0)","v":0},{"$f":"IFERROR(VLOOKUP(AY389,'EmpGenInfo(ESS1P)'!$A$6:$AC$390,12,FALSE),0)","v":0},0]
[null,null,null,null,null,null,null,null,null,null,null,null,null,null,null,null,null,null,null,null,null,null,null,null,null,null,null,null,null,null,null,null,null,null,null,null,null,null,null,null,null,null,null,null,null,null,null,null,null,null,0,"","",{"$f":"IFERROR(VLOOKUP(AY390,'EmpGenInfo(ESS1P)'!$A$6:$AC$390,3,FALSE),0)","v":0},{"$f":"IFERROR(VLOOKUP(AY390,'EmpGenInfo(ESS1P)'!$A$6:$AC$390,12,FALSE),0)","v":0},0]
[null,null,null,null,null,null,null,null,null,null,null,null,null,null,null,null,null,null,null,null,null,null,null,null,null,null,null,null,null,null,null,null,null,null,null,null,null,null,null,null,null,null,null,null,null,null,null,null,null,null,0,"","",{"$f":"IFERROR(VLOOKUP(AY391,'EmpGenInfo(ESS1P)'!$A$6:$AC$390,3,FALSE),0)","v":0},{"$f":"IFERROR(VLOOKUP(AY391,'EmpGenInfo(ESS1P)'!$A$6:$AC$390,12,FALSE),0)","v":0},0]
[null,null,null,null,null,null,null,null,null,null,null,null,null,null,null,null,null,null,null,null,null,null,null,null,null,null,null,null,null,null,null,null,null,null,null,null,null,null,null,null,null,null,null,null,null,null,null,null,null,null,0,"","",{"$f":"IFERROR(VLOOKUP(AY392,'EmpGenInfo(ESS1P)'!$A$6:$AC$390,3,FALSE),0)","v":0},{"$f":"IFERROR(VLOOKUP(AY392,'EmpGenInfo(ESS1P)'!$A$6:$AC$390,12,FALSE),0)","v":0},0]
[null,null,null,null,null,null,null,null,null,null,null,null,null,null,null,null,null,null,null,null,null,null,null,null,null,null,null,null,null,null,null,null,null,null,null,null,null,null,null,null,null,null,null,null,null,null,null,null,null,null,0,"","",{"$f":"IFERROR(VLOOKUP(AY393,'EmpGenInfo(ESS1P)'!$A$6:$AC$390,3,FALSE),0)","v":0},{"$f":"IFERROR(VLOOKUP(AY393,'EmpGenInfo(ESS1P)'!$A$6:$AC$390,12,FALSE),0)","v":0},0]
[null,null,null,null,null,null,null,null,null,null,null,null,null,null,null,null,null,null,null,null,null,null,null,null,null,null,null,null,null,null,null,null,null,null,null,null,null,null,null,null,null,null,null,null,null,null,null,null,null,null,0,"","",{"$f":"IFERROR(VLOOKUP(AY394,'EmpGenInfo(ESS1P)'!$A$6:$AC$390,3,FALSE),0)","v":0},{"$f":"IFERROR(VLOOKUP(AY394,'EmpGenInfo(ESS1P)'!$A$6:$AC$390,12,FALSE),0)","v":0},0]
[null,null,null,null,null,null,null,null,null,null,null,null,null,null,null,null,null,null,null,null,null,null,null,null,null,null,null,null,null,null,null,null,null,null,null,null,null,null,null,null,null,null,null,null,null,null,null,null,null,null,0,"","",{"$f":"IFERROR(VLOOKUP(AY395,'EmpGenInfo(ESS1P)'!$A$6:$AC$390,3,FALSE),0)","v":0},{"$f":"IFERROR(VLOOKUP(AY395,'EmpGenInfo(ESS1P)'!$A$6:$AC$390,12,FALSE),0)","v":0},0]
[null,null,null,null,null,null,null,null,null,null,null,null,null,null,null,null,null,null,null,null,null,null,null,null,null,null,null,null,null,null,null,null,null,null,null,null,null,null,null,null,null,null,null,null,null,null,null,null,null,null,0,"","",{"$f":"IFERROR(VLOOKUP(AY396,'EmpGenInfo(ESS1P)'!$A$6:$AC$390,3,FALSE),0)","v":0},{"$f":"IFERROR(VLOOKUP(AY396,'EmpGenInfo(ESS1P)'!$A$6:$AC$390,12,FALSE),0)","v":0},0]
[null,null,null,null,null,null,null,null,null,null,null,null,null,null,null,null,null,null,null,null,null,null,null,null,null,null,null,null,null,null,null,null,null,null,null,null,null,null,null,null,null,null,null,null,null,null,null,null,null,null,0,"","",{"$f":"IFERROR(VLOOKUP(AY397,'EmpGenInfo(ESS1P)'!$A$6:$AC$390,3,FALSE),0)","v":0},{"$f":"IFERROR(VLOOKUP(AY397,'EmpGenInfo(ESS1P)'!$A$6:$AC$390,12,FALSE),0)","v":0},0]
[null,null,null,null,null,null,null,null,null,null,null,null,null,null,null,null,null,null,null,null,null,null,null,null,null,null,null,null,null,null,null,null,null,null,null,null,null,null,null,null,null,null,null,null,null,null,null,null,null,null,0,"","",{"$f":"IFERROR(VLOOKUP(AY398,'EmpGenInfo(ESS1P)'!$A$6:$AC$390,3,FALSE),0)","v":0},{"$f":"IFERROR(VLOOKUP(AY398,'EmpGenInfo(ESS1P)'!$A$6:$AC$390,12,FALSE),0)","v":0},0]
[null,null,null,null,null,null,null,null,null,null,null,null,null,null,null,null,null,null,null,null,null,null,null,null,null,null,null,null,null,null,null,null,null,null,null,null,null,null,null,null,null,null,null,null,null,null,null,null,null,null,0,"","",{"$f":"IFERROR(VLOOKUP(AY399,'EmpGenInfo(ESS1P)'!$A$6:$AC$390,3,FALSE),0)","v":0},{"$f":"IFERROR(VLOOKUP(AY399,'EmpGenInfo(ESS1P)'!$A$6:$AC$390,12,FALSE),0)","v":0},0]
[null,null,null,null,null,null,null,null,null,null,null,null,null,null,null,null,null,null,null,null,null,null,null,null,null,null,null,null,null,null,null,null,null,null,null,null,null,null,null,null,null,null,null,null,null,null,null,null,null,null,0,"","",{"$f":"IFERROR(VLOOKUP(AY400,'EmpGenInfo(ESS1P)'!$A$6:$AC$390,3,FALSE),0)","v":0},{"$f":"IFERROR(VLOOKUP(AY400,'EmpGenInfo(ESS1P)'!$A$6:$AC$390,12,FALSE),0)","v":0},0]
[null,null,null,null,null,null,null,null,null,null,null,null,null,null,null,null,null,null,null,null,null,null,null,null,null,null,null,null,null,null,null,null,null,null,null,null,null,null,null,null,null,null,null,null,null,null,null,null,null,null,0,"","",{"$f":"IFERROR(VLOOKUP(AY401,'EmpGenInfo(ESS1P)'!$A$6:$AC$390,3,FALSE),0)","v":0},{"$f":"IFERROR(VLOOKUP(AY401,'EmpGenInfo(ESS1P)'!$A$6:$AC$390,12,FALSE),0)","v":0},0]
[null,null,null,null,null,null,null,null,null,null,null,null,null,null,null,null,null,null,null,null,null,null,null,null,null,null,null,null,null,null,null,null,null,null,null,null,null,null,null,null,null,null,null,null,null,null,null,null,null,null,0,"","",{"$f":"IFERROR(VLOOKUP(AY402,'EmpGenInfo(ESS1P)'!$A$6:$AC$390,3,FALSE),0)","v":0},{"$f":"IFERROR(VLOOKUP(AY402,'EmpGenInfo(ESS1P)'!$A$6:$AC$390,12,FALSE),0)","v":0},0]
[null,null,null,null,null,null,null,null,null,null,null,null,null,null,null,null,null,null,null,null,null,null,null,null,null,null,null,null,null,null,null,null,null,null,null,null,null,null,null,null,null,null,null,null,null,null,null,null,null,null,0,"","",{"$f":"IFERROR(VLOOKUP(AY403,'EmpGenInfo(ESS1P)'!$A$6:$AC$390,3,FALSE),0)","v":0},{"$f":"IFERROR(VLOOKUP(AY403,'EmpGenInfo(ESS1P)'!$A$6:$AC$390,12,FALSE),0)","v":0},0]
[null,null,null,null,null,null,null,null,null,null,null,null,null,null,null,null,null,null,null,null,null,null,null,null,null,null,null,null,null,null,null,null,null,null,null,null,null,null,null,null,null,null,null,null,null,null,null,null,null,null,0,"","",{"$f":"IFERROR(VLOOKUP(AY404,'EmpGenInfo(ESS1P)'!$A$6:$AC$390,3,FALSE),0)","v":0},{"$f":"IFERROR(VLOOKUP(AY404,'EmpGenInfo(ESS1P)'!$A$6:$AC$390,12,FALSE),0)","v":0},0]
[null,null,null,null,null,null,null,null,null,null,null,null,null,null,null,null,null,null,null,null,null,null,null,null,null,null,null,null,null,null,null,null,null,null,null,null,null,null,null,null,null,null,null,null,null,null,null,null,null,null,0,"","",{"$f":"IFERROR(VLOOKUP(AY405,'EmpGenInfo(ESS1P)'!$A$6:$AC$390,3,FALSE),0)","v":0},{"$f":"IFERROR(VLOOKUP(AY405,'EmpGenInfo(ESS1P)'!$A$6:$AC$390,12,FALSE),0)","v":0},0]
[null,null,null,null,null,null,null,null,null,null,null,null,null,null,null,null,null,null,null,null,null,null,null,null,null,null,null,null,null,null,null,null,null,null,null,null,null,null,null,null,null,null,null,null,null,null,null,null,null,null,0,"","",{"$f":"IFERROR(VLOOKUP(AY406,'EmpGenInfo(ESS1P)'!$A$6:$AC$390,3,FALSE),0)","v":0},{"$f":"IFERROR(VLOOKUP(AY406,'EmpGenInfo(ESS1P)'!$A$6:$AC$390,12,FALSE),0)","v":0},0]
[null,null,null,null,null,null,null,null,null,null,null,null,null,null,null,null,null,null,null,null,null,null,null,null,null,null,null,null,null,null,null,null,null,null,null,null,null,null,null,null,null,null,null,null,null,null,null,null,null,null,0,"","",{"$f":"IFERROR(VLOOKUP(AY407,'EmpGenInfo(ESS1P)'!$A$6:$AC$390,3,FALSE),0)","v":0},{"$f":"IFERROR(VLOOKUP(AY407,'EmpGenInfo(ESS1P)'!$A$6:$AC$390,12,FALSE),0)","v":0},0]
[null,null,null,null,null,null,null,null,null,null,null,null,null,null,null,null,null,null,null,null,null,null,null,null,null,null,null,null,null,null,null,null,null,null,null,null,null,null,null,null,null,null,null,null,null,null,null,null,null,null,0,"","",{"$f":"IFERROR(VLOOKUP(AY408,'EmpGenInfo(ESS1P)'!$A$6:$AC$390,3,FALSE),0)","v":0},{"$f":"IFERROR(VLOOKUP(AY408,'EmpGenInfo(ESS1P)'!$A$6:$AC$390,12,FALSE),0)","v":0},0]
[null,null,null,null,null,null,null,null,null,null,null,null,null,null,null,null,null,null,null,null,null,null,null,null,null,null,null,null,null,null,null,null,null,null,null,null,null,null,null,null,null,null,null,null,null,null,null,null,null,null,0,"","",{"$f":"IFERROR(VLOOKUP(AY409,'EmpGenInfo(ESS1P)'!$A$6:$AC$390,3,FALSE),0)","v":0},{"$f":"IFERROR(VLOOKUP(AY409,'EmpGenInfo(ESS1P)'!$A$6:$AC$390,12,FALSE),0)","v":0},0]
[null,null,null,null,null,null,null,null,null,null,null,null,null,null,null,null,null,null,null,null,null,null,null,null,null,null,null,null,null,null,null,null,null,null,null,null,null,null,null,null,null,null,null,null,null,null,null,null,null,null,0,"","",{"$f":"IFERROR(VLOOKUP(AY410,'EmpGenInfo(ESS1P)'!$A$6:$AC$390,3,FALSE),0)","v":0},{"$f":"IFERROR(VLOOKUP(AY410,'EmpGenInfo(ESS1P)'!$A$6:$AC$390,12,FALSE),0)","v":0},0]
[null,null,null,null,null,null,null,null,null,null,null,null,null,null,null,null,null,null,null,null,null,null,null,null,null,null,null,null,null,null,null,null,null,null,null,null,null,null,null,null,null,null,null,null,null,null,null,null,null,null,0,"","",{"$f":"IFERROR(VLOOKUP(AY411,'EmpGenInfo(ESS1P)'!$A$6:$AC$390,3,FALSE),0)","v":0},{"$f":"IFERROR(VLOOKUP(AY411,'EmpGenInfo(ESS1P)'!$A$6:$AC$390,12,FALSE),0)","v":0},0]
[null,null,null,null,null,null,null,null,null,null,null,null,null,null,null,null,null,null,null,null,null,null,null,null,null,null,null,null,null,null,null,null,null,null,null,null,null,null,null,null,null,null,null,null,null,null,null,null,null,null,0,"","",{"$f":"IFERROR(VLOOKUP(AY412,'EmpGenInfo(ESS1P)'!$A$6:$AC$390,3,FALSE),0)","v":0},{"$f":"IFERROR(VLOOKUP(AY412,'EmpGenInfo(ESS1P)'!$A$6:$AC$390,12,FALSE),0)","v":0},0]
[null,null,null,null,null,null,null,null,null,null,null,null,null,null,null,null,null,null,null,null,null,null,null,null,null,null,null,null,null,null,null,null,null,null,null,null,null,null,null,null,null,null,null,null,null,null,null,null,null,null,0,"","",{"$f":"IFERROR(VLOOKUP(AY413,'EmpGenInfo(ESS1P)'!$A$6:$AC$390,3,FALSE),0)","v":0},{"$f":"IFERROR(VLOOKUP(AY413,'EmpGenInfo(ESS1P)'!$A$6:$AC$390,12,FALSE),0)","v":0},0]
[null,null,null,null,null,null,null,null,null,null,null,null,null,null,null,null,null,null,null,null,null,null,null,null,null,null,null,null,null,null,null,null,null,null,null,null,null,null,null,null,null,null,null,null,null,null,null,null,null,null,0,"","",{"$f":"IFERROR(VLOOKUP(AY414,'EmpGenInfo(ESS1P)'!$A$6:$AC$390,3,FALSE),0)","v":0},{"$f":"IFERROR(VLOOKUP(AY414,'EmpGenInfo(ESS1P)'!$A$6:$AC$390,12,FALSE),0)","v":0},0]
[null,null,null,null,null,null,null,null,null,null,null,null,null,null,null,null,null,null,null,null,null,null,null,null,null,null,null,null,null,null,null,null,null,null,null,null,null,null,null,null,null,null,null,null,null,null,null,null,null,null,0,"","",{"$f":"IFERROR(VLOOKUP(AY415,'EmpGenInfo(ESS1P)'!$A$6:$AC$390,3,FALSE),0)","v":0},{"$f":"IFERROR(VLOOKUP(AY415,'EmpGenInfo(ESS1P)'!$A$6:$AC$390,12,FALSE),0)","v":0},0]
[null,null,null,null,null,null,null,null,null,null,null,null,null,null,null,null,null,null,null,null,null,null,null,null,null,null,null,null,null,null,null,null,null,null,null,null,null,null,null,null,null,null,null,null,null,null,null,null,null,null,0,"","",{"$f":"IFERROR(VLOOKUP(AY416,'EmpGenInfo(ESS1P)'!$A$6:$AC$390,3,FALSE),0)","v":0},{"$f":"IFERROR(VLOOKUP(AY416,'EmpGenInfo(ESS1P)'!$A$6:$AC$390,12,FALSE),0)","v":0},0]
[null,null,null,null,null,null,null,null,null,null,null,null,null,null,null,null,null,null,null,null,null,null,null,null,null,null,null,null,null,null,null,null,null,null,null,null,null,null,null,null,null,null,null,null,null,null,null,null,null,null,0,"","",{"$f":"IFERROR(VLOOKUP(AY417,'EmpGenInfo(ESS1P)'!$A$6:$AC$390,3,FALSE),0)","v":0},{"$f":"IFERROR(VLOOKUP(AY417,'EmpGenInfo(ESS1P)'!$A$6:$AC$390,12,FALSE),0)","v":0},0]
[null,null,null,null,null,null,null,null,null,null,null,null,null,null,null,null,null,null,null,null,null,null,null,null,null,null,null,null,null,null,null,null,null,null,null,null,null,null,null,null,null,null,null,null,null,null,null,null,null,null,0,"","",{"$f":"IFERROR(VLOOKUP(AY418,'EmpGenInfo(ESS1P)'!$A$6:$AC$390,3,FALSE),0)","v":0},{"$f":"IFERROR(VLOOKUP(AY418,'EmpGenInfo(ESS1P)'!$A$6:$AC$390,12,FALSE),0)","v":0},0]
[null,null,null,null,null,null,null,null,null,null,null,null,null,null,null,null,null,null,null,null,null,null,null,null,null,null,null,null,null,null,null,null,null,null,null,null,null,null,null,null,null,null,null,null,null,null,null,null,null,null,0,"","",{"$f":"IFERROR(VLOOKUP(AY419,'EmpGenInfo(ESS1P)'!$A$6:$AC$390,3,FALSE),0)","v":0},{"$f":"IFERROR(VLOOKUP(AY419,'EmpGenInfo(ESS1P)'!$A$6:$AC$390,12,FALSE),0)","v":0},0]
[null,null,null,null,null,null,null,null,null,null,null,null,null,null,null,null,null,null,null,null,null,null,null,null,null,null,null,null,null,null,null,null,null,null,null,null,null,null,null,null,null,null,null,null,null,null,null,null,null,null,0,"","",{"$f":"IFERROR(VLOOKUP(AY420,'EmpGenInfo(ESS1P)'!$A$6:$AC$390,3,FALSE),0)","v":0},{"$f":"IFERROR(VLOOKUP(AY420,'EmpGenInfo(ESS1P)'!$A$6:$AC$390,12,FALSE),0)","v":0},0]
[null,null,null,null,null,null,null,null,null,null,null,null,null,null,null,null,null,null,null,null,null,null,null,null,null,null,null,null,null,null,null,null,null,null,null,null,null,null,null,null,null,null,null,null,null,null,null,null,null,null,0,"","",{"$f":"IFERROR(VLOOKUP(AY421,'EmpGenInfo(ESS1P)'!$A$6:$AC$390,3,FALSE),0)","v":0},{"$f":"IFERROR(VLOOKUP(AY421,'EmpGenInfo(ESS1P)'!$A$6:$AC$390,12,FALSE),0)","v":0},0]
[null,null,null,null,null,null,null,null,null,null,null,null,null,null,null,null,null,null,null,null,null,null,null,null,null,null,null,null,null,null,null,null,null,null,null,null,null,null,null,null,null,null,null,null,null,null,null,null,null,null,0,"","",{"$f":"IFERROR(VLOOKUP(AY422,'EmpGenInfo(ESS1P)'!$A$6:$AC$390,3,FALSE),0)","v":0},{"$f":"IFERROR(VLOOKUP(AY422,'EmpGenInfo(ESS1P)'!$A$6:$AC$390,12,FALSE),0)","v":0},0]
[null,null,null,null,null,null,null,null,null,null,null,null,null,null,null,null,null,null,null,null,null,null,null,null,null,null,null,null,null,null,null,null,null,null,null,null,null,null,null,null,null,null,null,null,null,null,null,null,null,null,0,"","",{"$f":"IFERROR(VLOOKUP(AY423,'EmpGenInfo(ESS1P)'!$A$6:$AC$390,3,FALSE),0)","v":0},{"$f":"IFERROR(VLOOKUP(AY423,'EmpGenInfo(ESS1P)'!$A$6:$AC$390,12,FALSE),0)","v":0},0]
[null,null,null,null,null,null,null,null,null,null,null,null,null,null,null,null,null,null,null,null,null,null,null,null,null,null,null,null,null,null,null,null,null,null,null,null,null,null,null,null,null,null,null,null,null,null,null,null,null,null,0,"","",{"$f":"IFERROR(VLOOKUP(AY424,'EmpGenInfo(ESS1P)'!$A$6:$AC$390,3,FALSE),0)","v":0},{"$f":"IFERROR(VLOOKUP(AY424,'EmpGenInfo(ESS1P)'!$A$6:$AC$390,12,FALSE),0)","v":0},0]
[null,null,null,null,null,null,null,null,null,null,null,null,null,null,null,null,null,null,null,null,null,null,null,null,null,null,null,null,null,null,null,null,null,null,null,null,null,null,null,null,null,null,null,null,null,null,null,null,null,null,0,"","",{"$f":"IFERROR(VLOOKUP(AY425,'EmpGenInfo(ESS1P)'!$A$6:$AC$390,3,FALSE),0)","v":0},{"$f":"IFERROR(VLOOKUP(AY425,'EmpGenInfo(ESS1P)'!$A$6:$AC$390,12,FALSE),0)","v":0},0]
[null,null,null,null,null,null,null,null,null,null,null,null,null,null,null,null,null,null,null,null,null,null,null,null,null,null,null,null,null,null,null,null,null,null,null,null,null,null,null,null,null,null,null,null,null,null,null,null,null,null,0,"","",{"$f":"IFERROR(VLOOKUP(AY426,'EmpGenInfo(ESS1P)'!$A$6:$AC$390,3,FALSE),0)","v":0},{"$f":"IFERROR(VLOOKUP(AY426,'EmpGenInfo(ESS1P)'!$A$6:$AC$390,12,FALSE),0)","v":0},0]
[null,null,null,null,null,null,null,null,null,null,null,null,null,null,null,null,null,null,null,null,null,null,null,null,null,null,null,null,null,null,null,null,null,null,null,null,null,null,null,null,null,null,null,null,null,null,null,null,null,null,0,"","",{"$f":"IFERROR(VLOOKUP(AY427,'EmpGenInfo(ESS1P)'!$A$6:$AC$390,3,FALSE),0)","v":0},{"$f":"IFERROR(VLOOKUP(AY427,'EmpGenInfo(ESS1P)'!$A$6:$AC$390,12,FALSE),0)","v":0},0]
[null,null,null,null,null,null,null,null,null,null,null,null,null,null,null,null,null,null,null,null,null,null,null,null,null,null,null,null,null,null,null,null,null,null,null,null,null,null,null,null,null,null,null,null,null,null,null,null,null,null,0,"","",{"$f":"IFERROR(VLOOKUP(AY428,'EmpGenInfo(ESS1P)'!$A$6:$AC$390,3,FALSE),0)","v":0},{"$f":"IFERROR(VLOOKUP(AY428,'EmpGenInfo(ESS1P)'!$A$6:$AC$390,12,FALSE),0)","v":0},0]
[null,null,null,null,null,null,null,null,null,null,null,null,null,null,null,null,null,null,null,null,null,null,null,null,null,null,null,null,null,null,null,null,null,null,null,null,null,null,null,null,null,null,null,null,null,null,null,null,null,null,{"$f":"S429","v":0},{"$f":"IFERROR(RIGHT(V429,LEN(V429)-FIND(\" \",V429)),\"\")","v":""},{"$f":"IFERROR(LEFT(V429,FIND(\" \",V429,1)-1),\"\")","v":""},{"$f":"IFERROR(VLOOKUP(AY429,'EmpGenInfo(ESS1P)'!$A$6:$AC$390,3,FALSE),0)","v":0},{"$f":"IFERROR(VLOOKUP(AY429,'EmpGenInfo(ESS1P)'!$A$6:$AC$390,12,FALSE),0)","v":0},{"$f":"AP429*100/15","v":0}]
[null,null,null,null,null,null,null,null,null,null,null,null,null,null,null,null,null,null,null,null,null,null,null,null,null,null,null,null,null,null,null,null,null,null,null,null,null,null,null,null,null,null,null,null,null,null,null,null,null,null,0,"","",{"$f":"IFERROR(VLOOKUP(AY430,'EmpGenInfo(ESS1P)'!$A$6:$AC$390,3,FALSE),0)","v":0},{"$f":"IFERROR(VLOOKUP(AY430,'EmpGenInfo(ESS1P)'!$A$6:$AC$390,12,FALSE),0)","v":0},0]
[null,null,null,null,null,null,null,null,null,null,null,null,null,null,null,null,null,null,null,null,null,null,null,null,null,null,null,null,null,null,null,null,null,null,null,null,null,null,null,null,null,null,null,null,null,null,null,null,null,null,0,"","",{"$f":"IFERROR(VLOOKUP(AY431,'EmpGenInfo(ESS1P)'!$A$6:$AC$390,3,FALSE),0)","v":0},{"$f":"IFERROR(VLOOKUP(AY431,'EmpGenInfo(ESS1P)'!$A$6:$AC$390,12,FALSE),0)","v":0},0]
[null,null,null,null,null,null,null,null,null,null,null,null,null,null,null,null,null,null,null,null,null,null,null,null,null,null,null,null,null,null,null,null,null,null,null,null,null,null,null,null,null,null,null,null,null,null,null,null,null,null,0,"","",{"$f":"IFERROR(VLOOKUP(AY432,'EmpGenInfo(ESS1P)'!$A$6:$AC$390,3,FALSE),0)","v":0},{"$f":"IFERROR(VLOOKUP(AY432,'EmpGenInfo(ESS1P)'!$A$6:$AC$390,12,FALSE),0)","v":0},0]
[null,null,null,null,null,null,null,null,null,null,null,null,null,null,null,null,null,null,null,null,null,null,null,null,null,null,null,null,null,null,null,null,null,null,null,null,null,null,null,null,null,null,null,null,null,null,null,null,null,null,0,"","",{"$f":"IFERROR(VLOOKUP(AY433,'EmpGenInfo(ESS1P)'!$A$6:$AC$390,3,FALSE),0)","v":0},{"$f":"IFERROR(VLOOKUP(AY433,'EmpGenInfo(ESS1P)'!$A$6:$AC$390,12,FALSE),0)","v":0},0]
[null,null,null,null,null,null,null,null,null,null,null,null,null,null,null,null,null,null,null,null,null,null,null,null,null,null,null,null,null,null,null,null,null,null,null,null,null,null,null,null,null,null,null,null,null,null,null,null,null,null,0,"","",{"$f":"IFERROR(VLOOKUP(AY434,'EmpGenInfo(ESS1P)'!$A$6:$AC$390,3,FALSE),0)","v":0},{"$f":"IFERROR(VLOOKUP(AY434,'EmpGenInfo(ESS1P)'!$A$6:$AC$390,12,FALSE),0)","v":0},0]
[null,null,null,null,null,null,null,null,null,null,null,null,null,null,null,null,null,null,null,null,null,null,null,null,null,null,null,null,null,null,null,null,null,null,null,null,null,null,null,null,null,null,null,null,null,null,null,null,null,null,0,"","",{"$f":"IFERROR(VLOOKUP(AY435,'EmpGenInfo(ESS1P)'!$A$6:$AC$390,3,FALSE),0)","v":0},{"$f":"IFERROR(VLOOKUP(AY435,'EmpGenInfo(ESS1P)'!$A$6:$AC$390,12,FALSE),0)","v":0},0]
[null,null,null,null,null,null,null,null,null,null,null,null,null,null,null,null,null,null,null,null,null,null,null,null,null,null,null,null,null,null,null,null,null,null,null,null,null,null,null,null,null,null,null,null,null,null,null,null,null,null,0,"","",{"$f":"IFERROR(VLOOKUP(AY436,'EmpGenInfo(ESS1P)'!$A$6:$AC$390,3,FALSE),0)","v":0},{"$f":"IFERROR(VLOOKUP(AY436,'EmpGenInfo(ESS1P)'!$A$6:$AC$390,12,FALSE),0)","v":0},0]
[null,null,null,null,null,null,null,null,null,null,null,null,null,null,null,null,null,null,null,null,null,null,null,null,null,null,null,null,null,null,null,null,null,null,null,null,null,null,null,null,null,null,null,null,null,null,null,null,null,null,0,"","",{"$f":"IFERROR(VLOOKUP(AY437,'EmpGenInfo(ESS1P)'!$A$6:$AC$390,3,FALSE),0)","v":0},{"$f":"IFERROR(VLOOKUP(AY437,'EmpGenInfo(ESS1P)'!$A$6:$AC$390,12,FALSE),0)","v":0},0]
[null,null,null,null,null,null,null,null,null,null,null,null,null,null,null,null,null,null,null,null,null,null,null,null,null,null,null,null,null,null,null,null,null,null,null,null,null,null,null,null,null,null,null,null,null,null,null,null,null,null,0,"","",{"$f":"IFERROR(VLOOKUP(AY438,'EmpGenInfo(ESS1P)'!$A$6:$AC$390,3,FALSE),0)","v":0},{"$f":"IFERROR(VLOOKUP(AY438,'EmpGenInfo(ESS1P)'!$A$6:$AC$390,12,FALSE),0)","v":0},0]
[null,null,null,null,null,null,null,null,null,null,null,null,null,null,null,null,null,null,null,null,null,null,null,null,null,null,null,null,null,null,null,null,null,null,null,null,null,null,null,null,null,null,null,null,null,null,null,null,null,null,0,"","",{"$f":"IFERROR(VLOOKUP(AY439,'EmpGenInfo(ESS1P)'!$A$6:$AC$390,3,FALSE),0)","v":0},{"$f":"IFERROR(VLOOKUP(AY439,'EmpGenInfo(ESS1P)'!$A$6:$AC$390,12,FALSE),0)","v":0},0]
[null,null,null,null,null,null,null,null,null,null,null,null,null,null,null,null,null,null,null,null,null,null,null,null,null,null,null,null,null,null,null,null,null,null,null,null,null,null,null,null,null,null,null,null,null,null,null,null,null,null,0,"","",{"$f":"IFERROR(VLOOKUP(AY440,'EmpGenInfo(ESS1P)'!$A$6:$AC$390,3,FALSE),0)","v":0},{"$f":"IFERROR(VLOOKUP(AY440,'EmpGenInfo(ESS1P)'!$A$6:$AC$390,12,FALSE),0)","v":0},0]
[null,null,null,null,null,null,null,null,null,null,null,null,null,null,null,null,null,null,null,null,null,null,null,null,null,null,null,null,null,null,null,null,null,null,null,null,null,null,null,null,null,null,null,null,null,null,null,null,null,null,0,"","",{"$f":"IFERROR(VLOOKUP(AY441,'EmpGenInfo(ESS1P)'!$A$6:$AC$390,3,FALSE),0)","v":0},{"$f":"IFERROR(VLOOKUP(AY441,'EmpGenInfo(ESS1P)'!$A$6:$AC$390,12,FALSE),0)","v":0},0]
[null,null,null,null,null,null,null,null,null,null,null,null,null,null,null,null,null,null,null,null,null,null,null,null,null,null,null,null,null,null,null,null,null,null,null,null,null,null,null,null,null,null,null,null,null,null,null,null,null,null,0,"","",{"$f":"IFERROR(VLOOKUP(AY442,'EmpGenInfo(ESS1P)'!$A$6:$AC$390,3,FALSE),0)","v":0},{"$f":"IFERROR(VLOOKUP(AY442,'EmpGenInfo(ESS1P)'!$A$6:$AC$390,12,FALSE),0)","v":0},0]
[null,null,null,null,null,null,null,null,null,null,null,null,null,null,null,null,null,null,null,null,null,null,null,null,null,null,null,null,null,null,null,null,null,null,null,null,null,null,null,null,null,null,null,null,null,null,null,null,null,null,0,"","",{"$f":"IFERROR(VLOOKUP(AY443,'EmpGenInfo(ESS1P)'!$A$6:$AC$390,3,FALSE),0)","v":0},{"$f":"IFERROR(VLOOKUP(AY443,'EmpGenInfo(ESS1P)'!$A$6:$AC$390,12,FALSE),0)","v":0},0]
[null,null,null,null,null,null,null,null,null,null,null,null,null,null,null,null,null,null,null,null,null,null,null,null,null,null,null,null,null,null,null,null,null,null,null,null,null,null,null,null,null,null,null,null,null,null,null,null,null,null,0,"","",{"$f":"IFERROR(VLOOKUP(AY444,'EmpGenInfo(ESS1P)'!$A$6:$AC$390,3,FALSE),0)","v":0},{"$f":"IFERROR(VLOOKUP(AY444,'EmpGenInfo(ESS1P)'!$A$6:$AC$390,12,FALSE),0)","v":0},0]
[null,null,null,null,null,null,null,null,null,null,null,null,null,null,null,null,null,null,null,null,null,null,null,null,null,null,null,null,null,null,null,null,null,null,null,null,null,null,null,null,null,null,null,null,null,null,null,null,null,null,0,"","",{"$f":"IFERROR(VLOOKUP(AY445,'EmpGenInfo(ESS1P)'!$A$6:$AC$390,3,FALSE),0)","v":0},{"$f":"IFERROR(VLOOKUP(AY445,'EmpGenInfo(ESS1P)'!$A$6:$AC$390,12,FALSE),0)","v":0},0]
[null,null,null,null,null,null,null,null,null,null,null,null,null,null,null,null,null,null,null,null,null,null,null,null,null,null,null,null,null,null,null,null,null,null,null,null,null,null,null,null,null,null,null,null,null,null,null,null,null,null,0,"","",{"$f":"IFERROR(VLOOKUP(AY446,'EmpGenInfo(ESS1P)'!$A$6:$AC$390,3,FALSE),0)","v":0},{"$f":"IFERROR(VLOOKUP(AY446,'EmpGenInfo(ESS1P)'!$A$6:$AC$390,12,FALSE),0)","v":0},0]
[null,null,null,null,null,null,null,null,null,null,null,null,null,null,null,null,null,null,null,null,null,null,null,null,null,null,null,null,null,null,null,null,null,null,null,null,null,null,null,null,null,null,null,null,null,null,null,null,null,null,0,"","",{"$f":"IFERROR(VLOOKUP(AY447,'EmpGenInfo(ESS1P)'!$A$6:$AC$390,3,FALSE),0)","v":0},{"$f":"IFERROR(VLOOKUP(AY447,'EmpGenInfo(ESS1P)'!$A$6:$AC$390,12,FALSE),0)","v":0},0]
[null,null,null,null,null,null,null,null,null,null,null,null,null,null,null,null,null,null,null,null,null,null,null,null,null,null,null,null,null,null,null,null,null,null,null,null,null,null,null,null,null,null,null,null,null,null,null,null,null,null,0,"","",{"$f":"IFERROR(VLOOKUP(AY448,'EmpGenInfo(ESS1P)'!$A$6:$AC$390,3,FALSE),0)","v":0},{"$f":"IFERROR(VLOOKUP(AY448,'EmpGenInfo(ESS1P)'!$A$6:$AC$390,12,FALSE),0)","v":0},0]
[null,null,null,null,null,null,null,null,null,null,null,null,null,null,null,null,null,null,null,null,null,null,null,null,null,null,null,null,null,null,null,null,null,null,null,null,null,null,null,null,null,null,null,null,null,null,null,null,null,null,0,"","",{"$f":"IFERROR(VLOOKUP(AY449,'EmpGenInfo(ESS1P)'!$A$6:$AC$390,3,FALSE),0)","v":0},{"$f":"IFERROR(VLOOKUP(AY449,'EmpGenInfo(ESS1P)'!$A$6:$AC$390,12,FALSE),0)","v":0},0]
[null,null,null,null,null,null,null,null,null,null,null,null,null,null,null,null,null,null,null,null,null,null,null,null,null,null,null,null,null,null,null,null,null,null,null,null,null,null,null,null,null,null,null,null,null,null,null,null,null,null,0,"","",{"$f":"IFERROR(VLOOKUP(AY450,'EmpGenInfo(ESS1P)'!$A$6:$AC$390,3,FALSE),0)","v":0},{"$f":"IFERROR(VLOOKUP(AY450,'EmpGenInfo(ESS1P)'!$A$6:$AC$390,12,FALSE),0)","v":0},0]
[null,null,null,null,null,null,null,null,null,null,null,null,null,null,null,null,null,null,null,null,null,null,null,null,null,null,null,null,null,null,null,null,null,null,null,null,null,null,null,null,null,null,null,null,null,null,null,null,null,null,0,"","",{"$f":"IFERROR(VLOOKUP(AY451,'EmpGenInfo(ESS1P)'!$A$6:$AC$390,3,FALSE),0)","v":0},{"$f":"IFERROR(VLOOKUP(AY451,'EmpGenInfo(ESS1P)'!$A$6:$AC$390,12,FALSE),0)","v":0},0]
[null,null,null,null,null,null,null,null,null,null,null,null,null,null,null,null,null,null,null,null,null,null,null,null,null,null,null,null,null,null,null,null,null,null,null,null,null,null,null,null,null,null,null,null,null,null,null,null,null,null,0,"","",{"$f":"IFERROR(VLOOKUP(AY452,'EmpGenInfo(ESS1P)'!$A$6:$AC$390,3,FALSE),0)","v":0},{"$f":"IFERROR(VLOOKUP(AY452,'EmpGenInfo(ESS1P)'!$A$6:$AC$390,12,FALSE),0)","v":0},0]
[null,null,null,null,null,null,null,null,null,null,null,null,null,null,null,null,null,null,null,null,null,null,null,null,null,null,null,null,null,null,null,null,null,null,null,null,null,null,null,null,null,null,null,null,null,null,null,null,null,null,0,"","",{"$f":"IFERROR(VLOOKUP(AY453,'EmpGenInfo(ESS1P)'!$A$6:$AC$390,3,FALSE),0)","v":0},{"$f":"IFERROR(VLOOKUP(AY453,'EmpGenInfo(ESS1P)'!$A$6:$AC$390,12,FALSE),0)","v":0},0]
[null,null,null,null,null,null,null,null,null,null,null,null,null,null,null,null,null,null,null,null,null,null,null,null,null,null,null,null,null,null,null,null,null,null,null,null,null,null,null,null,null,null,null,null,null,null,null,null,null,null,0,"","",{"$f":"IFERROR(VLOOKUP(AY454,'EmpGenInfo(ESS1P)'!$A$6:$AC$390,3,FALSE),0)","v":0},{"$f":"IFERROR(VLOOKUP(AY454,'EmpGenInfo(ESS1P)'!$A$6:$AC$390,12,FALSE),0)","v":0},0]
[null,null,null,null,null,null,null,null,null,null,null,null,null,null,null,null,null,null,null,null,null,null,null,null,null,null,null,null,null,null,null,null,null,null,null,null,null,null,null,null,null,null,null,null,null,null,null,null,null,null,0,"","",{"$f":"IFERROR(VLOOKUP(AY455,'EmpGenInfo(ESS1P)'!$A$6:$AC$390,3,FALSE),0)","v":0},{"$f":"IFERROR(VLOOKUP(AY455,'EmpGenInfo(ESS1P)'!$A$6:$AC$390,12,FALSE),0)","v":0},0]
[null,null,null,null,null,null,null,null,null,null,null,null,null,null,null,null,null,null,null,null,null,null,null,null,null,null,null,null,null,null,null,null,null,null,null,null,null,null,null,null,null,null,null,null,null,null,null,null,null,null,0,"","",{"$f":"IFERROR(VLOOKUP(AY456,'EmpGenInfo(ESS1P)'!$A$6:$AC$390,3,FALSE),0)","v":0},{"$f":"IFERROR(VLOOKUP(AY456,'EmpGenInfo(ESS1P)'!$A$6:$AC$390,12,FALSE),0)","v":0},0]
[null,null,null,null,null,null,null,null,null,null,null,null,null,null,null,null,null,null,null,null,null,null,null,null,null,null,null,null,null,null,null,null,null,null,null,null,null,null,null,null,null,null,null,null,null,null,null,null,null,null,0,"","",{"$f":"IFERROR(VLOOKUP(AY457,'EmpGenInfo(ESS1P)'!$A$6:$AC$390,3,FALSE),0)","v":0},{"$f":"IFERROR(VLOOKUP(AY457,'EmpGenInfo(ESS1P)'!$A$6:$AC$390,12,FALSE),0)","v":0},0]
[null,null,null,null,null,null,null,null,null,null,null,null,null,null,null,null,null,null,null,null,null,null,null,null,null,null,null,null,null,null,null,null,null,null,null,null,null,null,null,null,null,null,null,null,null,null,null,null,null,null,0,"","",{"$f":"IFERROR(VLOOKUP(AY458,'EmpGenInfo(ESS1P)'!$A$6:$AC$390,3,FALSE),0)","v":0},{"$f":"IFERROR(VLOOKUP(AY458,'EmpGenInfo(ESS1P)'!$A$6:$AC$390,12,FALSE),0)","v":0},0]
[null,null,null,null,null,null,null,null,null,null,null,null,null,null,null,null,null,null,null,null,null,null,null,null,null,null,null,null,null,null,null,null,null,null,null,null,null,null,null,null,null,null,null,null,null,null,null,null,null,null,0,"","",{"$f":"IFERROR(VLOOKUP(AY459,'EmpGenInfo(ESS1P)'!$A$6:$AC$390,3,FALSE),0)","v":0},{"$f":"IFERROR(VLOOKUP(AY459,'EmpGenInfo(ESS1P)'!$A$6:$AC$390,12,FALSE),0)","v":0},0]
[null,null,null,null,null,null,null,null,null,null,null,null,null,null,null,null,null,null,null,null,null,null,null,null,null,null,null,null,null,null,null,null,null,null,null,null,null,null,null,null,null,null,null,null,null,null,null,null,null,null,0,"","",{"$f":"IFERROR(VLOOKUP(AY460,'EmpGenInfo(ESS1P)'!$A$6:$AC$390,3,FALSE),0)","v":0},{"$f":"IFERROR(VLOOKUP(AY460,'EmpGenInfo(ESS1P)'!$A$6:$AC$390,12,FALSE),0)","v":0},0]
[null,null,null,null,null,null,null,null,null,null,null,null,null,null,null,null,null,null,null,null,null,null,null,null,null,null,null,null,null,null,null,null,null,null,null,null,null,null,null,null,null,null,null,null,null,null,null,null,null,null,0,"","",{"$f":"IFERROR(VLOOKUP(AY461,'EmpGenInfo(ESS1P)'!$A$6:$AC$390,3,FALSE),0)","v":0},{"$f":"IFERROR(VLOOKUP(AY461,'EmpGenInfo(ESS1P)'!$A$6:$AC$390,12,FALSE),0)","v":0},0]
[null,null,null,null,null,null,null,null,null,null,null,null,null,null,null,null,null,null,null,null,null,null,null,null,null,null,null,null,null,null,null,null,null,null,null,null,null,null,null,null,null,null,null,null,null,null,null,null,null,null,0,"","",{"$f":"IFERROR(VLOOKUP(AY462,'EmpGenInfo(ESS1P)'!$A$6:$AC$390,3,FALSE),0)","v":0},{"$f":"IFERROR(VLOOKUP(AY462,'EmpGenInfo(ESS1P)'!$A$6:$AC$390,12,FALSE),0)","v":0},0]
[null,null,null,null,null,null,null,null,null,null,null,null,null,null,null,null,null,null,null,null,null,null,null,null,null,null,null,null,null,null,null,null,null,null,null,null,null,null,null,null,null,null,null,null,null,null,null,null,null,null,0,"","",{"$f":"IFERROR(VLOOKUP(AY463,'EmpGenInfo(ESS1P)'!$A$6:$AC$390,3,FALSE),0)","v":0},{"$f":"IFERROR(VLOOKUP(AY463,'EmpGenInfo(ESS1P)'!$A$6:$AC$390,12,FALSE),0)","v":0},0]
[null,null,null,null,null,null,null,null,null,null,null,null,null,null,null,null,null,null,null,null,null,null,null,null,null,null,null,null,null,null,null,null,null,null,null,null,null,null,null,null,null,null,null,null,null,null,null,null,null,null,0,"","",{"$f":"IFERROR(VLOOKUP(AY464,'EmpGenInfo(ESS1P)'!$A$6:$AC$390,3,FALSE),0)","v":0},{"$f":"IFERROR(VLOOKUP(AY464,'EmpGenInfo(ESS1P)'!$A$6:$AC$390,12,FALSE),0)","v":0},0]
[null,null,null,null,null,null,null,null,null,null,null,null,null,null,null,null,null,null,null,null,null,null,null,null,null,null,null,null,null,null,null,null,null,null,null,null,null,null,null,null,null,null,null,null,null,null,null,null,null,null,0,"","",{"$f":"IFERROR(VLOOKUP(AY465,'EmpGenInfo(ESS1P)'!$A$6:$AC$390,3,FALSE),0)","v":0},{"$f":"IFERROR(VLOOKUP(AY465,'EmpGenInfo(ESS1P)'!$A$6:$AC$390,12,FALSE),0)","v":0},0]
[null,null,null,null,null,null,null,null,null,null,null,null,null,null,null,null,null,null,null,null,null,null,null,null,null,null,null,null,null,null,null,null,null,null,null,null,null,null,null,null,null,null,null,null,null,null,null,null,null,null,0,"","",{"$f":"IFERROR(VLOOKUP(AY466,'EmpGenInfo(ESS1P)'!$A$6:$AC$390,3,FALSE),0)","v":0},{"$f":"IFERROR(VLOOKUP(AY466,'EmpGenInfo(ESS1P)'!$A$6:$AC$390,12,FALSE),0)","v":0},0]
[null,null,null,null,null,null,null,null,null,null,null,null,null,null,null,null,null,null,null,null,null,null,null,null,null,null,null,null,null,null,null,null,null,null,null,null,null,null,null,null,null,null,null,null,null,null,null,null,null,null,0,"","",{"$f":"IFERROR(VLOOKUP(AY467,'EmpGenInfo(ESS1P)'!$A$6:$AC$390,3,FALSE),0)","v":0},{"$f":"IFERROR(VLOOKUP(AY467,'EmpGenInfo(ESS1P)'!$A$6:$AC$390,12,FALSE),0)","v":0},0]
[null,null,null,null,null,null,null,null,null,null,null,null,null,null,null,null,null,null,null,null,null,null,null,null,null,null,null,null,null,null,null,null,null,null,null,null,null,null,null,null,null,null,null,null,null,null,null,null,null,null,0,"","",{"$f":"IFERROR(VLOOKUP(AY468,'EmpGenInfo(ESS1P)'!$A$6:$AC$390,3,FALSE),0)","v":0},{"$f":"IFERROR(VLOOKUP(AY468,'EmpGenInfo(ESS1P)'!$A$6:$AC$390,12,FALSE),0)","v":0},0]
[null,null,null,null,null,null,null,null,null,null,null,null,null,null,null,null,null,null,null,null,null,null,null,null,null,null,null,null,null,null,null,null,null,null,null,null,null,null,null,null,null,null,null,null,null,null,null,null,null,null,0,"","",{"$f":"IFERROR(VLOOKUP(AY469,'EmpGenInfo(ESS1P)'!$A$6:$AC$390,3,FALSE),0)","v":0},{"$f":"IFERROR(VLOOKUP(AY469,'EmpGenInfo(ESS1P)'!$A$6:$AC$390,12,FALSE),0)","v":0},0]
[null,null,null,null,null,null,null,null,null,null,null,null,null,null,null,null,null,null,null,null,null,null,null,null,null,null,null,null,null,null,null,null,null,null,null,null,null,null,null,null,null,null,null,null,null,null,null,null,null,null,0,"","",{"$f":"IFERROR(VLOOKUP(AY470,'EmpGenInfo(ESS1P)'!$A$6:$AC$390,3,FALSE),0)","v":0},{"$f":"IFERROR(VLOOKUP(AY470,'EmpGenInfo(ESS1P)'!$A$6:$AC$390,12,FALSE),0)","v":0},0]
[null,null,null,null,null,null,null,null,null,null,null,null,null,null,null,null,null,null,null,null,null,null,null,null,null,null,null,null,null,null,null,null,null,null,null,null,null,null,null,null,null,null,null,null,null,null,null,null,null,null,0,"","",{"$f":"IFERROR(VLOOKUP(AY471,'EmpGenInfo(ESS1P)'!$A$6:$AC$390,3,FALSE),0)","v":0},{"$f":"IFERROR(VLOOKUP(AY471,'EmpGenInfo(ESS1P)'!$A$6:$AC$390,12,FALSE),0)","v":0},0]
[null,null,null,null,null,null,null,null,null,null,null,null,null,null,null,null,null,null,null,null,null,null,null,null,null,null,null,null,null,null,null,null,null,null,null,null,null,null,null,null,null,null,null,null,null,null,null,null,null,null,0,"","",{"$f":"IFERROR(VLOOKUP(AY472,'EmpGenInfo(ESS1P)'!$A$6:$AC$390,3,FALSE),0)","v":0},{"$f":"IFERROR(VLOOKUP(AY472,'EmpGenInfo(ESS1P)'!$A$6:$AC$390,12,FALSE),0)","v":0},0]
[null,null,null,null,null,null,null,null,null,null,null,null,null,null,null,null,null,null,null,null,null,null,null,null,null,null,null,null,null,null,null,null,null,null,null,null,null,null,null,null,null,null,null,null,null,null,null,null,null,null,0,"","",{"$f":"IFERROR(VLOOKUP(AY473,'EmpGenInfo(ESS1P)'!$A$6:$AC$390,3,FALSE),0)","v":0},{"$f":"IFERROR(VLOOKUP(AY473,'EmpGenInfo(ESS1P)'!$A$6:$AC$390,12,FALSE),0)","v":0},0]
[null,null,null,null,null,null,null,null,null,null,null,null,null,null,null,null,null,null,null,null,null,null,null,null,null,null,null,null,null,null,null,null,null,null,null,null,null,null,null,null,null,null,null,null,null,null,null,null,null,null,0,"","",{"$f":"IFERROR(VLOOKUP(AY474,'EmpGenInfo(ESS1P)'!$A$6:$AC$390,3,FALSE),0)","v":0},{"$f":"IFERROR(VLOOKUP(AY474,'EmpGenInfo(ESS1P)'!$A$6:$AC$390,12,FALSE),0)","v":0},0]
[null,null,null,null,null,null,null,null,null,null,null,null,null,null,null,null,null,null,null,null,null,null,null,null,null,null,null,null,null,null,null,null,null,null,null,null,null,null,null,null,null,null,null,null,null,null,null,null,null,null,0,"","",{"$f":"IFERROR(VLOOKUP(AY475,'EmpGenInfo(ESS1P)'!$A$6:$AC$390,3,FALSE),0)","v":0},{"$f":"IFERROR(VLOOKUP(AY475,'EmpGenInfo(ESS1P)'!$A$6:$AC$390,12,FALSE),0)","v":0},0]
[null,null,null,null,null,null,null,null,null,null,null,null,null,null,null,null,null,null,null,null,null,null,null,null,null,null,null,null,null,null,null,null,null,null,null,null,null,null,null,null,null,null,null,null,null,null,null,null,null,null,0,"","",{"$f":"IFERROR(VLOOKUP(AY476,'EmpGenInfo(ESS1P)'!$A$6:$AC$390,3,FALSE),0)","v":0},{"$f":"IFERROR(VLOOKUP(AY476,'EmpGenInfo(ESS1P)'!$A$6:$AC$390,12,FALSE),0)","v":0},0]
[null,null,null,null,null,null,null,null,null,null,null,null,null,null,null,null,null,null,null,null,null,null,null,null,null,null,null,null,null,null,null,null,null,null,null,null,null,null,null,null,null,null,null,null,null,null,null,null,null,null,0,"","",{"$f":"IFERROR(VLOOKUP(AY477,'EmpGenInfo(ESS1P)'!$A$6:$AC$390,3,FALSE),0)","v":0},{"$f":"IFERROR(VLOOKUP(AY477,'EmpGenInfo(ESS1P)'!$A$6:$AC$390,12,FALSE),0)","v":0},0]
[null,null,null,null,null,null,null,null,null,null,null,null,null,null,null,null,null,null,null,null,null,null,null,null,null,null,null,null,null,null,null,null,null,null,null,null,null,null,null,null,null,null,null,null,null,null,null,null,null,null,0,"","",{"$f":"IFERROR(VLOOKUP(AY478,'EmpGenInfo(ESS1P)'!$A$6:$AC$390,3,FALSE),0)","v":0},{"$f":"IFERROR(VLOOKUP(AY478,'EmpGenInfo(ESS1P)'!$A$6:$AC$390,12,FALSE),0)","v":0},0]
[null,null,null,null,null,null,null,null,null,null,null,null,null,null,null,null,null,null,null,null,null,null,null,null,null,null,null,null,null,null,null,null,null,null,null,null,null,null,null,null,null,null,null,null,null,null,null,null,null,null,0,"","",{"$f":"IFERROR(VLOOKUP(AY479,'EmpGenInfo(ESS1P)'!$A$6:$AC$390,3,FALSE),0)","v":0},{"$f":"IFERROR(VLOOKUP(AY479,'EmpGenInfo(ESS1P)'!$A$6:$AC$390,12,FALSE),0)","v":0},0]
[null,null,null,null,null,null,null,null,null,null,null,null,null,null,null,null,null,null,null,null,null,null,null,null,null,null,null,null,null,null,null,null,null,null,null,null,null,null,null,null,null,null,null,null,null,null,null,null,null,null,0,"","",{"$f":"IFERROR(VLOOKUP(AY480,'EmpGenInfo(ESS1P)'!$A$6:$AC$390,3,FALSE),0)","v":0},{"$f":"IFERROR(VLOOKUP(AY480,'EmpGenInfo(ESS1P)'!$A$6:$AC$390,12,FALSE),0)","v":0},0]
[null,null,null,null,null,null,null,null,null,null,null,null,null,null,null,null,null,null,null,null,null,null,null,null,null,null,null,null,null,null,null,null,null,null,null,null,null,null,null,null,null,null,null,null,null,null,null,null,null,null,0,"","",{"$f":"IFERROR(VLOOKUP(AY481,'EmpGenInfo(ESS1P)'!$A$6:$AC$390,3,FALSE),0)","v":0},{"$f":"IFERROR(VLOOKUP(AY481,'EmpGenInfo(ESS1P)'!$A$6:$AC$390,12,FALSE),0)","v":0},0]
[null,null,null,null,null,null,null,null,null,null,null,null,null,null,null,null,null,null,null,null,null,null,null,null,null,null,null,null,null,null,null,null,null,null,null,null,null,null,null,null,null,null,null,null,null,null,null,null,null,null,0,"","",{"$f":"IFERROR(VLOOKUP(AY482,'EmpGenInfo(ESS1P)'!$A$6:$AC$390,3,FALSE),0)","v":0},{"$f":"IFERROR(VLOOKUP(AY482,'EmpGenInfo(ESS1P)'!$A$6:$AC$390,12,FALSE),0)","v":0},0]
[null,null,null,null,null,null,null,null,null,null,null,null,null,null,null,null,null,null,null,null,null,null,null,null,null,null,null,null,null,null,null,null,null,null,null,null,null,null,null,null,null,null,null,null,null,null,null,null,null,null,0,"","",{"$f":"IFERROR(VLOOKUP(AY483,'EmpGenInfo(ESS1P)'!$A$6:$AC$390,3,FALSE),0)","v":0},{"$f":"IFERROR(VLOOKUP(AY483,'EmpGenInfo(ESS1P)'!$A$6:$AC$390,12,FALSE),0)","v":0},0]
[null,null,null,null,null,null,null,null,null,null,null,null,null,null,null,null,null,null,null,null,null,null,null,null,null,null,null,null,null,null,null,null,null,null,null,null,null,null,null,null,null,null,null,null,null,null,null,null,null,null,0,"","",{"$f":"IFERROR(VLOOKUP(AY484,'EmpGenInfo(ESS1P)'!$A$6:$AC$390,3,FALSE),0)","v":0},{"$f":"IFERROR(VLOOKUP(AY484,'EmpGenInfo(ESS1P)'!$A$6:$AC$390,12,FALSE),0)","v":0},0]
[null,null,null,null,null,null,null,null,null,null,null,null,null,null,null,null,null,null,null,null,null,null,null,null,null,null,null,null,null,null,null,null,null,null,null,null,null,null,null,null,null,null,null,null,null,null,null,null,null,null,0,"","",{"$f":"IFERROR(VLOOKUP(AY485,'EmpGenInfo(ESS1P)'!$A$6:$AC$390,3,FALSE),0)","v":0},{"$f":"IFERROR(VLOOKUP(AY485,'EmpGenInfo(ESS1P)'!$A$6:$AC$390,12,FALSE),0)","v":0},0]
[null,null,null,null,null,null,null,null,null,null,null,null,null,null,null,null,null,null,null,null,null,null,null,null,null,null,null,null,null,null,null,null,null,null,null,null,null,null,null,null,null,null,null,null,null,null,null,null,null,null,0,"","",{"$f":"IFERROR(VLOOKUP(AY486,'EmpGenInfo(ESS1P)'!$A$6:$AC$390,3,FALSE),0)","v":0},{"$f":"IFERROR(VLOOKUP(AY486,'EmpGenInfo(ESS1P)'!$A$6:$AC$390,12,FALSE),0)","v":0},0]
[null,null,null,null,null,null,null,null,null,null,null,null,null,null,null,null,null,null,null,null,null,null,null,null,null,null,null,null,null,null,null,null,null,null,null,null,null,null,null,null,null,null,null,null,null,null,null,null,null,null,0,"","",{"$f":"IFERROR(VLOOKUP(AY487,'EmpGenInfo(ESS1P)'!$A$6:$AC$390,3,FALSE),0)","v":0},{"$f":"IFERROR(VLOOKUP(AY487,'EmpGenInfo(ESS1P)'!$A$6:$AC$390,12,FALSE),0)","v":0},0]
[null,null,null,null,null,null,null,null,null,null,null,null,null,null,null,null,null,null,null,null,null,null,null,null,null,null,null,null,null,null,null,null,null,null,null,null,null,null,null,null,null,null,null,null,null,null,null,null,null,null,0,"","",{"$f":"IFERROR(VLOOKUP(AY488,'EmpGenInfo(ESS1P)'!$A$6:$AC$390,3,FALSE),0)","v":0},{"$f":"IFERROR(VLOOKUP(AY488,'EmpGenInfo(ESS1P)'!$A$6:$AC$390,12,FALSE),0)","v":0},0]
[null,null,null,null,null,null,null,null,null,null,null,null,null,null,null,null,null,null,null,null,null,null,null,null,null,null,null,null,null,null,null,null,null,null,null,null,null,null,null,null,null,null,null,null,null,null,null,null,null,null,0,"","",{"$f":"IFERROR(VLOOKUP(AY489,'EmpGenInfo(ESS1P)'!$A$6:$AC$390,3,FALSE),0)","v":0},{"$f":"IFERROR(VLOOKUP(AY489,'EmpGenInfo(ESS1P)'!$A$6:$AC$390,12,FALSE),0)","v":0},0]
[null,null,null,null,null,null,null,null,null,null,null,null,null,null,null,null,null,null,null,null,null,null,null,null,null,null,null,null,null,null,null,null,null,null,null,null,null,null,null,null,null,null,null,null,null,null,null,null,null,null,0,"","",{"$f":"IFERROR(VLOOKUP(AY490,'EmpGenInfo(ESS1P)'!$A$6:$AC$390,3,FALSE),0)","v":0},{"$f":"IFERROR(VLOOKUP(AY490,'EmpGenInfo(ESS1P)'!$A$6:$AC$390,12,FALSE),0)","v":0},0]
[null,null,null,null,null,null,null,null,null,null,null,null,null,null,null,null,null,null,null,null,null,null,null,null,null,null,null,null,null,null,null,null,null,null,null,null,null,null,null,null,null,null,null,null,null,null,null,null,null,null,0,"","",{"$f":"IFERROR(VLOOKUP(AY491,'EmpGenInfo(ESS1P)'!$A$6:$AC$390,3,FALSE),0)","v":0},{"$f":"IFERROR(VLOOKUP(AY491,'EmpGenInfo(ESS1P)'!$A$6:$AC$390,12,FALSE),0)","v":0},0]
[null,null,null,null,null,null,null,null,null,null,null,null,null,null,null,null,null,null,null,null,null,null,null,null,null,null,null,null,null,null,null,null,null,null,null,null,null,null,null,null,null,null,null,null,null,null,null,null,null,null,0,"","",{"$f":"IFERROR(VLOOKUP(AY492,'EmpGenInfo(ESS1P)'!$A$6:$AC$390,3,FALSE),0)","v":0},{"$f":"IFERROR(VLOOKUP(AY492,'EmpGenInfo(ESS1P)'!$A$6:$AC$390,12,FALSE),0)","v":0},0]
[null,null,null,null,null,null,null,null,null,null,null,null,null,null,null,null,null,null,null,null,null,null,null,null,null,null,null,null,null,null,null,null,null,null,null,null,null,null,null,null,null,null,null,null,null,null,null,null,null,null,{"$f":"S493","v":0},{"$f":"IFERROR(RIGHT(V493,LEN(V493)-FIND(\" \",V493)),\"\")","v":""},{"$f":"IFERROR(LEFT(V493,FIND(\" \",V493,1)-1),\"\")","v":""},{"$f":"IFERROR(VLOOKUP(AY493,'EmpGenInfo(ESS1P)'!$A$6:$AC$390,3,FALSE),0)","v":0},{"$f":"IFERROR(VLOOKUP(AY493,'EmpGenInfo(ESS1P)'!$A$6:$AC$390,12,FALSE),0)","v":0},{"$f":"AP493*100/15","v":0}]
[null,null,null,null,null,null,null,null,null,null,null,null,null,null,null,null,null,null,null,null,null,null,null,null,null,null,null,null,null,null,null,null,null,null,null,null,null,null,null,null,null,null,null,null,null,null,null,null,null,null,0,"","",{"$f":"IFERROR(VLOOKUP(AY494,'EmpGenInfo(ESS1P)'!$A$6:$AC$390,3,FALSE),0)","v":0},{"$f":"IFERROR(VLOOKUP(AY494,'EmpGenInfo(ESS1P)'!$A$6:$AC$390,12,FALSE),0)","v":0},0]
[null,null,null,null,null,null,null,null,null,null,null,null,null,null,null,null,null,null,null,null,null,null,null,null,null,null,null,null,null,null,null,null,null,null,null,null,null,null,null,null,null,null,null,null,null,null,null,null,null,null,0,"","",{"$f":"IFERROR(VLOOKUP(AY495,'EmpGenInfo(ESS1P)'!$A$6:$AC$390,3,FALSE),0)","v":0},{"$f":"IFERROR(VLOOKUP(AY495,'EmpGenInfo(ESS1P)'!$A$6:$AC$390,12,FALSE),0)","v":0},0]
[null,null,null,null,null,null,null,null,null,null,null,null,null,null,null,null,null,null,null,null,null,null,null,null,null,null,null,null,null,null,null,null,null,null,null,null,null,null,null,null,null,null,null,null,null,null,null,null,null,null,0,"","",{"$f":"IFERROR(VLOOKUP(AY496,'EmpGenInfo(ESS1P)'!$A$6:$AC$390,3,FALSE),0)","v":0},{"$f":"IFERROR(VLOOKUP(AY496,'EmpGenInfo(ESS1P)'!$A$6:$AC$390,12,FALSE),0)","v":0},0]
[null,null,null,null,null,null,null,null,null,null,null,null,null,null,null,null,null,null,null,null,null,null,null,null,null,null,null,null,null,null,null,null,null,null,null,null,null,null,null,null,null,null,null,null,null,null,null,null,null,null,0,"","",{"$f":"IFERROR(VLOOKUP(AY497,'EmpGenInfo(ESS1P)'!$A$6:$AC$390,3,FALSE),0)","v":0},{"$f":"IFERROR(VLOOKUP(AY497,'EmpGenInfo(ESS1P)'!$A$6:$AC$390,12,FALSE),0)","v":0},0]
[null,null,null,null,null,null,null,null,null,null,null,null,null,null,null,null,null,null,null,null,null,null,null,null,null,null,null,null,null,null,null,null,null,null,null,null,null,null,null,null,null,null,null,null,null,null,null,null,null,null,0,"","",{"$f":"IFERROR(VLOOKUP(AY498,'EmpGenInfo(ESS1P)'!$A$6:$AC$390,3,FALSE),0)","v":0},{"$f":"IFERROR(VLOOKUP(AY498,'EmpGenInfo(ESS1P)'!$A$6:$AC$390,12,FALSE),0)","v":0},0]
[null,null,null,null,null,null,null,null,null,null,null,null,null,null,null,null,null,null,null,null,null,null,null,null,null,null,null,null,null,null,null,null,null,null,null,null,null,null,null,null,null,null,null,null,null,null,null,null,null,null,0,"","",{"$f":"IFERROR(VLOOKUP(AY499,'EmpGenInfo(ESS1P)'!$A$6:$AC$390,3,FALSE),0)","v":0},{"$f":"IFERROR(VLOOKUP(AY499,'EmpGenInfo(ESS1P)'!$A$6:$AC$390,12,FALSE),0)","v":0},0]
[null,null,null,null,null,null,null,null,null,null,null,null,null,null,null,null,null,null,null,null,null,null,null,null,null,null,null,null,null,null,null,null,null,null,null,null,null,null,null,null,null,null,null,null,null,null,null,null,null,null,0,"","",{"$f":"IFERROR(VLOOKUP(AY500,'EmpGenInfo(ESS1P)'!$A$6:$AC$390,3,FALSE),0)","v":0},{"$f":"IFERROR(VLOOKUP(AY500,'EmpGenInfo(ESS1P)'!$A$6:$AC$390,12,FALSE),0)","v":0},0]

{"sheet":"P10-Report","index":4,"n_rows":4,"n_cols":4,"rows_kept":4,"cut":false,"hidden":true,"merged":[[1,3,3,13]]}
[]
[null,null,null,"P10 -Returns"]
["Year",2023]
["Month","January"]

{"sheet":"Payslip","index":5,"n_rows":53,"n_cols":105,"rows_kept":53,"cut":false,"hidden":true,"merged":[[52,6,52,10],[10,5,10,6],[11,5,11,6],[15,5,15,6],[24,5,24,12],[12,11,12,12],[28,5,28,6],[17,11,17,12],[28,9,28,10],[11,10,11,13],[12,7,18,9],[9,7,9,9],[4,5,6,12],[4,36,5,45],[9,5,9,6],[51,6,51,10]]}
[]
["Company Name","BRAVE LION'S BRAIN"]
["Company Mobile ",713883912]
["Company Email Address","bravelionsbrainconsultancy@gmail.com"]
["Company Month Of Payment","January",null,null,null,"Pay Slip Generator",null,null,null,null,null,null,null,null,null,null,null,null,null,null,null,null,null,null,null,null,null,null,null,null,null,null,null,null,null,null,"PAYE SLIP DATA"]
["Compay Year Of Payment",2023,null,null,null,null,null,null,null,null,null,null,null,null,null,null,null,null,null,null,null,null,null,null,null,null,"Criteria","Criteria","Criteria",null,"Criteria",null,null,null,null,null,null,null,null,null,null,null,null,null,null,null,null,null,null,null,null,null,null,null,null,null,null,null,null,null,null,null,null,null,null,null,null,null,null,null,null,null,null,null,null,null,null,null,null,null,null,null,null,null,null,null,null,null,null,null,null,null,null,null,null,null,null,null,"Criteria","Criteria"]
[null,null,null,null,null,null,null,null,null,null,null,null,null,null,null,null,null,null,null,null,null,null,null,null,null,null,"Employee Number","Month Of Filling","years",null,"Employee ID",null,null,null,null,null,"Employee Number","Month Of Filling","Pin Of Employee","Name Of Employee","Residental-Status","Type of Employee","Basic Salary","Housing Allowance","Transport Allowance","Leave Pay","Director's Fee","Lumpsum","Other Allowance","Total Cash Paye","Car Benefit","Other Non-Cash Benefit","Total Non-Cash Pay","Net-Value Of Housing","Total Gross Pay","Pension","Mortgage Interest","HOSP","Monthly Relief","Insurance Relief","Paye","Type Of Housing","Over Time Allowance","years","Employee ID","Empoyee Name","ID Number","Address","Email Address","Postal Code","Date Of Employment","Phone Number","Employee Type","KRA NO","NSSF NO","NHIF NO","Job Title","Gender","Bank Name","Bank Branch","Bank Code ","Branch Code","Bank Account","Basic Salary","Housing Allowance","Transport Allowance","Leave Pay","Director's Fee","Lumpsum","Other Allowance","Car Benefit","Other Non-Cash Benefit","Overtime Allowance",null,null,null,null,null,"Month Of Filling","years",null,null,"Employee Number"]
[null,null,null,null,null,null,null,null,null,null,null,null,null,null,null,null,null,null,null,null,null,null,null,null,null,null,{"$f":"G17","v":0},{"$f":"B5","v":"January"},{"$f":"B6","v":2023},null,{"$f":"G17","v":0},null,null,null,null,null,14,"January","A03467623670P","Gitau Harrison Kithi","Resident","Primary Employee",55000,null,null,null,null,null,null,55000,null,null,0,null,55000,1080,null,null,2400,180,8379.35,"Benefit not given",null,2023,14,"Gitau Harrison Kithi",35267812,"436UEU","ghk2346@gamil.com",34786,"2023-01-01",739456712,"Permanent/Skilled Worker","A03467623670P",238947,876348,"Admin","Male","KCB","MAJENGO",347889,73467,932476,55000,null,null,null,null,null,null,null,null,null,"TOTAL CASH BENEFIT",{"$f":"G27+G30+G32+G34+G36+G38+G40+G42","v":0},null,null,null,{"$f":"B5","v":"January"},{"$f":"B6","v":2023},null,null,1,"NHIF",{"$f":"100*BH8/15","v":1200}]
[null,null,null,null,null,null,null,null,null,null,null,null,null,null,null,null,null,null,null,null,null,null,null,null,null,null,null,null,null,null,null,null,null,null,null,null,null,null,null,null,null,null,null,null,null,null,null,null,null,null,null,null,null,null,null,null,null,null,null,null,null,null,null,null,null,null,null,null,null,null,null,null,null,null,null,null,null,null,null,null,null,null,null,null,null,null,null,null,null,null,null,null,null,"TOTAL DEDUCTION",{"$f":"K30+K32+K34+K37+K39+K41+K43","v":0},null,null,null,null,null,null,null,2]
[null,null,null,null,null,null,null,"Paye Slip",null,null,null,null,null,null,null,null,null,null,null,null,null,null,null,null,null,null,null,null,null,null,null,null,null,null,null,null,null,null,null,null,null,null,null,null,null,null,null,null,null,null,null,null,null,null,null,null,null,null,null,null,null,null,null,null,null,null,null,null,null,null,null,null,null,null,null,null,null,null,null,null,null,null,null,null,null,null,null,null,null,null,null,null,null,"NET PAY:",{"$f":"CQ8-CQ9","v":0},null,null,null,null,null,null,null,3]
[null,null,null,null,null,null,null,null,null,null,null,null,null,null,null,null,null,null,null,null,null,null,null,null,null,null,null,null,null,null,null,null,null,null,null,null,null,null,null,null,null,null,null,null,null,null,null,null,null,null,null,null,null,null,null,null,null,null,null,null,null,null,null,null,null,null,null,null,null,null,null,null,null,null,null,null,null,null,null,null,null,null,null,null,null,null,null,null,null,null,null,null,null,null,null,null,null,null,null,null,null,null,4]
[null,null,null,null,null,null,null,null,null,null,null,null,null,null,null,null,null,null,null,null,null,null,null,null,null,null,null,null,null,null,null,null,null,null,null,null,null,null,null,null,null,null,null,null,null,null,null,null,null,null,null,null,null,null,null,null,null,null,null,null,null,null,null,null,null,null,null,null,null,null,null,null,null,null,null,null,null,null,null,null,null,null,null,null,null,null,null,null,null,null,null,null,null,null,null,null,null,null,null,null,null,null,5]
[null,null,null,null,null,null,null,null,null,null,"Emp Pin NO:",null,null,null,null,null,null,null,null,null,null,null,null,null,null,null,null,null,null,null,null,null,null,null,null,null,null,null,null,null,null,null,null,null,null,null,null,null,null,null,null,null,null,null,null,null,null,null,null,null,null,null,null,null,null,null,null,null,null,null,null,null,null,null,null,null,null,null,null,null,null,null,null,null,null,null,null,null,null,null,null,null,null,null,null,null,null,null,null,null,null,null,6]
[null,null,null,null,null,null,null,null,null,null,"PAY DATE","PAY MONTH","PAY YEAR",null,null,null,null,null,null,null,null,null,null,null,null,null,null,null,null,null,null,null,null,null,null,null,null,null,null,null,null,null,null,null,null,null,null,null,null,null,null,null,null,null,null,null,null,null,null,null,null,null,null,null,null,null,null,null,null,null,null,null,null,null,null,null,null,null,null,null,null,null,null,null,null,null,null,null,null,null,null,null,null,null,null,null,null,null,null,null,null,null,7]
[null,null,null,null,null,null,null,null,null,null,null,null,null,null,null,null,null,null,null,null,null,null,null,null,null,null,null,null,null,null,null,null,null,null,null,null,null,null,null,null,null,null,null,null,null,null,null,null,null,null,null,null,null,null,null,null,null,null,null,null,null,null,null,null,null,null,null,null,null,null,null,null,null,null,null,null,null,null,null,null,null,null,null,null,null,null,null,null,null,null,null,null,null,null,null,null,null,null,null,null,null,null,8]
[null,null,null,null,null,"Employee Pay Saummary",null,null,null,null,null,null,null,null,null,null,null,null,null,null,null,null,null,null,null,null,null,null,null,null,null,null,null,null,null,null,null,null,null,null,null,null,null,null,null,null,null,null,null,null,null,null,null,null,null,null,null,null,null,null,null,null,null,null,null,null,null,null,null,null,null,null,null,null,null,null,null,null,null,null,null,null,null,null,null,null,null,null,null,null,null,null,null,null,null,null,null,null,null,null,null,null,9]
[null,null,null,null,null,"Employee ID",null,null,null,null,null,null,null,null,null,null,null,null,null,null,null,null,null,null,null,null,null,null,null,null,null,null,null,null,null,null,null,null,null,null,null,null,null,null,null,null,null,null,null,null,null,null,null,null,null,null,null,null,null,null,null,null,null,null,null,null,null,null,null,null,null,null,null,null,null,null,null,null,null,null,null,null,null,null,null,null,null,null,null,null,null,null,null,null,null,null,null,null,null,null,null,null,10]
[null,null,null,null,null,"Employee Name",null,null,null,null,null,"Cash Beneifts:",null,null,null,null,null,null,null,null,null,null,null,null,null,null,null,null,null,null,null,null,null,null,null,null,null,null,null,null,null,null,null,null,null,null,null,null,null,null,null,null,null,null,null,null,null,null,null,null,null,null,null,null,null,null,null,null,null,null,null,null,null,null,null,null,null,null,null,null,null,null,null,null,null,null,null,null,null,null,null,null,null,null,null,null,null,null,null,null,null,null,11]
[null,null,null,null,null,"ID Number",null,null,null,null,null,"Total Gross Pay:",null,null,null,null,null,null,null,null,null,null,null,null,null,null,null,null,null,null,null,null,null,null,null,null,null,null,null,null,null,null,null,null,null,null,null,null,null,null,null,null,null,null,null,null,null,null,null,null,null,null,null,null,null,null,null,null,null,null,null,null,null,null,null,null,null,null,null,null,null,null,null,null,null,null,null,null,null,null,null,null,null,null,null,null,null,null,null,null,null,null,12]
[null,null,null,null,null,"Employee Date Of Employment",null,null,null,null,null,null,null,null,null,null,null,null,null,null,null,null,null,null,null,null,null,null,null,null,null,null,null,null,null,null,null,null,null,null,null,null,null,null,null,null,null,null,null,null,null,null,null,null,null,null,null,null,null,null,null,null,null,null,null,null,null,null,null,null,null,null,null,null,null,null,null,null,null,null,null,null,null,null,null,null,null,null,null,null,null,null,null,null,null,null,null,null,null,null,null,null,14]
[null,null,null,null,null,"Postal Code",null,null,null,null,null,"Total Deductions:"]
[null,null,null,null,null,"Email Address"]
[null,null,null,null,null,"Job Title",null,null,null,null,null,"Net Pay:"]
[null,null,null,null,null,"Account Number"]
[null,null,null,null,null,"Details"]
[]
[null,null,null,null,null,"Basic Salary:"]
[]
[null,null,null,null,null,"Cash Beneifts:",null,null,null,"Allowable Deduction:"]
[null,null,null,null,null,"Housing Allowance",null,null,null,"NSSF"]
[]
[null,null,null,null,null,"Transport Allowance",null,null,null,"Mortgage Interest"]
[]
[null,null,null,null,null,"Leave Pay",null,null,null,"Proffesional Fee"]
[]
[null,null,null,null,null,"Director's Fee",null,null,null,"Other Deductions:"]
[null,null,null,null,null,null,null,null,null,"NHIF"]
[null,null,null,null,null,"Other Allowance"]
[null,null,null,null,null,null,null,null,null,"Paye"]
[null,null,null,null,null,"Arrears"]
[null,null,null,null,null,null,null,null,null,"Loan Repayment"]
[null,null,null,null,null,"Over Time Allowance"]
[null,null,null,null,null,null,null,null,null,"Advance"]
[]
[null,null,null,null,null,"Total Cash Benefits:",null,null,null,"Total Deduction:"]
[]
[]
[]
[]
[]
[]
[null,null,null,null,null,null,"Thank You For working with us it’s been nice working with you"]
[null,null,null,null,null,null,"But remember use your money for good!!!"]

{"sheet":"P9A","index":6,"n_rows":46,"n_cols":106,"rows_kept":46,"cut":false,"hidden":true,"merged":[[41,1,41,3],[42,0,42,3],[43,9,43,13],[5,4,5,5],[6,4,6,5],[18,12,18,13],[10,5,10,7],[11,5,11,7],[16,5,16,7],[37,0,37,1],[18,5,18,7],[36,0,36,1],[39,1,39,3],[40,1,40,3],[22,99,22,105],[18,94,18,95],[45,12,45,13],[44,9,44,11],[44,12,44,13],[16,52,20,64],[18,87,18,89]]}
["Pesion Set Limit",20000,null,null,null,null,null,null,null,null,null,null,null,null,null,null,null,null,null,null,null,null,null,null,null,null,null,null,null,null,null,null,null,null,null,null,null,null,null,null,null,null,null,null,null,null,null,null,null,null,null,null,null,null,null,null,null,null,null,null,null,null,null,null,null,null,null,null,null,null,null,null,null,null,null,null,null,null,null,null,null,null,null,null,0]
["Personal Relief",2400]
[]
[]
[]
[null,null,null,null,"DOMESTIC TAXES DEPARTMENT"]
["P9 A",null,null,null,"TAX DEDUCTION CARD YEAR",null,2023]
["Employers Name",null,null,null,null,null,null,null,null,"Employer's PIN"]
["Empoyee's  Name","Brian Kombe Gode"]
["Employee's Other Name",null,null,null,null,null,null,null,null,"Employee's PIN",null,"A34578678450P"]
["MONTH","Basic ","Allowance &","Net Value of","Total Gross","Defined Contribution",null,null,"Owner-","Retirement","Chargerble","Tax","Personal","Insurance","Paye Tax"]
[null,"Salary","Benefit from","Quarters","pay","Retirment Scheme",null,null,"Occupied","Contribution","Pay","Charged","Relief","Relief","(J-K)"]
[null,null,"employment(other",null,null,null,null,null,"Interest","&Owner"]
[null,null,"than car & Housing)",null,"(A+B+C)",null,null,null,null,"Occupied"]
[null,null,null,null,null,null,null,null,null,"Interest","(D-F)",null,null,null,null,null,null,null,null,null,null,null,null,null,null,null,null,null,null,null,null,null,null,null,null,null,null,null,null,null,null,null,null,null,null,null,null,null,null,null,null,null,null,null,null,null,null,null,null,null,null,null,null,null,null,null,null,null,null,null,null,null,null,null,null,null,null,null,null,null,null,null,{"$f":"B9","v":"Brian Kombe Gode"}]
[]
[null,"Kshs.","Kshs.","Kshs.","Kshs.","Kshs.",null,null,"Kshs.","Kshs.","Kshs.","Kshs.","Kshs.","Kshs.","Kshs.",null,null,null,null,null,null,null,null,null,null,null,null,null,null,null,null,null,null,null,null,null,null,null,null,null,null,null,null,null,null,null,null,null,null,null,null,null,"RESULT FOR P9 FORM"]
[]
[null,"A","B","C","D","E",null,null,"F","G","H","J","K",null,"L",null,null,null,null,null,null,null,null,null,null,null,null,null,null,null,null,null,null,null,null,null,null,null,null,null,null,null,null,null,null,null,null,null,null,null,null,null,null,null,null,null,null,null,null,null,null,null,null,null,null,null,null,null,null,null,null,null,null,null,null,null,null,null,null,null,null,null,"Month","A","B","C","D","E",null,null,"F","G","H","J","K",null,"L"]
[null,null,null,null,null,"E1","E2","E3","Amount of","The Lowest",null,null,null,null,null,null,null,null,null,null,null,null,null,null,null,null,null,null,null,null,null,null,null,null,null,null,null,null,null,null,null,null,null,null,null,null,null,null,null,null,null,null,null,null,null,null,null,null,null,null,null,null,null,null,null,null,null,null,null,null,null,null,null,null,null,null,null,null,null,null,null,null,null,null,null,null,null,"E1","E2","E3","Amount of","The Lowest"]
[null,null,null,null,null,0.3,null,null,"Interest","of E added to",null,null,"Total",null,null,null,null,null,null,null,null,null,null,null,null,null,null,null,null,null,null,null,null,null,null,null,null,null,null,null,null,null,null,null,null,null,null,null,null,"Criteria Range","Criteria Range",null,null,null,null,null,null,null,null,null,null,null,null,null,null,null,null,null,null,null,null,null,null,null,null,null,null,null,null,null,null,null,null,null,null,null,null,0.3,null,null,"Interest","of E added to",null,null,"Total"]
[null,null,null,null,null,"OF A","Actual","Fixed",null,"F",null,null,"Kshs.",null,null,null,null,null,null,null,null,null,null,null,null,null,null,null,null,null,null,null,null,null,null,null,null,null,null,null,null,null,null,null,null,null,null,null,null,"years","Name Of Employee",null,"Employee Number","Month Of Filling","Pin Of Employee","Name Of Employee","Residental-Status","Type of Employee","Basic Salary","Housing Allowance","Transport Allowance","Leave Pay","Director's Fee","Lumpsum","Other Allowance","Total Cash Paye","Car Benefit","Other Non-Cash Benefit","Total Non-Cash Pay","Net-Value Of Housing","Total Gross Pay","Pension","Mortgage Interest","HOSP","Monthly Relief","Insurance Relief","Paye","Type Of Housing","Over Time Allowance","years","Total Benefit Except Car",null,null,null,null,null,null,"OF A","Actual","Fixed",null,"F",null,null,"Kshs."]
["January",60000,0,0,60000,18000,1080,20000,0,1080,58920,12459.349999999999,2400,195,9864.3499999999985,null,null,null,null,null,null,null,null,null,null,null,null,null,null,null,null,null,null,null,null,null,null,null,null,null,null,null,null,null,null,null,null,null,null,{"$f":"$G$7","v":2023},{"$f":"B9","v":"Brian Kombe Gode"},null,1,"January","A34578678450P","Brian Kombe Gode","Resident","Primary Employee",60000,null,null,null,null,null,null,60000,null,null,0,null,60000,1080,null,null,2400,195,9864.3499999999985,"Benefit not given",null,2023,{"$f":"BH23+BI23+BJ23+BK23+BL23+BM23+BP23","v":0},null,"January",{"$f":"IFERROR(SUMIF($BB$23:$BB$34,CE23,$BG$23:$BG$34),0)","v":60000},{"$f":"IFERROR(SUMIF($BB$23:$BB$34,CE23,$CC$23:$CC$34),0)","v":0},{"$f":"IFERROR(SUMIF($BB$23:$BB$34,CE23,$BR$23:$BR$34),0)","v":0},{"$f":"CF23+CG23+CH23","v":60000},{"$f":"IFERROR(CF23*$F$21,0)","v":18000},{"$f":"IFERROR(SUMIF($BB$23:$BB$34,CE23,$BT$23:$BT$34),0)","v":1080},{"$f":"IFERROR($B$1,0)","v":20000},{"$f":"IFERROR(SUMIF($BB$23:$BB$34,CE23,$BV$23:$BV$34),0)","v":0},{"$f":"IFERROR(CM23+MIN(CJ23:CL23),0)","v":1080},{"$f":"IFERROR(CI23-CN23,0)","v":58920},{"$f":"IFERROR(IF((CO23-$CV$25)>1,$CV$25*$CW$25,0)+IF((CO23-$CV$25)>$CV$26,$CV$26*$CW$26,IF(AND((CO23-$CV$25)<$CV$26,(CO23-$CV$25)>0),((CO23-$CV$25)/$CV$26*($CV$26*$CW$26)),0))+IF((CO23-$CV$25-$CV$26)>$CV$27,(CO23-$CV$27)*$CW$27,IF(AND((CO23-$CV$25-$CV$26)<$CV$27,(CO23-$CV$25-$CV$26)>0),((CO23-$CV$25-$CV$26)/$CV$27*($CV$27*$CW$27)),0)),0)","v":12459.349999999999},{"$f":"IFERROR($B$2,0)","v":2400},{"$f":"IFERROR(SUMIF($BB$23:$BB$34,CE23,$BX$23:$BX$34),0)","v":195},{"$f":"IFERROR(IF(CP23-SUM(CQ23:CR23)<0,0,CP23-SUM(CQ23:CR23)),0)","v":9864.3499999999985},null,null,"Paye Normal"]
["February",60000,0,0,60000,18000,1080,20000,0,1080,58920,12459.349999999999,2400,195,9864.3499999999985,null,null,null,null,null,null,null,null,null,null,null,null,null,null,null,null,null,null,null,null,null,null,null,null,null,null,null,null,null,null,null,null,null,null,null,null,null,1,"February","A34578678450P","Brian Kombe Gode","Resident","Primary Employee",60000,null,null,null,null,null,null,60000,null,null,0,null,60000,1080,null,null,2400,195,9864.3499999999985,"Benefit not given",null,2023,0,null,"February",{"$f":"IFERROR(SUMIF($BB$23:$BB$34,CE24,$BG$23:$BG$34),0)","v":60000},0,0,{"$f":"CF24+CG24+CH24","v":60000},{"$f":"IFERROR(CF24*$F$21,0)","v":18000},{"$f":"IFERROR(SUMIF($BB$23:$BB$34,CE24,$BT$23:$BT$34),0)","v":1080},{"$f":"IFERROR($B$1,0)","v":20000},0,{"$f":"IFERROR(CM24+MIN(CJ24:CL24),0)","v":1080},{"$f":"IFERROR(CI24-CN24,0)","v":58920},{"$f":"IFERROR(IF((CO24-$CV$25)>1,$CV$25*$CW$25,0)+IF((CO24-$CV$25)>$CV$26,$CV$26*$CW$26,IF(AND((CO24-$CV$25)<$CV$26,(CO24-$CV$25)>0),((CO24-$CV$25)/$CV$26*($CV$26*$CW$26)),0))+IF((CO24-$CV$25-$CV$26)>$CV$27,(CO24-$CV$27)*$CW$27,IF(AND((CO24-$CV$25-$CV$26)<$CV$27,(CO24-$CV$25-$CV$26)>0),((CO24-$CV$25-$CV$26)/$CV$27*($CV$27*$CW$27)),0)),0)","v":12459.349999999999},{"$f":"IFERROR($B$2,0)","v":2400},{"$f":"IFERROR(SUMIF($BB$23:$BB$34,CE24,$BX$23:$BX$34),0)","v":195},{"$f":"IFERROR(IF(CP24-SUM(CQ24:CR24)<0,0,CP24-SUM(CQ24:CR24)),0)","v":9864.3499999999985},null,null,"NORMAL","RATES"]
["March",60000,0,0,60000,18000,1080,20000,0,1080,58920,12459.349999999999,2400,195,9864.3499999999985,null,null,null,null,null,null,null,null,null,null,null,null,null,null,null,null,null,null,null,null,null,null,null,null,null,null,null,null,null,null,null,null,null,null,null,null,null,1,"March","A34578678450P","Brian Kombe Gode","Resident","Primary Employee",60000,null,null,null,null,null,null,60000,null,null,0,null,60000,1080,null,null,2400,195,9864.3499999999985,"Benefit not given",null,2023,0,null,"March",60000,0,0,60000,18000,1080,20000,0,1080,58920,12459.349999999999,2400,195,9864.3499999999985,null,null,{"$f":"'Set-Up'!$D$7","v":24000},{"$f":"'Set-Up'!$E$7","v":0.1},null,{"$f":"IFERROR(IF(($CO23-$CV$25)>1,$CV$25*CW25,0),\"\")","v":2400}]
["April",60000,0,0,60000,18000,1080,20000,0,1080,58920,12459.349999999999,2400,195,9864.3499999999985,null,null,null,null,null,null,null,null,null,null,null,null,null,null,null,null,null,null,null,null,null,null,null,null,null,null,null,null,null,null,null,null,null,null,null,null,null,1,"April","A34578678450P","Brian Kombe Gode","Resident","Primary Employee",60000,null,null,null,null,null,null,60000,null,null,0,null,60000,1080,null,null,2400,195,9864.3499999999985,"Benefit not given",null,2023,0,null,"April",60000,0,0,60000,18000,1080,20000,0,1080,58920,12459.349999999999,2400,195,9864.3499999999985,null,null,{"$f":"'Set-Up'!$D$8","v":8333},{"$f":"'Set-Up'!$E$8","v":0.25},null,{"$f":"IFERROR(IF(($CO23-$CV$25)>$CV$26,$CV$26*$CW$26,IF(AND((CO23-$CV$25)<$CV$26,(CO23-$CV$25)>0),((CO23-$CV$25)/$CV$26*($CV$26*$CW$26)),0)),0)","v":2083.25},null,null,{"$f":"IF(AND((CO23-$CV$25)<$CV$26,(CO23-$CV$25)>0),((CO23-$CV$25)/$CV$26*($CV$26*$CW$26)),0)","v":0}]
["May",60000,0,0,60000,18000,1080,20000,0,1080,58920,12459.349999999999,2400,195,9864.3499999999985,null,null,null,null,null,null,null,null,null,null,null,null,null,null,null,null,null,null,null,null,null,null,null,null,null,null,null,null,null,null,null,null,null,null,null,null,null,1,"May","A34578678450P","Brian Kombe Gode","Resident","Primary Employee",60000,null,null,null,null,null,null,60000,null,null,0,null,60000,1080,null,null,2400,195,9864.3499999999985,"Benefit not given",null,2023,0,null,"May",60000,0,0,60000,18000,1080,20000,0,1080,58920,12459.349999999999,2400,195,9864.3499999999985,null,null,{"$f":"'Set-Up'!$D$9","v":32332},{"$f":"'Set-Up'!$E$9","v":0.3},null,{"$f":"IFERROR(IF(($CO23-$CV$25-$CV$26)>$CV$27,($CO23-$CV$27)*$CW$27,IF(AND((CO23-$CV$25-$CV$26)<$CV$27,(CO23-$CV$25-$CV$26)>0),((CO23-$CV$25-$CV$26)/$CV$27*($CV$27*$CW$27)),0)),0)","v":7976.0999999999995},null,null,{"$f":"IF(AND((CO23-$CV$25-$CV$26)<$CV$27,(CO23-$CV$25-$CV$26)>0),((CO23-$CV$25-$CV$26)/$CV$27*($CV$27*$CW$27)),0)","v":7976.0999999999995}]
["June",60000,0,0,60000,18000,1080,20000,0,1080,58920,12459.349999999999,2400,195,9864.3499999999985,null,null,null,null,null,null,null,null,null,null,null,null,null,null,null,null,null,null,null,null,null,null,null,null,null,null,null,null,null,null,null,null,null,null,null,null,null,1,"June","A34578678450P","Brian Kombe Gode","Resident","Primary Employee",60000,null,null,null,null,null,null,60000,null,null,0,null,60000,1080,null,null,2400,195,9864.3499999999985,"Benefit not given",null,2023,0,null,"June",60000,0,0,60000,18000,1080,20000,0,1080,58920,12459.349999999999,2400,195,9864.3499999999985,null,null,null,null,null,{"$f":"SUM(CY25:CY27)","v":12459.349999999999}]
["July",60000,0,0,60000,18000,1080,20000,0,1080,58920,12459.349999999999,2400,195,9864.3499999999985,null,null,null,null,null,null,null,null,null,null,null,null,null,null,null,null,null,null,null,null,null,null,null,null,null,null,null,null,null,null,null,null,null,null,null,null,null,1,"July","A34578678450P","Brian Kombe Gode","Resident","Primary Employee",60000,null,null,null,null,null,null,60000,null,null,0,null,60000,1080,null,null,2400,195,9864.3499999999985,"Benefit not given",null,2023,0,null,"July",60000,0,0,60000,18000,1080,20000,0,1080,58920,12459.349999999999,2400,195,9864.3499999999985]
["August",60000,0,0,60000,18000,1080,20000,0,1080,58920,12459.349999999999,2400,195,9864.3499999999985,null,null,null,null,null,null,null,null,null,null,null,null,null,null,null,null,null,null,null,null,null,null,null,null,null,null,null,null,null,null,null,null,null,null,null,null,null,1,"August","A34578678450P","Brian Kombe Gode","Resident","Primary Employee",60000,null,null,null,null,null,null,60000,null,null,0,null,60000,1080,null,null,2400,195,9864.3499999999985,"Benefit not given",null,2023,0,null,"August",60000,0,0,60000,18000,1080,20000,0,1080,58920,12459.349999999999,2400,195,9864.3499999999985]
["September",60000,0,0,60000,18000,1080,20000,0,1080,58920,12459.349999999999,2400,195,9864.3499999999985,null,null,null,null,null,null,null,null,null,null,null,null,null,null,null,null,null,null,null,null,null,null,null,null,null,null,null,null,null,null,null,null,null,null,null,null,null,1,"September","A34578678450P","Brian Kombe Gode","Resident","Primary Employee",60000,null,null,null,null,null,null,60000,null,null,0,null,60000,1080,null,null,2400,195,9864.3499999999985,"Benefit not given",null,2023,0,null,"September",60000,0,0,60000,18000,1080,20000,0,1080,58920,12459.349999999999,2400,195,9864.3499999999985]
["October",60000,0,0,60000,18000,1080,20000,0,1080,58920,12459.349999999999,2400,195,9864.3499999999985,null,null,null,null,null,null,null,null,null,null,null,null,null,null,null,null,null,null,null,null,null,null,null,null,null,null,null,null,null,null,null,null,null,null,null,null,null,1,"October","A34578678450P","Brian Kombe Gode","Resident","Primary Employee",60000,null,null,null,null,null,null,60000,null,null,0,null,60000,1080,null,null,2400,195,9864.3499999999985,"Benefit not given",null,2023,0,null,"October",60000,0,0,60000,18000,1080,20000,0,1080,58920,12459.349999999999,2400,195,9864.3499999999985]
["November",60000,0,0,60000,18000,1080,20000,0,1080,58920,12459.349999999999,2400,195,9864.3499999999985,null,null,null,null,null,null,null,null,null,null,null,null,null,null,null,null,null,null,null,null,null,null,null,null,null,null,null,null,null,null,null,null,null,null,null,null,null,1,"November","A34578678450P","Brian Kombe Gode","Resident","Primary Employee",60000,null,null,null,null,null,null,60000,null,null,0,null,60000,1080,null,null,2400,195,9864.3499999999985,"Benefit not given",null,2023,0,null,"November",60000,0,0,60000,18000,1080,20000,0,1080,58920,12459.349999999999,2400,195,9864.3499999999985]
["December",60000,0,0,60000,18000,1080,20000,0,1080,58920,12459.349999999999,2400,195,9864.3499999999985,null,null,null,null,null,null,null,null,null,null,null,null,null,null,null,null,null,null,null,null,null,null,null,null,null,null,null,null,null,null,null,null,null,null,null,null,null,1,"December","A34578678450P","Brian Kombe Gode","Resident","Primary Employee",60000,null,null,null,null,null,null,60000,null,null,0,null,60000,1080,null,null,2400,195,9864.3499999999985,"Benefit not given",null,2023,0,null,"December",60000,0,0,60000,18000,1080,20000,0,1080,58920,12459.349999999999,2400,195,9864.3499999999985]
["TOTALS",{"$f":"SUM(B23:B34)","v":720000},{"$f":"SUM(C23:C34)","v":0},0,720000,216000,12960,240000,0,12960,707040,149512.20000000001,28800,2340,118372.20000000001,null,null,null,null,null,null,null,null,null,null,null,null,null,null,null,null,null,null,null,null,null,null,null,null,null,null,null,null,null,null,null,null,null,null,null,null,null,null,null,null,null,null,null,null,null,null,null,null,null,null,null,null,null,null,null,null,null,null,null,null,null,null,null,null,null,null,null,"TOTALS",{"$f":"SUM(CF23:CF34)","v":720000},{"$f":"SUM(CG23:CG34)","v":0},0,720000,216000,12960,240000,0,12960,707040,149512.20000000001,28800,2340,118372.20000000001]
[null,null,null,null,null,null,null,null,"TOTAL TAX (COLL.) Kshs.",null,{"$f":"O35","v":118372.20000000001}]
["To be completed by Employer at end of year"]
["TOTAL CHARGEBABLE PAY(COL.H)                          Kshs.",null,{"$f":"K35","v":707040}]
["IMPORTANT"]
["1. Use P9A                          (a)","For all liable employees and where director/employee received",null,null,null,null,null,null,null,"(b)Attach","(i)Photostat copy on interest certificate and Statement Of Accout From The"]
[null,"Benefit in additon to cash emoluments",null,null,null,null,null,null,null,null,"Financial Institution"]
["                                              (b)","Where an employee is eligible to deduction on owner occupied interest",null,null,null,null,null,null,null,null,"(ii)The DECLARATION duly signed by the empoyee"]
["2.(a)Deductable interest in respect of any month must not exceed Kshs 12500/="]
[null,null,null,null,null,null,null,null,null,"NAMES OF FINANCIAL INSTITUTION ADVANCING MORTAGAGE LOAN"]
["P9A",null,null,null,null,null,null,null,null,"I.R NO. OF OWNER OCCUPIED PROPERTY:"]
[null,null,null,null,null,null,null,null,null,"DATE OF OCCUPATION OF HOUSE:"]

{"sheet":"EmpGenInfo(ESS1P)","index":7,"n_rows":20,"n_cols":44,"rows_kept":20,"cut":false,"hidden":true,"merged":[[2,0,3,9]]}
[null,"E11",null,null,null,null,null,null,null,"E9",null,null,null,null,null,null,null,null,null,"G9","G11","G13","G15","G17","I9","I11","I13","I15","I19"]
[]
["EMPOYEE GENERAL INFORMATION"]
[]
["Employee ID","Empoyee Name","ID Number","Address","Email Address","Postal Code","Date Of Employment","Phone Number","Employee Type","KRA NO","NSSF NO","NHIF NO","Job Title","Gender","Bank Name","Bank Branch","Bank Code ","Branch Code","Bank Account","Basic Salary","Housing Allowance","Transport Allowance","Leave Pay","Director's Fee","Lumpsum","Other Allowance","Car Benefit","Other Non-Cash Benefit","Overtime Allowance","PATH"]
[1,"Brian Kombe Gode",334567890,"2347OIU","bkg985",84598,"2022-01-01",7896543,"Permanent/Skilled Worker","A34578678450P",84537,8764587,"Accountant","Male","KCB","MAJENGO",4789,8974,9342434,60000,null,null,null,null,null,null,null,null,null,"C:\\Users\\Admin\\Downloads\\Documents\\download (1).jpg"]
[2,"Timothy Brian Odongo",2345671,"34978hk","tbo47@gamil.com",34789,"2019-01-01",737456712,"Permanent/Skilled Worker","A49898479409",479347,849237,"Manager","Male","KCB","BAMBURI",43578,8743,32476487,100000,20000,10000,null,5000,null,null,null,null,null,"C:\\Users\\Admin\\Downloads\\Documents\\images (4).jpg"]
[3,"Bshora Wayu Nzamo",29675430,"476JDF","bwn347@gmail.com",458687,"2020-01-01",734567820,"Permanent/Skilled Worker","A4378678570K",45768,43578,"Accountant","Male","DTB","BONDENI",384568,78468,856627645,50000,null,null,null,null,null,null,null,null,null,"C:\\Users\\Admin\\Downloads\\Documents\\download (2).jpg"]
[4,"Wanyoni Agala Musando",33456789,"2346JHG","wam764@gamil.com",7458,"2020-01-01",786543221,"Permanent/Skilled Worker","A646834690O",3468,763476,"Accountant","Male","KCB","MAJENGO",34586,76834,975346,45000,null,null,null,null,null,null,null,null,null,"C:\\Users\\Admin\\Downloads\\Documents\\images.jpg"]
[5,"Benerd Kimani Njorioge",30456789,"9845KJDF","bkn458@gamil.com",5898,"2021-01-10",789654321,"Permanent/Skilled Worker","A745878980P",456687,75487,"Admin","Male","KCB","MWEMBE TAYARI",5489,8458,74524,45000,null,null,null,null,null,null,null,null,null,"C:\\Users\\Admin\\Downloads\\Documents\\images (1).jpg"]
[6,"Sam Jacob Mroki",31567823,"576HDK","sjm349@gamil.com",8975,"2020-01-01",768942345,"Permanent/Skilled Worker","A457899480p",4587,89345,"Security Personel","Male","KCB","MJENGO",3487,89734,789234,35000,null,null,null,null,null,null,null,null,null,"C:\\Users\\Admin\\Downloads\\Documents\\images (3).jpg"]
[7,"Joy Mueni Mutinda",32897938,"3487URI","jmm468@jamil.com",8578,"2022-01-01",723456765,"Permanent/Skilled Worker","A5783458890P",874587,783489,"IT Stuff","Female","DTB","KINGORANI",4587,983475,95723477,40000,null,null,null,null,null,null,null,null,null,"C:\\Users\\Admin\\Downloads\\Documents\\download (3).jpg"]
[8,"Kahindi Mwero Boga",2934567,"4576YUR","twa3487@gamil.com",3457,"2019-01-01",798654312,"Permanent/Skilled Worker","A34778457890p",45789,873447,"IT Stuff","Male","DTB","MEMBE TAYARI",34688,34678,845673,40000,null,null,null,null,null,null,null,null,null,"C:\\Users\\Admin\\Downloads\\Documents\\images (5).jpg"]
[9,"John Boscco Bosire",98347897,"9847jhdf","jbb847@gamil.com",98450,"2020-01-01",734567128,"Permanent/Skilled Worker","A034897489E",49588,98348,"Accountant","Male","KCB","MAJENGO",34957,8934,974728729,50000,null,null,null,null,null,null,null,null,null,"C:\\Users\\Admin\\Downloads\\Documents\\download.jpg"]
[10,"Hassan Abdulnasir Wario",2156789,"8475QWE","bck479@gamil.com",94387,"2015-01-01",731256789,"Permanent/Skilled Worker","A4782349790P",934878,783458,"IT Stuff","Male","KCB","MAJENGO",3498,984389,74593477,40000,null,null,null,null,null,null,null,null,null,"C:\\Users\\Admin\\Downloads\\Documents\\images (2).jpg"]
[11,"Jastine Makemba Batogo",34567890,"784UYG","jmb784@gamil.com",43687,"2019-01-01",786885432,"Permanent/Skilled Worker","A0324878234P",47998,987489,"Accountant","Male","KCB","MAJENGO",347979,984359,7623544,50000,null,null,null,null,null,null,null,null,null,"C:\\Users\\Admin\\Downloads\\Documents\\download (4).jpg"]
[12,"Janet Wairimu Wamatagi",35678910,"934RUY","jww457@gamil.com",4598,"2020-01-01",745683412,"Permanent/Skilled Worker","A03476784359K",234789,89347,"IT Stuff","Female","DTB","MTWAPA",345789,87345,347578,40000,null,null,null,null,null,null,null,null,null,"C:\\Users\\Admin\\Downloads\\Documents\\images (10).jpg"]
[13,"Denis Brian Ochola",34567812,"73489YUR","dbo347@gmail.com",4689,"2020-01-01",798345675,"Permanent/Skilled Worker","A2347984780P",43788,87499,"IT Stuff","Male","KCB","MAJENGO",7549,9854,934576726,50000,null,null,null,null,null,null,null,null,null,"C:\\Users\\Admin\\Downloads\\Documents\\images (8).jpg"]
[14,"Gitau Harrison Kithi",35267812,"436UEU","ghk2346@gamil.com",34786,"2023-01-01",739456712,"Permanent/Skilled Worker","A03467623670P",238947,876348,"Admin","Male","KCB","MAJENGO",347889,73467,932476,55000,null,null,null,null,null,null,null,null,null,"C:\\Users\\Admin\\Downloads\\Documents\\images (9).jpg",null,null,null,null,null,null,null,null,{"$f":"CONCATENATE(AI19,AL19)","v":""},{"$f":"TRIM(AM19)","v":""},null,null,null,{"$f":"TRIM(CONCATENATE(AQ19,AL19))","v":""}]
[null,null,null,null,null,null,null,null,null,null,null,null,null,null,null,null,null,null,null,null,null,null,null,null,null,null,null,null,null,null,null,null,null,null,null,null,null,null,{"$f":"CONCATENATE(AI20,AL20)","v":""},{"$f":"TRIM(AM20)","v":""},null,null,null,{"$f":"TRIM(CONCATENATE(AQ20,AL20))","v":""}]

{"sheet":"Monthly PayeDB","index":8,"n_rows":198,"n_cols":129,"rows_kept":198,"cut":false,"hidden":true,"merged":[[2,0,3,10],[2,33,3,43],[2,65,3,75],[2,94,3,105]]}
["E7","E17","E9","E11","E13","E15","G9","G11","G13","G15","G17","I9","I11","E19","I13","I15","G19","I17","F21","E32","E34","E36","G32","G34","E38","G36","I19","G7",null,"Creteria Range","Creteria Range","Creteria Range",null,null,null,null,null,null,null,null,null,null,null,null,null,null,null,null,null,null,null,null,null,null,null,null,null,null,null,null,null,null,"Creteria Range","Creteria Range",null,null,null,null,null,null,null,null,null,null,null,null,null,null,null,null,null,null,null,null,null,null,null,null,null,null,null,null,null,null,"a","b","c","d","e","f","g","h","i","j","k","l","m","n","o","p","q","r","s","t","u","v","w","x","y","z","aa","ab"]
[null,null,null,null,null,null,null,null,null,null,null,null,null,null,null,null,null,null,null,null,null,null,null,null,null,null,null,null,null,"Month Of Filling","Employee Number","years",null,null,null,null,null,null,null,null,null,null,null,null,null,null,null,null,null,null,null,null,null,null,null,null,null,null,null,null,null,null,"Month Of Filling","years"]
["Employee Paye Data Base",null,null,null,null,null,null,null,null,null,null,null,null,null,null,null,null,null,null,null,null,null,null,null,null,null,null,null,null,{"$f":"'Paye Calculator'!I7","v":0},{"$f":"'Paye Calculator'!H7","v":0},{"$f":"'Paye Calculator'!G7","v":0},null,"Load Employee Paye To Paye Calc",null,null,null,null,null,null,null,null,null,null,null,null,null,null,null,null,null,null,null,null,null,null,null,null,null,null,null,null,{"$f":"'P10-Report'!B4","v":"January"},{"$f":"'P10-Report'!B3","v":2023},null,"Load Eployee Data to P10 Form",null,null,null,null,null,null,null,null,null,null,null,null,null,null,null,null,null,null,null,null,null,null,null,null,null,null,null,null,"Data Used For P10 Form"]
[]
["Employee Number","Month Of Filling","Pin Of Employee","Name Of Employee","Residental-Status","Type of Employee","Basic Salary","Housing Allowance","Transport Allowance","Leave Pay","Director's Fee","Lumpsum","Other Allowance","Total Cash Paye","Car Benefit","Other Non-Cash Benefit","Total Non-Cash Pay","Net-Value Of Housing","Total Gross Pay","Pension","Mortgage Interest","HOSP","Monthly Relief","Insurance Relief","Paye","Type Of Housing","Over Time Allowance","years",null,null,null,null,null,"Employee Number","Month Of Filling","Pin Of Employee","Name Of Employee","Residental-Status","Type of Employee","Basic Salary","Housing Allowance","Transport Allowance","Leave Pay","Director's Fee","Lumpsum","Other Allowance","Total Cash Paye","Car Benefit","Other Non-Cash Benefit","Total Non-Cash Pay","Net-Value Of Housing","Total Gross Pay","Pension","Mortgage Interest","HOSP","Monthly Relief","Insurance Relief","Paye","Type Of Housing","Over Time Allowance","years",null,null,null,null,"Employee Number","Month Of Filling","Pin Of Employee","Name Of Employee","Residental-Status","Type of Employee","Basic Salary","Housing Allowance","Transport Allowance","Leave Pay","Director's Fee","Lumpsum","Other Allowance","Total Cash Paye","Car Benefit","Other Non-Cash Benefit","Total Non-Cash Pay","Net-Value Of Housing","Total Gross Pay","Pension","Mortgage Interest","HOSP","Monthly Relief","Insurance Relief","Paye","Type Of Housing","Over Time Allowance","years",null,"PIN of Employee","Name of Employee","Residental Status","Type of Employee","Basic Salary","Housing Allowance","Transport Allowance","Leave Pay","Over Time Allowance","Director's Fee","Lumpsum","Other Allowance","Total Cash Paye","Car Benefit","Other Non-Cash Benefit","Total Non-Cash Pay","Global Income","Type Of Housing","Rent Of House/Market Value","Computend Rent of House","Rent Recoverd From Employee","Net Value Of Housing","Total Gross Pay","30% of Cash Pay","Actual Contribution ","Permissible Limit","Mortgage Interest","HOSP","Amount Of Benefit","Taxable Pay","Tax Payable","Monthly TaxRelief","Insurance Relief","Paye Tax","Self Assessed Paye Tax"]
[1,"January","A34578678450P","Brian Kombe Gode","Resident","Primary Employee",60000,null,null,null,null,null,null,60000,null,null,0,null,60000,1080,null,null,2400,195,9864.3499999999985,"Benefit not given",null,2023,null,null,null,null,null,null,null,null,null,null,null,null,null,null,null,null,null,null,null,null,null,null,null,null,null,null,null,null,null,null,null,null,null,null,null,null,null,1,"January","A34578678450P","Brian Kombe Gode","Resident","Primary Employee",60000,null,null,null,null,null,null,60000,null,null,0,null,60000,1080,null,null,2400,195,9864.3499999999985,"Benefit not given",null,null,null,{"$f":"BP6","v":"A34578678450P"},{"$f":"BQ6","v":"Brian Kombe Gode"},{"$f":"BR6","v":"Resident"},{"$f":"BS6","v":"Primary Employee"},{"$f":"BT6","v":60000},{"$f":"BU6","v":0},{"$f":"BV6","v":0},{"$f":"BW6","v":0},{"$f":"CN6","v":0},{"$f":"BX6","v":0},{"$f":"BY6","v":0},{"$f":"BZ6","v":0},null,{"$f":"CB6","v":0},{"$f":"CC6","v":0},null,{"$f":"0","v":0},{"$f":"CM6","v":"Benefit not given"},null,null,null,null,null,null,{"$f":"CG6","v":1080},null,{"$f":"CH6","v":0},null,null,null,null,{"$f":"CJ6","v":2400},{"$f":"CK6","v":195},null,{"$f":"CL6","v":9864.3499999999985}]
[2,"January","A49898479409","Timothy Brian Odongo","Resident","Primary Employee",100000,20000,10000,null,5000,null,null,135000,null,null,0,null,135000,1080,null,null,2400,255,32304.649999999994,"Benefit not given",null,2023,null,null,null,null,null,null,null,null,null,null,null,null,null,null,null,null,null,null,null,null,null,null,null,null,null,null,null,null,null,null,null,null,null,null,null,null,null,2,"January","A49898479409","Timothy Brian Odongo","Resident","Primary Employee",100000,20000,10000,null,5000,null,null,135000,null,null,0,null,135000,1080,null,null,2400,255,32304.649999999994,"Benefit not given",null,null,null,"A49898479409","Timothy Brian Odongo","Resident","Primary Employee",100000,20000,10000,0,0,5000,0,0,null,0,0,null,{"$f":"0","v":0},"Benefit not given",null,null,null,null,null,null,1080,null,0,null,null,null,null,2400,255,null,32304.649999999994]
[3,"January","A4378678570K","Bshora Wayu Nzamo","Resident","Primary Employee",50000,null,null,null,null,null,null,50000,null,null,0,null,50000,1080,null,null,2400,180,6879.35,"Benefit not given",null,2023,null,null,null,null,null,null,null,null,null,null,null,null,null,null,null,null,null,null,null,null,null,null,null,null,null,null,null,null,null,null,null,null,null,null,null,null,null,3,"January","A4378678570K","Bshora Wayu Nzamo","Resident","Primary Employee",50000,null,null,null,null,null,null,50000,null,null,0,null,50000,1080,null,null,2400,180,6879.35,"Benefit not given",null,null,null,"A4378678570K","Bshora Wayu Nzamo","Resident","Primary Employee",50000,0,0,0,0,0,0,0,null,0,0,null,{"$f":"0","v":0},"Benefit not given",null,null,null,null,null,null,1080,null,0,null,null,null,null,2400,180,null,6879.35]
[4,"January","A646834690O","Wanyoni Agala Musando","Resident","Primary Employee",45000,null,null,null,null,null,null,45000,null,null,0,null,45000,1080,null,null,2400,165,5394.35,"Benefit not given",null,2023,null,null,null,null,null,null,null,null,null,null,null,null,null,null,null,null,null,null,null,null,null,null,null,null,null,null,null,null,null,null,null,null,null,null,null,null,null,4,"January","A646834690O","Wanyoni Agala Musando","Resident","Primary Employee",45000,null,null,null,null,null,null,45000,null,null,0,null,45000,1080,null,null,2400,165,5394.35,"Benefit not given",null,null,null,"A646834690O","Wanyoni Agala Musando","Resident","Primary Employee",45000,0,0,0,0,0,0,0,null,0,0,null,{"$f":"0","v":0},"Benefit not given",null,null,null,null,null,null,1080,null,0,null,null,null,null,2400,165,null,5394.35]
[5,"January","A745878980P","Benerd Kimani Njorioge","Resident","Primary Employee",45000,null,null,null,null,null,null,45000,null,null,0,null,45000,1080,null,null,2400,165,5394.35,"Benefit not given",null,2023,null,null,null,null,null,null,null,null,null,null,null,null,null,null,null,null,null,null,null,null,null,null,null,null,null,null,null,null,null,null,null,null,null,null,null,null,null,5,"January","A745878980P","Benerd Kimani Njorioge","Resident","Primary Employee",45000,null,null,null,null,null,null,45000,null,null,0,null,45000,1080,null,null,2400,165,5394.35,"Benefit not given",null,null,null,"A745878980P","Benerd Kimani Njorioge","Resident","Primary Employee",45000,0,0,0,0,0,0,0,null,0,0,null,{"$f":"0","v":0},"Benefit not given",null,null,null,null,null,null,1080,null,0,null,null,null,null,2400,165,null,5394.35]
[6,"January","A457899480p","Sam Jacob Mroki","Resident","Primary Employee",35000,null,null,null,null,null,null,35000,null,null,0,null,35000,1080,null,null,2400,142.5,2416.8500000000004,"Benefit not given",null,2023,null,null,null,null,null,null,null,null,null,null,null,null,null,null,null,null,null,null,null,null,null,null,null,null,null,null,null,null,null,null,null,null,null,null,null,null,null,6,"January","A457899480p","Sam Jacob Mroki","Resident","Primary Employee",35000,null,null,null,null,null,null,35000,null,null,0,null,35000,1080,null,null,2400,142.5,2416.8500000000004,"Benefit not given",null,null,null,"A457899480p","Sam Jacob Mroki","Resident","Primary Employee",35000,0,0,0,0,0,0,0,null,0,0,null,{"$f":"0","v":0},"Benefit not given",null,null,null,null,null,null,1080,null,0,null,null,null,null,2400,142.5,null,2416.8500000000004]
[7,"January","A5783458890P","Joy Mueni Mutinda","Resident","Primary Employee",40000,null,null,null,null,null,null,40000,null,null,0,null,40000,1080,null,null,2400,150,3909.3500000000004,"Benefit not given",null,2023,null,null,null,null,null,null,null,null,null,null,null,null,null,null,null,null,null,null,null,null,null,null,null,null,null,null,null,null,null,null,null,null,null,null,null,null,null,7,"January","A5783458890P","Joy Mueni Mutinda","Resident","Primary Employee",40000,null,null,null,null,null,null,40000,null,null,0,null,40000,1080,null,null,2400,150,3909.3500000000004,"Benefit not given",null,null,null,"A5783458890P","Joy Mueni Mutinda","Resident","Primary Employee",40000,0,0,0,0,0,0,0,null,0,0,null,{"$f":"0","v":0},"Benefit not given",null,null,null,null,null,null,1080,null,0,null,null,null,null,2400,150,null,3909.3500000000004]
[8,"January","A34778457890p","Kahindi Mwero Boga","Resident","Primary Employee",40000,null,null,null,null,null,null,40000,null,null,0,null,40000,1080,null,null,2400,150,3909.3500000000004,"Benefit not given",null,2023,null,null,null,null,null,null,null,null,null,null,null,null,null,null,null,null,null,null,null,null,null,null,null,null,null,null,null,null,null,null,null,null,null,null,null,null,null,8,"January","A34778457890p","Kahindi Mwero Boga","Resident","Primary Employee",40000,null,null,null,null,null,null,40000,null,null,0,null,40000,1080,null,null,2400,150,3909.3500000000004,"Benefit not given",null,null,null,"A34778457890p","Kahindi Mwero Boga","Resident","Primary Employee",40000,0,0,0,0,0,0,0,null,0,0,null,{"$f":"0","v":0},"Benefit not given",null,null,null,null,null,null,1080,null,0,null,null,null,null,2400,150,null,3909.3500000000004]
[9,"January","A034897489E","John Boscco Bosire","Resident","Primary Employee",50000,null,null,null,null,null,null,50000,null,null,0,null,50000,1080,null,null,2400,180,6879.35,"Benefit not given",null,2023,null,null,null,null,null,null,null,null,null,null,null,null,null,null,null,null,null,null,null,null,null,null,null,null,null,null,null,null,null,null,null,null,null,null,null,null,null,9,"January","A034897489E","John Boscco Bosire","Resident","Primary Employee",50000,null,null,null,null,null,null,50000,null,null,0,null,50000,1080,null,null,2400,180,6879.35,"Benefit not given",null,null,null,"A034897489E","John Boscco Bosire","Resident","Primary Employee",50000,0,0,0,0,0,0,0,null,0,0,null,{"$f":"0","v":0},"Benefit not given",null,null,null,null,null,null,1080,null,0,null,null,null,null,2400,180,null,6879.35]
[10,"January","A4782349790P","Hassan Abdulnasir Wario","Resident","Primary Employee",40000,null,null,null,null,null,null,40000,null,null,0,null,40000,1080,null,null,2400,150,3909.3500000000004,"Benefit not given",null,2023,null,null,null,null,null,null,null,null,null,null,null,null,null,null,null,null,null,null,null,null,null,null,null,null,null,null,null,null,null,null,null,null,null,null,null,null,null,10,"January","A4782349790P","Hassan Abdulnasir Wario","Resident","Primary Employee",40000,null,null,null,null,null,null,40000,null,null,0,null,40000,1080,null,null,2400,150,3909.3500000000004,"Benefit not given",null,null,null,"A4782349790P","Hassan Abdulnasir Wario","Resident","Primary Employee",40000,0,0,0,0,0,0,0,null,0,0,null,{"$f":"0","v":0},"Benefit not given",null,null,null,null,null,null,1080,null,0,null,null,null,null,2400,150,null,3909.3500000000004]
[11,"January","A0324878234P","Jastine Makemba Batogo","Resident","Primary Employee",50000,null,null,null,null,null,null,50000,null,null,0,null,50000,1080,null,null,2400,180,6879.35,"Benefit not given",null,2023,null,null,null,null,null,null,null,null,null,null,null,null,null,null,null,null,null,null,null,null,null,null,null,null,null,null,null,null,null,null,null,null,null,null,null,null,null,11,"January","A0324878234P","Jastine Makemba Batogo","Resident","Primary Employee",50000,null,null,null,null,null,null,50000,null,null,0,null,50000,1080,null,null,2400,180,6879.35,"Benefit not given",null,null,null,"A0324878234P","Jastine Makemba Batogo","Resident","Primary Employee",50000,0,0,0,0,0,0,0,null,0,0,null,{"$f":"0","v":0},"Benefit not given",null,null,null,null,null,null,1080,null,0,null,null,null,null,2400,180,null,6879.35]
[12,"January","A03476784359K","Janet Wairimu Wamatagi","Resident","Primary Employee",40000,null,null,null,null,null,null,40000,null,null,0,null,40000,1080,null,null,2400,150,3909.3500000000004,"Benefit not given",null,2023,null,null,null,null,null,null,null,null,null,null,null,null,null,null,null,null,null,null,null,null,null,null,null,null,null,null,null,null,null,null,null,null,null,null,null,null,null,12,"January","A03476784359K","Janet Wairimu Wamatagi","Resident","Primary Employee",40000,null,null,null,null,null,null,40000,null,null,0,null,40000,1080,null,null,2400,150,3909.3500000000004,"Benefit not given",null,null,null,"A03476784359K","Janet Wairimu Wamatagi","Resident","Primary Employee",40000,0,0,0,0,0,0,0,null,0,0,null,{"$f":"0","v":0},"Benefit not given",null,null,null,null,null,null,1080,null,0,null,null,null,null,2400,150,null,3909.3500000000004]
[14,"January","A03467623670P","Gitau Harrison Kithi","Resident","Primary Employee",55000,null,null,null,null,null,null,55000,null,null,0,null,55000,1080,null,null,2400,180,8379.35,"Benefit not given",null,2023,null,null,null,null,null,null,null,null,null,null,null,null,null,null,null,null,null,null,null,null,null,null,null,null,null,null,null,null,null,null,null,null,null,null,null,null,null,14,"January","A03467623670P","Gitau Harrison Kithi","Resident","Primary Employee",55000,null,null,null,null,null,null,55000,null,null,0,null,55000,1080,null,null,2400,180,8379.35,"Benefit not given",null,null,null,"A03467623670P","Gitau Harrison Kithi","Resident","Primary Employee",55000,0,0,0,0,0,0,0,null,0,0,null,{"$f":"0","v":0},"Benefit not given",null,null,null,null,null,null,1080,null,0,null,null,null,null,2400,180,null,8379.35]
[1,"February","A34578678450P","Brian Kombe Gode","Resident","Primary Employee",60000,null,null,null,null,null,null,60000,null,null,0,null,60000,1080,null,null,2400,195,9864.3499999999985,"Benefit not given",null,2023,null,null,null,null,null,null,null,null,null,null,null,null,null,null,null,null,null,null,null,null,null,null,null,null,null,null,null,null,null,null,null,null,null,null,null,null,null,null,null,null,null,null,null,null,null,null,null,null,null,null,null,null,null,null,null,null,null,null,null,null,null,null,null,null,null,null,0,0,0,0,0,0,0,0,0,0,0,0,null,0,0,null,{"$f":"0","v":0},0,null,null,null,null,null,null,0,null,0,null,null,null,null,0,0,null,0]
[2,"February","A49898479409","Timothy Brian Odongo","Resident","Primary Employee",100000,20000,10000,null,5000,null,null,135000,null,null,0,null,135000,1080,null,null,2400,255,32304.649999999994,"Benefit not given",null,2023,null,null,null,null,null,null,null,null,null,null,null,null,null,null,null,null,null,null,null,null,null,null,null,null,null,null,null,null,null,null,null,null,null,null,null,null,null,null,null,null,null,null,null,null,null,null,null,null,null,null,null,null,null,null,null,null,null,null,null,null,null,null,null,null,null,null,0,0,0,0,0,0,0,0,0,0,0,0,null,0,0,null,{"$f":"0","v":0},0,null,null,null,null,null,null,0,null,0,null,null,null,null,0,0,null,0]
[3,"February","A4378678570K","Bshora Wayu Nzamo","Resident","Primary Employee",50000,null,null,null,null,null,null,50000,null,null,0,null,50000,1080,null,null,2400,180,6879.35,"Benefit not given",null,2023,null,null,null,null,null,null,null,null,null,null,null,null,null,null,null,null,null,null,null,null,null,null,null,null,null,null,null,null,null,null,null,null,null,null,null,null,null,null,null,null,null,null,null,null,null,null,null,null,null,null,null,null,null,null,null,null,null,null,null,null,null,null,null,null,null,null,0,0,0,0,0,0,0,0,0,0,0,0,null,0,0,null,{"$f":"0","v":0},0,null,null,null,null,null,null,0,null,0,null,null,null,null,0,0,null,0]
[4,"February","A646834690O","Wanyoni Agala Musando","Resident","Primary Employee",45000,null,null,null,null,null,null,45000,null,null,0,null,45000,1080,null,null,2400,165,5394.35,"Benefit not given",null,2023,null,null,null,null,null,null,null,null,null,null,null,null,null,null,null,null,null,null,null,null,null,null,null,null,null,null,null,null,null,null,null,null,null,null,null,null,null,null,null,null,null,null,null,null,null,null,null,null,null,null,null,null,null,null,null,null,null,null,null,null,null,null,null,null,null,null,0,0,0,0,0,0,0,0,0,0,0,0,null,0,0,null,{"$f":"0","v":0},0,null,null,null,null,null,null,0,null,0,null,null,null,null,0,0,null,0]
[5,"February","A745878980P","Benerd Kimani Njorioge","Resident","Primary Employee",45000,null,null,null,null,null,null,45000,null,null,0,null,45000,1080,null,null,2400,165,5394.35,"Benefit not given",null,2023,null,null,null,null,null,null,null,null,null,null,null,null,null,null,null,null,null,null,null,null,null,null,null,null,null,null,null,null,null,null,null,null,null,null,null,null,null,null,null,null,null,null,null,null,null,null,null,null,null,null,null,null,null,null,null,null,null,null,null,null,null,null,null,null,null,null,0,0,0,0,0,0,0,0,0,0,0,0,null,0,0,null,{"$f":"0","v":0},0,null,null,null,null,null,null,0,null,0,null,null,null,null,0,0,null,0]
[6,"February","A457899480p","Sam Jacob Mroki","Resident","Primary Employee",35000,null,null,null,null,null,null,35000,null,null,0,null,35000,1080,null,null,2400,142.5,2416.8500000000004,"Benefit not given",null,2023,null,null,null,null,null,null,null,null,null,null,null,null,null,null,null,null,null,null,null,null,null,null,null,null,null,null,null,null,null,null,null,null,null,null,null,null,null,null,null,null,null,null,null,null,null,null,null,null,null,null,null,null,null,null,null,null,null,null,null,null,null,null,null,null,null,null,0,0,0,0,0,0,0,0,0,0,0,0,null,0,0,null,{"$f":"0","v":0},0,null,null,null,null,null,null,0,null,0,null,null,null,null,0,0,null,0]
[7,"February","A5783458890P","Joy Mueni Mutinda","Resident","Primary Employee",40000,null,null,null,null,null,null,40000,null,null,0,null,40000,1080,null,null,2400,150,3909.3500000000004,"Benefit not given",null,2023,null,null,null,null,null,null,null,null,null,null,null,null,null,null,null,null,null,null,null,null,null,null,null,null,null,null,null,null,null,null,null,null,null,null,null,null,null,null,null,null,null,null,null,null,null,null,null,null,null,null,null,null,null,null,null,null,null,null,null,null,null,null,null,null,null,null,0,0,0,0,0,0,0,0,0,0,0,0,null,0,0,null,{"$f":"0","v":0},0,null,null,null,null,null,null,0,null,0,null,null,null,null,0,0,null,0]
[8,"February","A34778457890p","Kahindi Mwero Boga","Resident","Primary Employee",40000,null,null,null,null,null,null,40000,null,null,0,null,40000,1080,null,null,2400,150,3909.3500000000004,"Benefit not given",null,2023,null,null,null,null,null,null,null,null,null,null,null,null,null,null,null,null,null,null,null,null,null,null,null,null,null,null,null,null,null,null,null,null,null,null,null,null,null,null,null,null,null,null,null,null,null,null,null,null,null,null,null,null,null,null,null,null,null,null,null,null,null,null,null,null,null,null,0,0,0,0,0,0,0,0,0,0,0,0,null,0,0,null,{"$f":"0","v":0},0,null,null,null,null,null,null,0,null,0,null,null,null,null,0,0,null,0]
[9,"February","A034897489E","John Boscco Bosire","Resident","Primary Employee",50000,null,null,null,null,null,null,50000,null,null,0,null,50000,1080,null,null,2400,180,6879.35,"Benefit not given",null,2023,null,null,null,null,null,null,null,null,null,null,null,null,null,null,null,null,null,null,null,null,null,null,null,null,null,null,null,null,null,null,null,null,null,null,null,null,null,null,null,null,null,null,null,null,null,null,null,null,null,null,null,null,null,null,null,null,null,null,null,null,null,null,null,null,null,null,0,0,0,0,0,0,0,0,0,0,0,0,null,0,0,null,{"$f":"0","v":0},0,null,null,null,null,null,null,0,null,0,null,null,null,null,0,0,null,0]
[10,"February","A4782349790P","Hassan Abdulnasir Wario","Resident","Primary Employee",40000,null,null,null,null,null,null,40000,null,null,0,null,40000,1080,null,null,2400,150,3909.3500000000004,"Benefit not given",null,2023,null,null,null,null,null,null,null,null,null,null,null,null,null,null,null,null,null,null,null,null,null,null,null,null,null,null,null,null,null,null,null,null,null,null,null,null,null,null,null,null,null,null,null,null,null,null,null,null,null,null,null,null,null,null,null,null,null,null,null,null,null,null,null,null,null,null,0,0,0,0,0,0,0,0,0,0,0,0,null,0,0,null,{"$f":"0","v":0},0,null,null,null,null,null,null,0,null,0,null,null,null,null,0,0,null,0]
[11,"February","A0324878234P","Jastine Makemba Batogo","Resident","Primary Employee",50000,null,null,null,null,null,null,50000,null,null,0,null,50000,1080,null,null,2400,180,6879.35,"Benefit not given",null,2023,null,null,null,null,null,null,null,null,null,null,null,null,null,null,null,null,null,null,null,null,null,null,null,null,null,null,null,null,null,null,null,null,null,null,null,null,null,null,null,null,null,null,null,null,null,null,null,null,null,null,null,null,null,null,null,null,null,null,null,null,null,null,null,null,null,null,0,0,0,0,0,0,0,0,0,0,0,0,null,0,0,null,{"$f":"0","v":0},0,null,null,null,null,null,null,0,null,0,null,null,null,null,0,0,null,0]
[12,"February","A03476784359K","Janet Wairimu Wamatagi","Resident","Primary Employee",40000,null,null,null,null,null,null,40000,null,null,0,null,40000,1080,null,null,2400,150,3909.3500000000004,"Benefit not given",null,2023,null,null,null,null,null,null,null,null,null,null,null,null,null,null,null,null,null,null,null,null,null,null,null,null,null,null,null,null,null,null,null,null,null,null,null,null,null,null,null,null,null,null,null,null,null,null,null,null,null,null,null,null,null,null,null,null,null,null,null,null,null,null,null,null,null,null,0,0,0,0,0,0,0,0,0,0,0,0,null,0,0,null,{"$f":"0","v":0},0,null,null,null,null,null,null,0,null,0,null,null,null,null,0,0,null,0]
[1,"March","A34578678450P","Brian Kombe Gode","Resident","Primary Employee",60000,null,null,null,null,null,null,60000,null,null,0,null,60000,1080,null,null,2400,195,9864.3499999999985,"Benefit not given",null,2023,null,null,null,null,null,null,null,null,null,null,null,null,null,null,null,null,null,null,null,null,null,null,null,null,null,null,null,null,null,null,null,null,null,null,null,null,null,null,null,null,null,null,null,null,null,null,null,null,null,null,null,null,null,null,null,null,null,null,null,null,null,null,null,null,null,null,0,0,0,0,0,0,0,0,0,0,0,0,null,0,0,null,{"$f":"0","v":0},0,null,null,null,null,null,null,0,null,0,null,null,null,null,0,0,null,0]
[2,"March","A49898479409","Timothy Brian Odongo","Resident","Primary Employee",100000,20000,10000,null,5000,null,null,135000,null,null,0,null,135000,1080,null,null,2400,255,32304.649999999994,"Benefit not given",null,2023,null,null,null,null,null,null,null,null,null,null,null,null,null,null,null,null,null,null,null,null,null,null,null,null,null,null,null,null,null,null,null,null,null,null,null,null,null,null,null,null,null,null,null,null,null,null,null,null,null,null,null,null,null,null,null,null,null,null,null,null,null,null,null,null,null,null,0,0,0,0,0,0,0,0,0,0,0,0,null,0,0,null,{"$f":"0","v":0},0,null,null,null,null,null,null,0,null,0,null,null,null,null,0,0,null,0]
[3,"March","A4378678570K","Bshora Wayu Nzamo","Resident","Primary Employee",50000,null,null,null,null,null,null,50000,null,null,0,null,50000,1080,null,null,2400,180,6879.35,"Benefit not given",null,2023,null,null,null,null,null,null,null,null,null,null,null,null,null,null,null,null,null,null,null,null,null,null,null,null,null,null,null,null,null,null,null,null,null,null,null,null,null,null,null,null,null,null,null,null,null,null,null,null,null,null,null,null,null,null,null,null,null,null,null,null,null,null,null,null,null,null,{"$f":"BP33","v":0},{"$f":"BQ33","v":0},{"$f":"BR33","v":0},{"$f":"BS33","v":0},{"$f":"BT33","v":0},{"$f":"BU33","v":0},{"$f":"BV33","v":0},{"$f":"BW33","v":0},{"$f":"CN33","v":0},{"$f":"BX33","v":0},{"$f":"BY33","v":0},{"$f":"BZ33","v":0},null,{"$f":"CB33","v":0},{"$f":"CC33","v":0},null,{"$f":"0","v":0},{"$f":"CM33","v":0},null,null,null,null,null,null,{"$f":"CG33","v":0},null,{"$f":"CH33","v":0},null,null,null,null,{"$f":"CJ33","v":0},{"$f":"CK33","v":0},null,{"$f":"CL33","v":0}]
[4,"March","A646834690O","Wanyoni Agala Musando","Resident","Primary Employee",45000,null,null,null,null,null,null,45000,null,null,0,null,45000,1080,null,null,2400,165,5394.35,"Benefit not given",null,2023,null,null,null,null,null,null,null,null,null,null,null,null,null,null,null,null,null,null,null,null,null,null,null,null,null,null,null,null,null,null,null,null,null,null,null,null,null,null,null,null,null,null,null,null,null,null,null,null,null,null,null,null,null,null,null,null,null,null,null,null,null,null,null,null,null,null,0,0,0,0,0,0,0,0,0,0,0,0,null,0,0,null,{"$f":"0","v":0},0,null,null,null,null,null,null,0,null,0,null,null,null,null,0,0,null,0]
[5,"March","A745878980P","Benerd Kimani Njorioge","Resident","Primary Employee",45000,null,null,null,null,null,null,45000,null,null,0,null,45000,1080,null,null,2400,165,5394.35,"Benefit not given",null,2023,null,null,null,null,null,null,null,null,null,null,null,null,null,null,null,null,null,null,null,null,null,null,null,null,null,null,null,null,null,null,null,null,null,null,null,null,null,null,null,null,null,null,null,null,null,null,null,null,null,null,null,null,null,null,null,null,null,null,null,null,null,null,null,null,null,null,0,0,0,0,0,0,0,0,0,0,0,0,null,0,0,null,{"$f":"0","v":0},0,null,null,null,null,null,null,0,null,0,null,null,null,null,0,0,null,0]
[6,"March","A457899480p","Sam Jacob Mroki","Resident","Primary Employee",35000,null,null,null,null,null,null,35000,null,null,0,null,35000,1080,null,null,2400,142.5,2416.8500000000004,"Benefit not given",null,2023,null,null,null,null,null,null,null,null,null,null,null,null,null,null,null,null,null,null,null,null,null,null,null,null,null,null,null,null,null,null,null,null,null,null,null,null,null,null,null,null,null,null,null,null,null,null,null,null,null,null,null,null,null,null,null,null,null,null,null,null,null,null,null,null,null,null,0,0,0,0,0,0,0,0,0,0,0,0,null,0,0,null,{"$f":"0","v":0},0,null,null,null,null,null,null,0,null,0,null,null,null,null,0,0,null,0]
[7,"March","A5783458890P","Joy Mueni Mutinda","Resident","Primary Employee",40000,null,null,null,null,null,null,40000,null,null,0,null,40000,1080,null,null,2400,150,3909.3500000000004,"Benefit not given",null,2023,null,null,null,null,null,null,null,null,null,null,null,null,null,null,null,null,null,null,null,null,null,null,null,null,null,null,null,null,null,null,null,null,null,null,null,null,null,null,null,null,null,null,null,null,null,null,null,null,null,null,null,null,null,null,null,null,null,null,null,null,null,null,null,null,null,null,0,0,0,0,0,0,0,0,0,0,0,0,null,0,0,null,{"$f":"0","v":0},0,null,null,null,null,null,null,0,null,0,null,null,null,null,0,0,null,0]
[8,"March","A34778457890p","Kahindi Mwero Boga","Resident","Primary Employee",40000,null,null,null,null,null,null,40000,null,null,0,null,40000,1080,null,null,2400,150,3909.3500000000004,"Benefit not given",null,2023,null,null,null,null,null,null,null,null,null,null,null,null,null,null,null,null,null,null,null,null,null,null,null,null,null,null,null,null,null,null,null,null,null,null,null,null,null,null,null,null,null,null,null,null,null,null,null,null,null,null,null,null,null,null,null,null,null,null,null,null,null,null,null,null,null,null,0,0,0,0,0,0,0,0,0,0,0,0,null,0,0,null,{"$f":"0","v":0},0,null,null,null,null,null,null,0,null,0,null,null,null,null,0,0,null,0]
[9,"March","A034897489E","John Boscco Bosire","Resident","Primary Employee",50000,null,null,null,null,null,null,50000,null,null,0,null,50000,1080,null,null,2400,180,6879.35,"Benefit not given",null,2023,null,null,null,null,null,null,null,null,null,null,null,null,null,null,null,null,null,null,null,null,null,null,null,null,null,null,null,null,null,null,null,null,null,null,null,null,null,null,null,null,null,null,null,null,null,null,null,null,null,null,null,null,null,null,null,null,null,null,null,null,null,null,null,null,null,null,0,0,0,0,0,0,0,0,0,0,0,0,null,0,0,null,{"$f":"0","v":0},0,null,null,null,null,null,null,0,null,0,null,null,null,null,0,0,null,0]
[10,"March","A4782349790P","Hassan Abdulnasir Wario","Resident","Primary Employee",40000,null,null,null,null,null,null,40000,null,null,0,null,40000,1080,null,null,2400,150,3909.3500000000004,"Benefit not given",null,2023,null,null,null,null,null,null,null,null,null,null,null,null,null,null,null,null,null,null,null,null,null,null,null,null,null,null,null,null,null,null,null,null,null,null,null,null,null,null,null,null,null,null,null,null,null,null,null,null,null,null,null,null,null,null,null,null,null,null,null,null,null,null,null,null,null,null,0,0,0,0,0,0,0,0,0,0,0,0,null,0,0,null,{"$f":"0","v":0},0,null,null,null,null,null,null,0,null,0,null,null,null,null,0,0,null,0]
[11,"March","A0324878234P","Jastine Makemba Batogo","Resident","Primary Employee",50000,null,null,null,null,null,null,50000,null,null,0,null,50000,1080,null,null,2400,180,6879.35,"Benefit not given",null,2023,null,null,null,null,null,null,null,null,null,null,null,null,null,null,null,null,null,null,null,null,null,null,null,null,null,null,null,null,null,null,null,null,null,null,null,null,null,null,null,null,null,null,null,null,null,null,null,null,null,null,null,null,null,null,null,null,null,null,null,null,null,null,null,null,null,null,0,0,0,0,0,0,0,0,0,0,0,0,null,0,0,null,{"$f":"0","v":0},0,null,null,null,null,null,null,0,null,0,null,null,null,null,0,0,null,0]
[12,"March","A03476784359K","Janet Wairimu Wamatagi","Resident","Primary Employee",40000,null,null,null,null,null,null,40000,null,null,0,null,40000,1080,null,null,2400,150,3909.3500000000004,"Benefit not given",null,2023,null,null,null,null,null,null,null,null,null,null,null,null,null,null,null,null,null,null,null,null,null,null,null,null,null,null,null,null,null,null,null,null,null,null,null,null,null,null,null,null,null,null,null,null,null,null,null,null,null,null,null,null,null,null,null,null,null,null,null,null,null,null,null,null,null,null,0,0,0,0,0,0,0,0,0,0,0,0,null,0,0,null,{"$f":"0","v":0},0,null,null,null,null,null,null,0,null,0,null,null,null,null,0,0,null,0]
[1,"April","A34578678450P","Brian Kombe Gode","Resident","Primary Employee",60000,null,null,null,null,null,null,60000,null,null,0,null,60000,1080,null,null,2400,195,9864.3499999999985,"Benefit not given",null,2023,null,null,null,null,null,null,null,null,null,null,null,null,null,null,null,null,null,null,null,null,null,null,null,null,null,null,null,null,null,null,null,null,null,null,null,null,null,null,null,null,null,null,null,null,null,null,null,null,null,null,null,null,null,null,null,null,null,null,null,null,null,null,null,null,null,null,0,0,0,0,0,0,0,0,0,0,0,0,null,0,0,null,{"$f":"0","v":0},0,null,null,null,null,null,null,0,null,0,null,null,null,null,0,0,null,0]
[2,"April","A49898479409","Timothy Brian Odongo","Resident","Primary Employee",100000,20000,10000,null,5000,null,null,135000,null,null,0,null,135000,1080,null,null,2400,255,32304.649999999994,"Benefit not given",null,2023,null,null,null,null,null,null,null,null,null,null,null,null,null,null,null,null,null,null,null,null,null,null,null,null,null,null,null,null,null,null,null,null,null,null,null,null,null,null,null,null,null,null,null,null,null,null,null,null,null,null,null,null,null,null,null,null,null,null,null,null,null,null,null,null,null,null,0,0,0,0,0,0,0,0,0,0,0,0,null,0,0,null,{"$f":"0","v":0},0,null,null,null,null,null,null,0,null,0,null,null,null,null,0,0,null,0]
[3,"April","A4378678570K","Bshora Wayu Nzamo","Resident","Primary Employee",50000,null,null,null,null,null,null,50000,null,null,0,null,50000,1080,null,null,2400,180,6879.35,"Benefit not given",null,2023,null,null,null,null,null,null,null,null,null,null,null,null,null,null,null,null,null,null,null,null,null,null,null,null,null,null,null,null,null,null,null,null,null,null,null,null,null,null,null,null,null,null,null,null,null,null,null,null,null,null,null,null,null,null,null,null,null,null,null,null,null,null,null,null,null,null,0,0,0,0,0,0,0,0,0,0,0,0,null,0,0,null,{"$f":"0","v":0},0,null,null,null,null,null,null,0,null,0,null,null,null,null,0,0,null,0]
[4,"April","A646834690O","Wanyoni Agala Musando","Resident","Primary Employee",45000,null,null,null,null,null,null,45000,null,null,0,null,45000,1080,null,null,2400,165,5394.35,"Benefit not given",null,2023,null,null,null,null,null,null,null,null,null,null,null,null,null,null,null,null,null,null,null,null,null,null,null,null,null,null,null,null,null,null,null,null,null,null,null,null,null,null,null,null,null,null,null,null,null,null,null,null,null,null,null,null,null,null,null,null,null,null,null,null,null,null,null,null,null,null,0,0,0,0,0,0,0,0,0,0,0,0,null,0,0,null,{"$f":"0","v":0},0,null,null,null,null,null,null,0,null,0,null,null,null,null,0,0,null,0]
[5,"April","A745878980P","Benerd Kimani Njorioge","Resident","Primary Employee",45000,null,null,null,null,null,null,45000,null,null,0,null,45000,1080,null,null,2400,165,5394.35,"Benefit not given",null,2023,null,null,null,null,null,null,null,null,null,null,null,null,null,null,null,null,null,null,null,null,null,null,null,null,null,null,null,null,null,null,null,null,null,null,null,null,null,null,null,null,null,null,null,null,null,null,null,null,null,null,null,null,null,null,null,null,null,null,null,null,null,null,null,null,null,null,0,0,0,0,0,0,0,0,0,0,0,0,null,0,0,null,{"$f":"0","v":0},0,null,null,null,null,null,null,0,null,0,null,null,null,null,0,0,null,0]
[6,"April","A457899480p","Sam Jacob Mroki","Resident","Primary Employee",35000,null,null,null,null,null,null,35000,null,null,0,null,35000,1080,null,null,2400,142.5,2416.8500000000004,"Benefit not given",null,2023,null,null,null,null,null,null,null,null,null,null,null,null,null,null,null,null,null,null,null,null,null,null,null,null,null,null,null,null,null,null,null,null,null,null,null,null,null,null,null,null,null,null,null,null,null,null,null,null,null,null,null,null,null,null,null,null,null,null,null,null,null,null,null,null,null,null,0,0,0,0,0,0,0,0,0,0,0,0,null,0,0,null,{"$f":"0","v":0},0,null,null,null,null,null,null,0,null,0,null,null,null,null,0,0,null,0]
[7,"April","A5783458890P","Joy Mueni Mutinda","Resident","Primary Employee",40000,null,null,null,null,null,null,40000,null,null,0,null,40000,1080,null,null,2400,150,3909.3500000000004,"Benefit not given",null,2023,null,null,null,null,null,null,null,null,null,null,null,null,null,null,null,null,null,null,null,null,null,null,null,null,null,null,null,null,null,null,null,null,null,null,null,null,null,null,null,null,null,null,null,null,null,null,null,null,null,null,null,null,null,null,null,null,null,null,null,null,null,null,null,null,null,null,0,0,0,0,0,0,0,0,0,0,0,0,null,0,0,null,{"$f":"0","v":0},0,null,null,null,null,null,null,0,null,0,null,null,null,null,0,0,null,0]
[8,"April","A34778457890p","Kahindi Mwero Boga","Resident","Primary Employee",40000,null,null,null,null,null,null,40000,null,null,0,null,40000,1080,null,null,2400,150,3909.3500000000004,"Benefit not given",null,2023,null,null,null,null,null,null,null,null,null,null,null,null,null,null,null,null,null,null,null,null,null,null,null,null,null,null,null,null,null,null,null,null,null,null,null,null,null,null,null,null,null,null,null,null,null,null,null,null,null,null,null,null,null,null,null,null,null,null,null,null,null,null,null,null,null,null,0,0,0,0,0,0,0,0,0,0,0,0,null,0,0,null,{"$f":"0","v":0},0,null,null,null,null,null,null,0,null,0,null,null,null,null,0,0,null,0]
[9,"April","A034897489E","John Boscco Bosire","Resident","Primary Employee",50000,null,null,null,null,null,null,50000,null,null,0,null,50000,1080,null,null,2400,180,6879.35,"Benefit not given",null,2023,null,null,null,null,null,null,null,null,null,null,null,null,null,null,null,null,null,null,null,null,null,null,null,null,null,null,null,null,null,null,null,null,null,null,null,null,null,null,null,null,null,null,null,null,null,null,null,null,null,null,null,null,null,null,null,null,null,null,null,null,null,null,null,null,null,null,0,0,0,0,0,0,0,0,0,0,0,0,null,0,0,null,{"$f":"0","v":0},0,null,null,null,null,null,null,0,null,0,null,null,null,null,0,0,null,0]
[10,"April","A4782349790P","Hassan Abdulnasir Wario","Resident","Primary Employee",40000,null,null,null,null,null,null,40000,null,null,0,null,40000,1080,null,null,2400,150,3909.3500000000004,"Benefit not given",null,2023,null,null,null,null,null,null,null,null,null,null,null,null,null,null,null,null,null,null,null,null,null,null,null,null,null,null,null,null,null,null,null,null,null,null,null,null,null,null,null,null,null,null,null,null,null,null,null,null,null,null,null,null,null,null,null,null,null,null,null,null,null,null,null,null,null,null,0,0,0,0,0,0,0,0,0,0,0,0,null,0,0,null,{"$f":"0","v":0},0,null,null,null,null,null,null,0,null,0,null,null,null,null,0,0,null,0]
[11,"April","A0324878234P","Jastine Makemba Batogo","Resident","Primary Employee",50000,null,null,null,null,null,null,50000,null,null,0,null,50000,1080,null,null,2400,180,6879.35,"Benefit not given",null,2023,null,null,null,null,null,null,null,null,null,null,null,null,null,null,null,null,null,null,null,null,null,null,null,null,null,null,null,null,null,null,null,null,null,null,null,null,null,null,null,null,null,null,null,null,null,null,null,null,null,null,null,null,null,null,null,null,null,null,null,null,null,null,null,null,null,null,0,0,0,0,0,0,0,0,0,0,0,0,null,0,0,null,{"$f":"0","v":0},0,null,null,null,null,null,null,0,null,0,null,null,null,null,0,0,null,0]
[12,"April","A03476784359K","Janet Wairimu Wamatagi","Resident","Primary Employee",40000,null,null,null,null,null,null,40000,null,null,0,null,40000,1080,null,null,2400,150,3909.3500000000004,"Benefit not given",null,2023,null,null,null,null,null,null,null,null,null,null,null,null,null,null,null,null,null,null,null,null,null,null,null,null,null,null,null,null,null,null,null,null,null,null,null,null,null,null,null,null,null,null,null,null,null,null,null,null,null,null,null,null,null,null,null,null,null,null,null,null,null,null,null,null,null,null,0,0,0,0,0,0,0,0,0,0,0,0,null,0,0,null,{"$f":"0","v":0},0,null,null,null,null,null,null,0,null,0,null,null,null,null,0,0,null,0]
[1,"May","A34578678450P","Brian Kombe Gode","Resident","Primary Employee",60000,null,null,null,null,null,null,60000,null,null,0,null,60000,1080,null,null,2400,195,9864.3499999999985,"Benefit not given",null,2023,null,null,null,null,null,null,null,null,null,null,null,null,null,null,null,null,null,null,null,null,null,null,null,null,null,null,null,null,null,null,null,null,null,null,null,null,null,null,null,null,null,null,null,null,null,null,null,null,null,null,null,null,null,null,null,null,null,null,null,null,null,null,null,null,null,null,0,0,0,0,0,0,0,0,0,0,0,0,null,0,0,null,{"$f":"0","v":0},0,null,null,null,null,null,null,0,null,0,null,null,null,null,0,0,null,0]
[2,"May","A49898479409","Timothy Brian Odongo","Resident","Primary Employee",100000,20000,10000,null,5000,null,null,135000,null,null,0,null,135000,1080,null,null,2400,255,32304.649999999994,"Benefit not given",null,2023,null,null,null,null,null,null,null,null,null,null,null,null,null,null,null,null,null,null,null,null,null,null,null,null,null,null,null,null,null,null,null,null,null,null,null,null,null,null,null,null,null,null,null,null,null,null,null,null,null,null,null,null,null,null,null,null,null,null,null,null,null,null,null,null,null,null,0,0,0,0,0,0,0,0,0,0,0,0,null,0,0,null,{"$f":"0","v":0},0,null,null,null,null,null,null,0,null,0,null,null,null,null,0,0,null,0]
[3,"May","A4378678570K","Bshora Wayu Nzamo","Resident","Primary Employee",50000,null,null,null,null,null,null,50000,null,null,0,null,50000,1080,null,null,2400,180,6879.35,"Benefit not given",null,2023,null,null,null,null,null,null,null,null,null,null,null,null,null,null,null,null,null,null,null,null,null,null,null,null,null,null,null,null,null,null,null,null,null,null,null,null,null,null,null,null,null,null,null,null,null,null,null,null,null,null,null,null,null,null,null,null,null,null,null,null,null,null,null,null,null,null,0,0,0,0,0,0,0,0,0,0,0,0,null,0,0,null,{"$f":"0","v":0},0,null,null,null,null,null,null,0,null,0,null,null,null,null,0,0,null,0]
[4,"May","A646834690O","Wanyoni Agala Musando","Resident","Primary Employee",45000,null,null,null,null,null,null,45000,null,null,0,null,45000,1080,null,null,2400,165,5394.35,"Benefit not given",null,2023,null,null,null,null,null,null,null,null,null,null,null,null,null,null,null,null,null,null,null,null,null,null,null,null,null,null,null,null,null,null,null,null,null,null,null,null,null,null,null,null,null,null,null,null,null,null,null,null,null,null,null,null,null,null,null,null,null,null,null,null,null,null,null,null,null,null,0,0,0,0,0,0,0,0,0,0,0,0,null,0,0,null,{"$f":"0","v":0},0,null,null,null,null,null,null,0,null,0,null,null,null,null,0,0,null,0]
[5,"May","A745878980P","Benerd Kimani Njorioge","Resident","Primary Employee",45000,null,null,null,null,null,null,45000,null,null,0,null,45000,1080,null,null,2400,165,5394.35,"Benefit not given",null,2023,null,null,null,null,null,null,null,null,null,null,null,null,null,null,null,null,null,null,null,null,null,null,null,null,null,null,null,null,null,null,null,null,null,null,null,null,null,null,null,null,null,null,null,null,null,null,null,null,null,null,null,null,null,null,null,null,null,null,null,null,null,null,null,null,null,null,0,0,0,0,0,0,0,0,0,0,0,0,null,0,0,null,{"$f":"0","v":0},0,null,null,null,null,null,null,0,null,0,null,null,null,null,0,0,null,0]
[6,"May","A457899480p","Sam Jacob Mroki","Resident","Primary Employee",35000,null,null,null,null,null,null,35000,null,null,0,null,35000,1080,null,null,2400,142.5,2416.8500000000004,"Benefit not given",null,2023,null,null,null,null,null,null,null,null,null,null,null,null,null,null,null,null,null,null,null,null,null,null,null,null,null,null,null,null,null,null,null,null,null,null,null,null,null,null,null,null,null,null,null,null,null,null,null,null,null,null,null,null,null,null,null,null,null,null,null,null,null,null,null,null,null,null,0,0,0,0,0,0,0,0,0,0,0,0,null,0,0,null,{"$f":"0","v":0},0,null,null,null,null,null,null,0,null,0,null,null,null,null,0,0,null,0]
[7,"May","A5783458890P","Joy Mueni Mutinda","Resident","Primary Employee",40000,null,null,null,null,null,null,40000,null,null,0,null,40000,1080,null,null,2400,150,3909.3500000000004,"Benefit not given",null,2023,null,null,null,null,null,null,null,null,null,null,null,null,null,null,null,null,null,null,null,null,null,null,null,null,null,null,null,null,null,null,null,null,null,null,null,null,null,null,null,null,null,null,null,null,null,null,null,null,null,null,null,null,null,null,null,null,null,null,null,null,null,null,null,null,null,null,0,0,0,0,0,0,0,0,0,0,0,0,null,0,0,null,{"$f":"0","v":0},0,null,null,null,null,null,null,0,null,0,null,null,null,null,0,0,null,0]
[8,"May","A34778457890p","Kahindi Mwero Boga","Resident","Primary Employee",40000,null,null,null,null,null,null,40000,null,null,0,null,40000,1080,null,null,2400,150,3909.3500000000004,"Benefit not given",null,2023,null,null,null,null,null,null,null,null,null,null,null,null,null,null,null,null,null,null,null,null,null,null,null,null,null,null,null,null,null,null,null,null,null,null,null,null,null,null,null,null,null,null,null,null,null,null,null,null,null,null,null,null,null,null,null,null,null,null,null,null,null,null,null,null,null,null,0,0,0,0,0,0,0,0,0,0,0,0,null,0,0,null,{"$f":"0","v":0},0,null,null,null,null,null,null,0,null,0,null,null,null,null,0,0,null,0]
[9,"May","A034897489E","John Boscco Bosire","Resident","Primary Employee",50000,null,null,null,null,null,null,50000,null,null,0,null,50000,1080,null,null,2400,180,6879.35,"Benefit not given",null,2023,null,null,null,null,null,null,null,null,null,null,null,null,null,null,null,null,null,null,null,null,null,null,null,null,null,null,null,null,null,null,null,null,null,null,null,null,null,null,null,null,null,null,null,null,null,null,null,null,null,null,null,null,null,null,null,null,null,null,null,null,null,null,null,null,null,null,0,0,0,0,0,0,0,0,0,0,0,0,null,0,0,null,{"$f":"0","v":0},0,null,null,null,null,null,null,0,null,0,null,null,null,null,0,0,null,0]
[10,"May","A4782349790P","Hassan Abdulnasir Wario","Resident","Primary Employee",40000,null,null,null,null,null,null,40000,null,null,0,null,40000,1080,null,null,2400,150,3909.3500000000004,"Benefit not given",null,2023,null,null,null,null,null,null,null,null,null,null,null,null,null,null,null,null,null,null,null,null,null,null,null,null,null,null,null,null,null,null,null,null,null,null,null,null,null,null,null,null,null,null,null,null,null,null,null,null,null,null,null,null,null,null,null,null,null,null,null,null,null,null,null,null,null,null,{"$f":"BP64","v":0},{"$f":"BQ64","v":0},{"$f":"BR64","v":0},{"$f":"BS64","v":0},{"$f":"BT64","v":0},{"$f":"BU64","v":0},{"$f":"BV64","v":0},{"$f":"BW64","v":0},{"$f":"CN64","v":0},{"$f":"BX64","v":0},{"$f":"BY64","v":0},{"$f":"BZ64","v":0},null,{"$f":"CB64","v":0},{"$f":"CC64","v":0},null,{"$f":"0","v":0},{"$f":"CM64","v":0},null,null,null,null,null,null,{"$f":"CG64","v":0},null,{"$f":"CH64","v":0},null,null,null,null,{"$f":"CJ64","v":0},{"$f":"CK64","v":0},null,{"$f":"CL64","v":0}]
[11,"May","A0324878234P","Jastine Makemba Batogo","Resident","Primary Employee",50000,null,null,null,null,null,null,50000,null,null,0,null,50000,1080,null,null,2400,180,6879.35,"Benefit not given",null,2023,null,null,null,null,null,null,null,null,null,null,null,null,null,null,null,null,null,null,null,null,null,null,null,null,null,null,null,null,null,null,null,null,null,null,null,null,null,null,null,null,null,null,null,null,null,null,null,null,null,null,null,null,null,null,null,null,null,null,null,null,null,null,null,null,null,null,0,0,0,0,0,0,0,0,0,0,0,0,null,0,0,null,{"$f":"0","v":0},0,null,null,null,null,null,null,0,null,0,null,null,null,null,0,0,null,0]
[12,"May","A03476784359K","Janet Wairimu Wamatagi","Resident","Primary Employee",40000,null,null,null,null,null,null,40000,null,null,0,null,40000,1080,null,null,2400,150,3909.3500000000004,"Benefit not given",null,2023,null,null,null,null,null,null,null,null,null,null,null,null,null,null,null,null,null,null,null,null,null,null,null,null,null,null,null,null,null,null,null,null,null,null,null,null,null,null,null,null,null,null,null,null,null,null,null,null,null,null,null,null,null,null,null,null,null,null,null,null,null,null,null,null,null,null,0,0,0,0,0,0,0,0,0,0,0,0,null,0,0,null,{"$f":"0","v":0},0,null,null,null,null,null,null,0,null,0,null,null,null,null,0,0,null,0]
[1,"June","A34578678450P","Brian Kombe Gode","Resident","Primary Employee",60000,null,null,null,null,null,null,60000,null,null,0,null,60000,1080,null,null,2400,195,9864.3499999999985,"Benefit not given",null,2023,null,null,null,null,null,null,null,null,null,null,null,null,null,null,null,null,null,null,null,null,null,null,null,null,null,null,null,null,null,null,null,null,null,null,null,null,null,null,null,null,null,null,null,null,null,null,null,null,null,null,null,null,null,null,null,null,null,null,null,null,null,null,null,null,null,null,0,0,0,0,0,0,0,0,0,0,0,0,null,0,0,null,{"$f":"0","v":0},0,null,null,null,null,null,null,0,null,0,null,null,null,null,0,0,null,0]
[2,"June","A49898479409","Timothy Brian Odongo","Resident","Primary Employee",100000,20000,10000,null,5000,null,null,135000,null,null,0,null,135000,1080,null,null,2400,255,32304.649999999994,"Benefit not given",null,2023,null,null,null,null,null,null,null,null,null,null,null,null,null,null,null,null,null,null,null,null,null,null,null,null,null,null,null,null,null,null,null,null,null,null,null,null,null,null,null,null,null,null,null,null,null,null,null,null,null,null,null,null,null,null,null,null,null,null,null,null,null,null,null,null,null,null,0,0,0,0,0,0,0,0,0,0,0,0,null,0,0,null,{"$f":"0","v":0},0,null,null,null,null,null,null,0,null,0,null,null,null,null,0,0,null,0]
[3,"June","A4378678570K","Bshora Wayu Nzamo","Resident","Primary Employee",50000,null,null,null,null,null,null,50000,null,null,0,null,50000,1080,null,null,2400,180,6879.35,"Benefit not given",null,2023,null,null,null,null,null,null,null,null,null,null,null,null,null,null,null,null,null,null,null,null,null,null,null,null,null,null,null,null,null,null,null,null,null,null,null,null,null,null,null,null,null,null,null,null,null,null,null,null,null,null,null,null,null,null,null,null,null,null,null,null,null,null,null,null,null,null,0,0,0,0,0,0,0,0,0,0,0,0,null,0,0,null,{"$f":"0","v":0},0,null,null,null,null,null,null,0,null,0,null,null,null,null,0,0,null,0]
[4,"June","A646834690O","Wanyoni Agala Musando","Resident","Primary Employee",45000,null,null,null,null,null,null,45000,null,null,0,null,45000,1080,null,null,2400,165,5394.35,"Benefit not given",null,2023,null,null,null,null,null,null,null,null,null,null,null,null,null,null,null,null,null,null,null,null,null,null,null,null,null,null,null,null,null,null,null,null,null,null,null,null,null,null,null,null,null,null,null,null,null,null,null,null,null,null,null,null,null,null,null,null,null,null,null,null,null,null,null,null,null,null,0,0,0,0,0,0,0,0,0,0,0,0,null,0,0,null,{"$f":"0","v":0},0,null,null,null,null,null,null,0,null,0,null,null,null,null,0,0,null,0]
[5,"June","A745878980P","Benerd Kimani Njorioge","Resident","Primary Employee",45000,null,null,null,null,null,null,45000,null,null,0,null,45000,1080,null,null,2400,165,5394.35,"Benefit not given",null,2023,null,null,null,null,null,null,null,null,null,null,null,null,null,null,null,null,null,null,null,null,null,null,null,null,null,null,null,null,null,null,null,null,null,null,null,null,null,null,null,null,null,null,null,null,null,null,null,null,null,null,null,null,null,null,null,null,null,null,null,null,null,null,null,null,null,null,0,0,0,0,0,0,0,0,0,0,0,0,null,0,0,null,{"$f":"0","v":0},0,null,null,null,null,null,null,0,null,0,null,null,null,null,0,0,null,0]
[6,"June","A457899480p","Sam Jacob Mroki","Resident","Primary Employee",35000,null,null,null,null,null,null,35000,null,null,0,null,35000,1080,null,null,2400,142.5,2416.8500000000004,"Benefit not given",null,2023,null,null,null,null,null,null,null,null,null,null,null,null,null,null,null,null,null,null,null,null,null,null,null,null,null,null,null,null,null,null,null,null,null,null,null,null,null,null,null,null,null,null,null,null,null,null,null,null,null,null,null,null,null,null,null,null,null,null,null,null,null,null,null,null,null,null,0,0,0,0,0,0,0,0,0,0,0,0,null,0,0,null,{"$f":"0","v":0},0,null,null,null,null,null,null,0,null,0,null,null,null,null,0,0,null,0]
[7,"June","A5783458890P","Joy Mueni Mutinda","Resident","Primary Employee",40000,null,null,null,null,null,null,40000,null,null,0,null,40000,1080,null,null,2400,150,3909.3500000000004,"Benefit not given",null,2023,null,null,null,null,null,null,null,null,null,null,null,null,null,null,null,null,null,null,null,null,null,null,null,null,null,null,null,null,null,null,null,null,null,null,null,null,null,null,null,null,null,null,null,null,null,null,null,null,null,null,null,null,null,null,null,null,null,null,null,null,null,null,null,null,null,null,0,0,0,0,0,0,0,0,0,0,0,0,null,0,0,null,{"$f":"0","v":0},0,null,null,null,null,null,null,0,null,0,null,null,null,null,0,0,null,0]
[8,"June","A34778457890p","Kahindi Mwero Boga","Resident","Primary Employee",40000,null,null,null,null,null,null,40000,null,null,0,null,40000,1080,null,null,2400,150,3909.3500000000004,"Benefit not given",null,2023,null,null,null,null,null,null,null,null,null,null,null,null,null,null,null,null,null,null,null,null,null,null,null,null,null,null,null,null,null,null,null,null,null,null,null,null,null,null,null,null,null,null,null,null,null,null,null,null,null,null,null,null,null,null,null,null,null,null,null,null,null,null,null,null,null,null,0,0,0,0,0,0,0,0,0,0,0,0,null,0,0,null,{"$f":"0","v":0},0,null,null,null,null,null,null,0,null,0,null,null,null,null,0,0,null,0]
[9,"June","A034897489E","John Boscco Bosire","Resident","Primary Employee",50000,null,null,null,null,null,null,50000,null,null,0,null,50000,1080,null,null,2400,180,6879.35,"Benefit not given",null,2023,null,null,null,null,null,null,null,null,null,null,null,null,null,null,null,null,null,null,null,null,null,null,null,null,null,null,null,null,null,null,null,null,null,null,null,null,null,null,null,null,null,null,null,null,null,null,null,null,null,null,null,null,null,null,null,null,null,null,null,null,null,null,null,null,null,null,0,0,0,0,0,0,0,0,0,0,0,0,null,0,0,null,{"$f":"0","v":0},0,null,null,null,null,null,null,0,null,0,null,null,null,null,0,0,null,0]
[10,"June","A4782349790P","Hassan Abdulnasir Wario","Resident","Primary Employee",40000,null,null,null,null,null,null,40000,null,null,0,null,40000,1080,null,null,2400,150,3909.3500000000004,"Benefit not given",null,2023,null,null,null,null,null,null,null,null,null,null,null,null,null,null,null,null,null,null,null,null,null,null,null,null,null,null,null,null,null,null,null,null,null,null,null,null,null,null,null,null,null,null,null,null,null,null,null,null,null,null,null,null,null,null,null,null,null,null,null,null,null,null,null,null,null,null,0,0,0,0,0,0,0,0,0,0,0,0,null,0,0,null,{"$f":"0","v":0},0,null,null,null,null,null,null,0,null,0,null,null,null,null,0,0,null,0]
[11,"June","A0324878234P","Jastine Makemba Batogo","Resident","Primary Employee",50000,null,null,null,null,null,null,50000,null,null,0,null,50000,1080,null,null,2400,180,6879.35,"Benefit not given",null,2023,null,null,null,null,null,null,null,null,null,null,null,null,null,null,null,null,null,null,null,null,null,null,null,null,null,null,null,null,null,null,null,null,null,null,null,null,null,null,null,null,null,null,null,null,null,null,null,null,null,null,null,null,null,null,null,null,null,null,null,null,null,null,null,null,null,null,0,0,0,0,0,0,0,0,0,0,0,0,null,0,0,null,{"$f":"0","v":0},0,null,null,null,null,null,null,0,null,0,null,null,null,null,0,0,null,0]
[12,"June","A03476784359K","Janet Wairimu Wamatagi","Resident","Primary Employee",40000,null,null,null,null,null,null,40000,null,null,0,null,40000,1080,null,null,2400,150,3909.3500000000004,"Benefit not given",null,2023,null,null,null,null,null,null,null,null,null,null,null,null,null,null,null,null,null,null,null,null,null,null,null,null,null,null,null,null,null,null,null,null,null,null,null,null,null,null,null,null,null,null,null,null,null,null,null,null,null,null,null,null,null,null,null,null,null,null,null,null,null,null,null,null,null,null,0,0,0,0,0,0,0,0,0,0,0,0,null,0,0,null,{"$f":"0","v":0},0,null,null,null,null,null,null,0,null,0,null,null,null,null,0,0,null,0]
[1,"July","A34578678450P","Brian Kombe Gode","Resident","Primary Employee",60000,null,null,null,null,null,null,60000,null,null,0,null,60000,1080,null,null,2400,195,9864.3499999999985,"Benefit not given",null,2023,null,null,null,null,null,null,null,null,null,null,null,null,null,null,null,null,null,null,null,null,null,null,null,null,null,null,null,null,null,null,null,null,null,null,null,null,null,null,null,null,null,null,null,null,null,null,null,null,null,null,null,null,null,null,null,null,null,null,null,null,null,null,null,null,null,null,0,0,0,0,0,0,0,0,0,0,0,0,null,0,0,null,{"$f":"0","v":0},0,null,null,null,null,null,null,0,null,0,null,null,null,null,0,0,null,0]
[2,"July","A49898479409","Timothy Brian Odongo","Resident","Primary Employee",100000,20000,10000,null,5000,null,null,135000,null,null,0,null,135000,1080,null,null,2400,255,32304.649999999994,"Benefit not given",null,2023,null,null,null,null,null,null,null,null,null,null,null,null,null,null,null,null,null,null,null,null,null,null,null,null,null,null,null,null,null,null,null,null,null,null,null,null,null,null,null,null,null,null,null,null,null,null,null,null,null,null,null,null,null,null,null,null,null,null,null,null,null,null,null,null,null,null,0,0,0,0,0,0,0,0,0,0,0,0,null,0,0,null,{"$f":"0","v":0},0,null,null,null,null,null,null,0,null,0,null,null,null,null,0,0,null,0]
[3,"July","A4378678570K","Bshora Wayu Nzamo","Resident","Primary Employee",50000,null,null,null,null,null,null,50000,null,null,0,null,50000,1080,null,null,2400,180,6879.35,"Benefit not given",null,2023,null,null,null,null,null,null,null,null,null,null,null,null,null,null,null,null,null,null,null,null,null,null,null,null,null,null,null,null,null,null,null,null,null,null,null,null,null,null,null,null,null,null,null,null,null,null,null,null,null,null,null,null,null,null,null,null,null,null,null,null,null,null,null,null,null,null,0,0,0,0,0,0,0,0,0,0,0,0,null,0,0,null,{"$f":"0","v":0},0,null,null,null,null,null,null,0,null,0,null,null,null,null,0,0,null,0]
[4,"July","A646834690O","Wanyoni Agala Musando","Resident","Primary Employee",45000,null,null,null,null,null,null,45000,null,null,0,null,45000,1080,null,null,2400,165,5394.35,"Benefit not given",null,2023,null,null,null,null,null,null,null,null,null,null,null,null,null,null,null,null,null,null,null,null,null,null,null,null,null,null,null,null,null,null,null,null,null,null,null,null,null,null,null,null,null,null,null,null,null,null,null,null,null,null,null,null,null,null,null,null,null,null,null,null,null,null,null,null,null,null,0,0,0,0,0,0,0,0,0,0,0,0,null,0,0,null,{"$f":"0","v":0},0,null,null,null,null,null,null,0,null,0,null,null,null,null,0,0,null,0]
[5,"July","A745878980P","Benerd Kimani Njorioge","Resident","Primary Employee",45000,null,null,null,null,null,null,45000,null,null,0,null,45000,1080,null,null,2400,165,5394.35,"Benefit not given",null,2023,null,null,null,null,null,null,null,null,null,null,null,null,null,null,null,null,null,null,null,null,null,null,null,null,null,null,null,null,null,null,null,null,null,null,null,null,null,null,null,null,null,null,null,null,null,null,null,null,null,null,null,null,null,null,null,null,null,null,null,null,null,null,null,null,null,null,0,0,0,0,0,0,0,0,0,0,0,0,null,0,0,null,{"$f":"0","v":0},0,null,null,null,null,null,null,0,null,0,null,null,null,null,0,0,null,0]
[6,"July","A457899480p","Sam Jacob Mroki","Resident","Primary Employee",35000,null,null,null,null,null,null,35000,null,null,0,null,35000,1080,null,null,2400,142.5,2416.8500000000004,"Benefit not given",null,2023,null,null,null,null,null,null,null,null,null,null,null,null,null,null,null,null,null,null,null,null,null,null,null,null,null,null,null,null,null,null,null,null,null,null,null,null,null,null,null,null,null,null,null,null,null,null,null,null,null,null,null,null,null,null,null,null,null,null,null,null,null,null,null,null,null,null,0,0,0,0,0,0,0,0,0,0,0,0,null,0,0,null,{"$f":"0","v":0},0,null,null,null,null,null,null,0,null,0,null,null,null,null,0,0,null,0]
[7,"July","A5783458890P","Joy Mueni Mutinda","Resident","Primary Employee",40000,null,null,null,null,null,null,40000,null,null,0,null,40000,1080,null,null,2400,150,3909.3500000000004,"Benefit not given",null,2023,null,null,null,null,null,null,null,null,null,null,null,null,null,null,null,null,null,null,null,null,null,null,null,null,null,null,null,null,null,null,null,null,null,null,null,null,null,null,null,null,null,null,null,null,null,null,null,null,null,null,null,null,null,null,null,null,null,null,null,null,null,null,null,null,null,null,0,0,0,0,0,0,0,0,0,0,0,0,null,0,0,null,{"$f":"0","v":0},0,null,null,null,null,null,null,0,null,0,null,null,null,null,0,0,null,0]
[8,"July","A34778457890p","Kahindi Mwero Boga","Resident","Primary Employee",40000,null,null,null,null,null,null,40000,null,null,0,null,40000,1080,null,null,2400,150,3909.3500000000004,"Benefit not given",null,2023,null,null,null,null,null,null,null,null,null,null,null,null,null,null,null,null,null,null,null,null,null,null,null,null,null,null,null,null,null,null,null,null,null,null,null,null,null,null,null,null,null,null,null,null,null,null,null,null,null,null,null,null,null,null,null,null,null,null,null,null,null,null,null,null,null,null,0,0,0,0,0,0,0,0,0,0,0,0,null,0,0,null,{"$f":"0","v":0},0,null,null,null,null,null,null,0,null,0,null,null,null,null,0,0,null,0]
[9,"July","A034897489E","John Boscco Bosire","Resident","Primary Employee",50000,null,null,null,null,null,null,50000,null,null,0,null,50000,1080,null,null,2400,180,6879.35,"Benefit not given",null,2023,null,null,null,null,null,null,null,null,null,null,null,null,null,null,null,null,null,null,null,null,null,null,null,null,null,null,null,null,null,null,null,null,null,null,null,null,null,null,null,null,null,null,null,null,null,null,null,null,null,null,null,null,null,null,null,null,null,null,null,null,null,null,null,null,null,null,0,0,0,0,0,0,0,0,0,0,0,0,null,0,0,null,{"$f":"0","v":0},0,null,null,null,null,null,null,0,null,0,null,null,null,null,0,0,null,0]
[10,"July","A4782349790P","Hassan Abdulnasir Wario","Resident","Primary Employee",40000,null,null,null,null,null,null,40000,null,null,0,null,40000,1080,null,null,2400,150,3909.3500000000004,"Benefit not given",null,2023,null,null,null,null,null,null,null,null,null,null,null,null,null,null,null,null,null,null,null,null,null,null,null,null,null,null,null,null,null,null,null,null,null,null,null,null,null,null,null,null,null,null,null,null,null,null,null,null,null,null,null,null,null,null,null,null,null,null,null,null,null,null,null,null,null,null,0,0,0,0,0,0,0,0,0,0,0,0,null,0,0,null,{"$f":"0","v":0},0,null,null,null,null,null,null,0,null,0,null,null,null,null,0,0,null,0]
[11,"July","A0324878234P","Jastine Makemba Batogo","Resident","Primary Employee",50000,null,null,null,null,null,null,50000,null,null,0,null,50000,1080,null,null,2400,180,6879.35,"Benefit not given",null,2023,null,null,null,null,null,null,null,null,null,null,null,null,null,null,null,null,null,null,null,null,null,null,null,null,null,null,null,null,null,null,null,null,null,null,null,null,null,null,null,null,null,null,null,null,null,null,null,null,null,null,null,null,null,null,null,null,null,null,null,null,null,null,null,null,null,null,0,0,0,0,0,0,0,0,0,0,0,0,null,0,0,null,{"$f":"0","v":0},0,null,null,null,null,null,null,0,null,0,null,null,null,null,0,0,null,0]
[12,"July","A03476784359K","Janet Wairimu Wamatagi","Resident","Primary Employee",40000,null,null,null,null,null,null,40000,null,null,0,null,40000,1080,null,null,2400,150,3909.3500000000004,"Benefit not given",null,2023,null,null,null,null,null,null,null,null,null,null,null,null,null,null,null,null,null,null,null,null,null,null,null,null,null,null,null,null,null,null,null,null,null,null,null,null,null,null,null,null,null,null,null,null,null,null,null,null,null,null,null,null,null,null,null,null,null,null,null,null,null,null,null,null,null,null,0,0,0,0,0,0,0,0,0,0,0,0,null,0,0,null,{"$f":"0","v":0},0,null,null,null,null,null,null,0,null,0,null,null,null,null,0,0,null,0]
[1,"August","A34578678450P","Brian Kombe Gode","Resident","Primary Employee",60000,null,null,null,null,null,null,60000,null,null,0,null,60000,1080,null,null,2400,195,9864.3499999999985,"Benefit not given",null,2023,null,null,null,null,null,null,null,null,null,null,null,null,null,null,null,null,null,null,null,null,null,null,null,null,null,null,null,null,null,null,null,null,null,null,null,null,null,null,null,null,null,null,null,null,null,null,null,null,null,null,null,null,null,null,null,null,null,null,null,null,null,null,null,null,null,null,0,0,0,0,0,0,0,0,0,0,0,0,null,0,0,null,{"$f":"0","v":0},0,null,null,null,null,null,null,0,null,0,null,null,null,null,0,0,null,0]
[2,"August","A49898479409","Timothy Brian Odongo","Resident","Primary Employee",100000,20000,10000,null,5000,null,null,135000,null,null,0,null,135000,1080,null,null,2400,255,32304.649999999994,"Benefit not given",null,2023,null,null,null,null,null,null,null,null,null,null,null,null,null,null,null,null,null,null,null,null,null,null,null,null,null,null,null,null,null,null,null,null,null,null,null,null,null,null,null,null,null,null,null,null,null,null,null,null,null,null,null,null,null,null,null,null,null,null,null,null,null,null,null,null,null,null,0,0,0,0,0,0,0,0,0,0,0,0,null,0,0,null,{"$f":"0","v":0},0,null,null,null,null,null,null,0,null,0,null,null,null,null,0,0,null,0]
[3,"August","A4378678570K","Bshora Wayu Nzamo","Resident","Primary Employee",50000,null,null,null,null,null,null,50000,null,null,0,null,50000,1080,null,null,2400,180,6879.35,"Benefit not given",null,2023,null,null,null,null,null,null,null,null,null,null,null,null,null,null,null,null,null,null,null,null,null,null,null,null,null,null,null,null,null,null,null,null,null,null,null,null,null,null,null,null,null,null,null,null,null,null,null,null,null,null,null,null,null,null,null,null,null,null,null,null,null,null,null,null,null,null,0,0,0,0,0,0,0,0,0,0,0,0,null,0,0,null,{"$f":"0","v":0},0,null,null,null,null,null,null,0,null,0,null,null,null,null,0,0,null,0]
[4,"August","A646834690O","Wanyoni Agala Musando","Resident","Primary Employee",45000,null,null,null,null,null,null,45000,null,null,0,null,45000,1080,null,null,2400,165,5394.35,"Benefit not given",null,2023,null,null,null,null,null,null,null,null,null,null,null,null,null,null,null,null,null,null,null,null,null,null,null,null,null,null,null,null,null,null,null,null,null,null,null,null,null,null,null,null,null,null,null,null,null,null,null,null,null,null,null,null,null,null,null,null,null,null,null,null,null,null,null,null,null,null,0,0,0,0,0,0,0,0,0,0,0,0,null,0,0,null,{"$f":"0","v":0},0,null,null,null,null,null,null,0,null,0,null,null,null,null,0,0,null,0]
[5,"August","A745878980P","Benerd Kimani Njorioge","Resident","Primary Employee",45000,null,null,null,null,null,null,45000,null,null,0,null,45000,1080,null,null,2400,165,5394.35,"Benefit not given",null,2023,null,null,null,null,null,null,null,null,null,null,null,null,null,null,null,null,null,null,null,null,null,null,null,null,null,null,null,null,null,null,null,null,null,null,null,null,null,null,null,null,null,null,null,null,null,null,null,null,null,null,null,null,null,null,null,null,null,null,null,null,null,null,null,null,null,null,0,0,0,0,0,0,0,0,0,0,0,0,null,0,0,null,{"$f":"0","v":0},0,null,null,null,null,null,null,0,null,0,null,null,null,null,0,0,null,0]
[6,"August","A457899480p","Sam Jacob Mroki","Resident","Primary Employee",35000,null,null,null,null,null,null,35000,null,null,0,null,35000,1080,null,null,2400,142.5,2416.8500000000004,"Benefit not given",null,2023,null,null,null,null,null,null,null,null,null,null,null,null,null,null,null,null,null,null,null,null,null,null,null,null,null,null,null,null,null,null,null,null,null,null,null,null,null,null,null,null,null,null,null,null,null,null,null,null,null,null,null,null,null,null,null,null,null,null,null,null,null,null,null,null,null,null,0,0,0,0,0,0,0,0,0,0,0,0,null,0,0,null,{"$f":"0","v":0},0,null,null,null,null,null,null,0,null,0,null,null,null,null,0,0,null,0]
[7,"August","A5783458890P","Joy Mueni Mutinda","Resident","Primary Employee",40000,null,null,null,null,null,null,40000,null,null,0,null,40000,1080,null,null,2400,150,3909.3500000000004,"Benefit not given",null,2023,null,null,null,null,null,null,null,null,null,null,null,null,null,null,null,null,null,null,null,null,null,null,null,null,null,null,null,null,null,null,null,null,null,null,null,null,null,null,null,null,null,null,null,null,null,null,null,null,null,null,null,null,null,null,null,null,null,null,null,null,null,null,null,null,null,null,0,0,0,0,0,0,0,0,0,0,0,0,null,0,0,null,{"$f":"0","v":0},0,null,null,null,null,null,null,0,null,0,null,null,null,null,0,0,null,0]
[8,"August","A34778457890p","Kahindi Mwero Boga","Resident","Primary Employee",40000,null,null,null,null,null,null,40000,null,null,0,null,40000,1080,null,null,2400,150,3909.3500000000004,"Benefit not given",null,2023,null,null,null,null,null,null,null,null,null,null,null,null,null,null,null,null,null,null,null,null,null,null,null,null,null,null,null,null,null,null,null,null,null,null,null,null,null,null,null,null,null,null,null,null,null,null,null,null,null,null,null,null,null,null,null,null,null,null,null,null,null,null,null,null,null,null,0,0,0,0,0,0,0,0,0,0,0,0,null,0,0,null,{"$f":"0","v":0},0,null,null,null,null,null,null,0,null,0,null,null,null,null,0,0,null,0]
[9,"August","A034897489E","John Boscco Bosire","Resident","Primary Employee",50000,null,null,null,null,null,null,50000,null,null,0,null,50000,1080,null,null,2400,180,6879.35,"Benefit not given",null,2023,null,null,null,null,null,null,null,null,null,null,null,null,null,null,null,null,null,null,null,null,null,null,null,null,null,null,null,null,null,null,null,null,null,null,null,null,null,null,null,null,null,null,null,null,null,null,null,null,null,null,null,null,null,null,null,null,null,null,null,null,null,null,null,null,null,null,0,0,0,0,0,0,0,0,0,0,0,0,null,0,0,null,{"$f":"0","v":0},0,null,null,null,null,null,null,0,null,0,null,null,null,null,0,0,null,0]
[10,"August","A4782349790P","Hassan Abdulnasir Wario","Resident","Primary Employee",40000,null,null,null,null,null,null,40000,null,null,0,null,40000,1080,null,null,2400,150,3909.3500000000004,"Benefit not given",null,2023,null,null,null,null,null,null,null,null,null,null,null,null,null,null,null,null,null,null,null,null,null,null,null,null,null,null,null,null,null,null,null,null,null,null,null,null,null,null,null,null,null,null,null,null,null,null,null,null,null,null,null,null,null,null,null,null,null,null,null,null,null,null,null,null,null,null,0,0,0,0,0,0,0,0,0,0,0,0,null,0,0,null,{"$f":"0","v":0},0,null,null,null,null,null,null,0,null,0,null,null,null,null,0,0,null,0]
[11,"August","A0324878234P","Jastine Makemba Batogo","Resident","Primary Employee",50000,null,null,null,null,null,null,50000,null,null,0,null,50000,1080,null,null,2400,180,6879.35,"Benefit not given",null,2023,null,null,null,null,null,null,null,null,null,null,null,null,null,null,null,null,null,null,null,null,null,null,null,null,null,null,null,null,null,null,null,null,null,null,null,null,null,null,null,null,null,null,null,null,null,null,null,null,null,null,null,null,null,null,null,null,null,null,null,null,null,null,null,null,null,null,0,0,0,0,0,0,0,0,0,0,0,0,null,0,0,null,{"$f":"0","v":0},0,null,null,null,null,null,null,0,null,0,null,null,null,null,0,0,null,0]
[12,"August","A03476784359K","Janet Wairimu Wamatagi","Resident","Primary Employee",40000,null,null,null,null,null,null,40000,null,null,0,null,40000,1080,null,null,2400,150,3909.3500000000004,"Benefit not given",null,2023,null,null,null,null,null,null,null,null,null,null,null,null,null,null,null,null,null,null,null,null,null,null,null,null,null,null,null,null,null,null,null,null,null,null,null,null,null,null,null,null,null,null,null,null,null,null,null,null,null,null,null,null,null,null,null,null,null,null,null,null,null,null,null,null,null,null,0,0,0,0,0,0,0,0,0,0,0,0,null,0,0,null,{"$f":"0","v":0},0,null,null,null,null,null,null,0,null,0,null,null,null,null,0,0,null,0]
[1,"September","A34578678450P","Brian Kombe Gode","Resident","Primary Employee",60000,null,null,null,null,null,null,60000,null,null,0,null,60000,1080,null,null,2400,195,9864.3499999999985,"Benefit not given",null,2023,null,null,null,null,null,null,null,null,null,null,null,null,null,null,null,null,null,null,null,null,null,null,null,null,null,null,null,null,null,null,null,null,null,null,null,null,null,null,null,null,null,null,null,null,null,null,null,null,null,null,null,null,null,null,null,null,null,null,null,null,null,null,null,null,null,null,0,0,0,0,0,0,0,0,0,0,0,0,null,0,0,null,{"$f":"0","v":0},0,null,null,null,null,null,null,0,null,0,null,null,null,null,0,0,null,0]
[2,"September","A49898479409","Timothy Brian Odongo","Resident","Primary Employee",100000,20000,10000,null,5000,null,null,135000,null,null,0,null,135000,1080,null,null,2400,255,32304.649999999994,"Benefit not given",null,2023,null,null,null,null,null,null,null,null,null,null,null,null,null,null,null,null,null,null,null,null,null,null,null,null,null,null,null,null,null,null,null,null,null,null,null,null,null,null,null,null,null,null,null,null,null,null,null,null,null,null,null,null,null,null,null,null,null,null,null,null,null,null,null,null,null,null,0,0,0,0,0,0,0,0,0,0,0,0,null,0,0,null,{"$f":"0","v":0},0,null,null,null,null,null,null,0,null,0,null,null,null,null,0,0,null,0]
[3,"September","A4378678570K","Bshora Wayu Nzamo","Resident","Primary Employee",50000,null,null,null,null,null,null,50000,null,null,0,null,50000,1080,null,null,2400,180,6879.35,"Benefit not given",null,2023,null,null,null,null,null,null,null,null,null,null,null,null,null,null,null,null,null,null,null,null,null,null,null,null,null,null,null,null,null,null,null,null,null,null,null,null,null,null,null,null,null,null,null,null,null,null,null,null,null,null,null,null,null,null,null,null,null,null,null,null,null,null,null,null,null,null,0,0,0,0,0,0,0,0,0,0,0,0,null,0,0,null,{"$f":"0","v":0},0,null,null,null,null,null,null,0,null,0,null,null,null,null,0,0,null,0]
[4,"September","A646834690O","Wanyoni Agala Musando","Resident","Primary Employee",45000,null,null,null,null,null,null,45000,null,null,0,null,45000,1080,null,null,2400,165,5394.35,"Benefit not given",null,2023,null,null,null,null,null,null,null,null,null,null,null,null,null,null,null,null,null,null,null,null,null,null,null,null,null,null,null,null,null,null,null,null,null,null,null,null,null,null,null,null,null,null,null,null,null,null,null,null,null,null,null,null,null,null,null,null,null,null,null,null,null,null,null,null,null,null,0,0,0,0,0,0,0,0,0,0,0,0,null,0,0,null,{"$f":"0","v":0},0,null,null,null,null,null,null,0,null,0,null,null,null,null,0,0,null,0]
[5,"September","A745878980P","Benerd Kimani Njorioge","Resident","Primary Employee",45000,null,null,null,null,null,null,45000,null,null,0,null,45000,1080,null,null,2400,165,5394.35,"Benefit not given",null,2023,null,null,null,null,null,null,null,null,null,null,null,null,null,null,null,null,null,null,null,null,null,null,null,null,null,null,null,null,null,null,null,null,null,null,null,null,null,null,null,null,null,null,null,null,null,null,null,null,null,null,null,null,null,null,null,null,null,null,null,null,null,null,null,null,null,null,0,0,0,0,0,0,0,0,0,0,0,0,null,0,0,null,{"$f":"0","v":0},0,null,null,null,null,null,null,0,null,0,null,null,null,null,0,0,null,0]
[6,"September","A457899480p","Sam Jacob Mroki","Resident","Primary Employee",35000,null,null,null,null,null,null,35000,null,null,0,null,35000,1080,null,null,2400,142.5,2416.8500000000004,"Benefit not given",null,2023,null,null,null,null,null,null,null,null,null,null,null,null,null,null,null,null,null,null,null,null,null,null,null,null,null,null,null,null,null,null,null,null,null,null,null,null,null,null,null,null,null,null,null,null,null,null,null,null,null,null,null,null,null,null,null,null,null,null,null,null,null,null,null,null,null,null,0,0,0,0,0,0,0,0,0,0,0,0,null,0,0,null,{"$f":"0","v":0},0,null,null,null,null,null,null,0,null,0,null,null,null,null,0,0,null,0]
[7,"September","A5783458890P","Joy Mueni Mutinda","Resident","Primary Employee",40000,null,null,null,null,null,null,40000,null,null,0,null,40000,1080,null,null,2400,150,3909.3500000000004,"Benefit not given",null,2023,null,null,null,null,null,null,null,null,null,null,null,null,null,null,null,null,null,null,null,null,null,null,null,null,null,null,null,null,null,null,null,null,null,null,null,null,null,null,null,null,null,null,null,null,null,null,null,null,null,null,null,null,null,null,null,null,null,null,null,null,null,null,null,null,null,null,0,0,0,0,0,0,0,0,0,0,0,0,null,0,0,null,{"$f":"0","v":0},0,null,null,null,null,null,null,0,null,0,null,null,null,null,0,0,null,0]
[8,"September","A34778457890p","Kahindi Mwero Boga","Resident","Primary Employee",40000,null,null,null,null,null,null,40000,null,null,0,null,40000,1080,null,null,2400,150,3909.3500000000004,"Benefit not given",null,2023,null,null,null,null,null,null,null,null,null,null,null,null,null,null,null,null,null,null,null,null,null,null,null,null,null,null,null,null,null,null,null,null,null,null,null,null,null,null,null,null,null,null,null,null,null,null,null,null,null,null,null,null,null,null,null,null,null,null,null,null,null,null,null,null,null,null,0,0,0,0,0,0,0,0,0,0,0,0,null,0,0,null,{"$f":"0","v":0},0,null,null,null,null,null,null,0,null,0,null,null,null,null,0,0,null,0]
[9,"September","A034897489E","John Boscco Bosire","Resident","Primary Employee",50000,null,null,null,null,null,null,50000,null,null,0,null,50000,1080,null,null,2400,180,6879.35,"Benefit not given",null,2023,null,null,null,null,null,null,null,null,null,null,null,null,null,null,null,null,null,null,null,null,null,null,null,null,null,null,null,null,null,null,null,null,null,null,null,null,null,null,null,null,null,null,null,null,null,null,null,null,null,null,null,null,null,null,null,null,null,null,null,null,null,null,null,null,null,null,0,0,0,0,0,0,0,0,0,0,0,0,null,0,0,null,{"$f":"0","v":0},0,null,null,null,null,null,null,0,null,0,null,null,null,null,0,0,null,0]
[10,"September","A4782349790P","Hassan Abdulnasir Wario","Resident","Primary Employee",40000,null,null,null,null,null,null,40000,null,null,0,null,40000,1080,null,null,2400,150,3909.3500000000004,"Benefit not given",null,2023,null,null,null,null,null,null,null,null,null,null,null,null,null,null,null,null,null,null,null,null,null,null,null,null,null,null,null,null,null,null,null,null,null,null,null,null,null,null,null,null,null,null,null,null,null,null,null,null,null,null,null,null,null,null,null,null,null,null,null,null,null,null,null,null,null,null,0,0,0,0,0,0,0,0,0,0,0,0,null,0,0,null,{"$f":"0","v":0},0,null,null,null,null,null,null,0,null,0,null,null,null,null,0,0,null,0]
[11,"September","A0324878234P","Jastine Makemba Batogo","Resident","Primary Employee",50000,null,null,null,null,null,null,50000,null,null,0,null,50000,1080,null,null,2400,180,6879.35,"Benefit not given",null,2023,null,null,null,null,null,null,null,null,null,null,null,null,null,null,null,null,null,null,null,null,null,null,null,null,null,null,null,null,null,null,null,null,null,null,null,null,null,null,null,null,null,null,null,null,null,null,null,null,null,null,null,null,null,null,null,null,null,null,null,null,null,null,null,null,null,null,0,0,0,0,0,0,0,0,0,0,0,0,null,0,0,null,{"$f":"0","v":0},0,null,null,null,null,null,null,0,null,0,null,null,null,null,0,0,null,0]
[12,"September","A03476784359K","Janet Wairimu Wamatagi","Resident","Primary Employee",40000,null,null,null,null,null,null,40000,null,null,0,null,40000,1080,null,null,2400,150,3909.3500000000004,"Benefit not given",null,2023,null,null,null,null,null,null,null,null,null,null,null,null,null,null,null,null,null,null,null,null,null,null,null,null,null,null,null,null,null,null,null,null,null,null,null,null,null,null,null,null,null,null,null,null,null,null,null,null,null,null,null,null,null,null,null,null,null,null,null,null,null,null,null,null,null,null,0,0,0,0,0,0,0,0,0,0,0,0,null,0,0,null,{"$f":"0","v":0},0,null,null,null,null,null,null,0,null,0,null,null,null,null,0,0,null,0]
[1,"October","A34578678450P","Brian Kombe Gode","Resident","Primary Employee",60000,null,null,null,null,null,null,60000,null,null,0,null,60000,1080,null,null,2400,195,9864.3499999999985,"Benefit not given",null,2023,null,null,null,null,null,null,null,null,null,null,null,null,null,null,null,null,null,null,null,null,null,null,null,null,null,null,null,null,null,null,null,null,null,null,null,null,null,null,null,null,null,null,null,null,null,null,null,null,null,null,null,null,null,null,null,null,null,null,null,null,null,null,null,null,null,null,0,0,0,0,0,0,0,0,0,0,0,0,null,0,0,null,{"$f":"0","v":0},0,null,null,null,null,null,null,0,null,0,null,null,null,null,0,0,null,0]
[2,"October","A49898479409","Timothy Brian Odongo","Resident","Primary Employee",100000,20000,10000,null,5000,null,null,135000,null,null,0,null,135000,1080,null,null,2400,255,32304.649999999994,"Benefit not given",null,2023,null,null,null,null,null,null,null,null,null,null,null,null,null,null,null,null,null,null,null,null,null,null,null,null,null,null,null,null,null,null,null,null,null,null,null,null,null,null,null,null,null,null,null,null,null,null,null,null,null,null,null,null,null,null,null,null,null,null,null,null,null,null,null,null,null,null,0,0,0,0,0,0,0,0,0,0,0,0,null,0,0,null,{"$f":"0","v":0},0,null,null,null,null,null,null,0,null,0,null,null,null,null,0,0,null,0]
[3,"October","A4378678570K","Bshora Wayu Nzamo","Resident","Primary Employee",50000,null,null,null,null,null,null,50000,null,null,0,null,50000,1080,null,null,2400,180,6879.35,"Benefit not given",null,2023,null,null,null,null,null,null,null,null,null,null,null,null,null,null,null,null,null,null,null,null,null,null,null,null,null,null,null,null,null,null,null,null,null,null,null,null,null,null,null,null,null,null,null,null,null,null,null,null,null,null,null,null,null,null,null,null,null,null,null,null,null,null,null,null,null,null,0,0,0,0,0,0,0,0,0,0,0,0,null,0,0,null,{"$f":"0","v":0},0,null,null,null,null,null,null,0,null,0,null,null,null,null,0,0,null,0]
[4,"October","A646834690O","Wanyoni Agala Musando","Resident","Primary Employee",45000,null,null,null,null,null,null,45000,null,null,0,null,45000,1080,null,null,2400,165,5394.35,"Benefit not given",null,2023,null,null,null,null,null,null,null,null,null,null,null,null,null,null,null,null,null,null,null,null,null,null,null,null,null,null,null,null,null,null,null,null,null,null,null,null,null,null,null,null,null,null,null,null,null,null,null,null,null,null,null,null,null,null,null,null,null,null,null,null,null,null,null,null,null,null,0,0,0,0,0,0,0,0,0,0,0,0,null,0,0,null,{"$f":"0","v":0},0,null,null,null,null,null,null,0,null,0,null,null,null,null,0,0,null,0]
[5,"October","A745878980P","Benerd Kimani Njorioge","Resident","Primary Employee",45000,null,null,null,null,null,null,45000,null,null,0,null,45000,1080,null,null,2400,165,5394.35,"Benefit not given",null,2023,null,null,null,null,null,null,null,null,null,null,null,null,null,null,null,null,null,null,null,null,null,null,null,null,null,null,null,null,null,null,null,null,null,null,null,null,null,null,null,null,null,null,null,null,null,null,null,null,null,null,null,null,null,null,null,null,null,null,null,null,null,null,null,null,null,null,0,0,0,0,0,0,0,0,0,0,0,0,null,0,0,null,{"$f":"0","v":0},0,null,null,null,null,null,null,0,null,0,null,null,null,null,0,0,null,0]
[6,"October","A457899480p","Sam Jacob Mroki","Resident","Primary Employee",35000,null,null,null,null,null,null,35000,null,null,0,null,35000,1080,null,null,2400,142.5,2416.8500000000004,"Benefit not given",null,2023,null,null,null,null,null,null,null,null,null,null,null,null,null,null,null,null,null,null,null,null,null,null,null,null,null,null,null,null,null,null,null,null,null,null,null,null,null,null,null,null,null,null,null,null,null,null,null,null,null,null,null,null,null,null,null,null,null,null,null,null,null,null,null,null,null,null,0,0,0,0,0,0,0,0,0,0,0,0,null,0,0,null,{"$f":"0","v":0},0,null,null,null,null,null,null,0,null,0,null,null,null,null,0,0,null,0]
[7,"October","A5783458890P","Joy Mueni Mutinda","Resident","Primary Employee",40000,null,null,null,null,null,null,40000,null,null,0,null,40000,1080,null,null,2400,150,3909.3500000000004,"Benefit not given",null,2023,null,null,null,null,null,null,null,null,null,null,null,null,null,null,null,null,null,null,null,null,null,null,null,null,null,null,null,null,null,null,null,null,null,null,null,null,null,null,null,null,null,null,null,null,null,null,null,null,null,null,null,null,null,null,null,null,null,null,null,null,null,null,null,null,null,null,0,0,0,0,0,0,0,0,0,0,0,0,null,0,0,null,{"$f":"0","v":0},0,null,null,null,null,null,null,0,null,0,null,null,null,null,0,0,null,0]
[8,"October","A34778457890p","Kahindi Mwero Boga","Resident","Primary Employee",40000,null,null,null,null,null,null,40000,null,null,0,null,40000,1080,null,null,2400,150,3909.3500000000004,"Benefit not given",null,2023,null,null,null,null,null,null,null,null,null,null,null,null,null,null,null,null,null,null,null,null,null,null,null,null,null,null,null,null,null,null,null,null,null,null,null,null,null,null,null,null,null,null,null,null,null,null,null,null,null,null,null,null,null,null,null,null,null,null,null,null,null,null,null,null,null,null,0,0,0,0,0,0,0,0,0,0,0,0,null,0,0,null,{"$f":"0","v":0},0,null,null,null,null,null,null,0,null,0,null,null,null,null,0,0,null,0]
[9,"October","A034897489E","John Boscco Bosire","Resident","Primary Employee",50000,null,null,null,null,null,null,50000,null,null,0,null,50000,1080,null,null,2400,180,6879.35,"Benefit not given",null,2023,null,null,null,null,null,null,null,null,null,null,null,null,null,null,null,null,null,null,null,null,null,null,null,null,null,null,null,null,null,null,null,null,null,null,null,null,null,null,null,null,null,null,null,null,null,null,null,null,null,null,null,null,null,null,null,null,null,null,null,null,null,null,null,null,null,null,0,0,0,0,0,0,0,0,0,0,0,0,null,0,0,null,{"$f":"0","v":0},0,null,null,null,null,null,null,0,null,0,null,null,null,null,0,0,null,0]
[10,"October","A4782349790P","Hassan Abdulnasir Wario","Resident","Primary Employee",40000,null,null,null,null,null,null,40000,null,null,0,null,40000,1080,null,null,2400,150,3909.3500000000004,"Benefit not given",null,2023,null,null,null,null,null,null,null,null,null,null,null,null,null,null,null,null,null,null,null,null,null,null,null,null,null,null,null,null,null,null,null,null,null,null,null,null,null,null,null,null,null,null,null,null,null,null,null,null,null,null,null,null,null,null,null,null,null,null,null,null,null,null,null,null,null,null,0,0,0,0,0,0,0,0,0,0,0,0,null,0,0,null,{"$f":"0","v":0},0,null,null,null,null,null,null,0,null,0,null,null,null,null,0,0,null,0]
[11,"October","A0324878234P","Jastine Makemba Batogo","Resident","Primary Employee",50000,null,null,null,null,null,null,50000,null,null,0,null,50000,1080,null,null,2400,180,6879.35,"Benefit not given",null,2023,null,null,null,null,null,null,null,null,null,null,null,null,null,null,null,null,null,null,null,null,null,null,null,null,null,null,null,null,null,null,null,null,null,null,null,null,null,null,null,null,null,null,null,null,null,null,null,null,null,null,null,null,null,null,null,null,null,null,null,null,null,null,null,null,null,null,0,0,0,0,0,0,0,0,0,0,0,0,null,0,0,null,{"$f":"0","v":0},0,null,null,null,null,null,null,0,null,0,null,null,null,null,0,0,null,0]
[12,"October","A03476784359K","Janet Wairimu Wamatagi","Resident","Primary Employee",40000,null,null,null,null,null,null,40000,null,null,0,null,40000,1080,null,null,2400,150,3909.3500000000004,"Benefit not given",null,2023,null,null,null,null,null,null,null,null,null,null,null,null,null,null,null,null,null,null,null,null,null,null,null,null,null,null,null,null,null,null,null,null,null,null,null,null,null,null,null,null,null,null,null,null,null,null,null,null,null,null,null,null,null,null,null,null,null,null,null,null,null,null,null,null,null,null,0,0,0,0,0,0,0,0,0,0,0,0,null,0,0,null,{"$f":"0","v":0},0,null,null,null,null,null,null,0,null,0,null,null,null,null,0,0,null,0]
[1,"November","A34578678450P","Brian Kombe Gode","Resident","Primary Employee",60000,null,null,null,null,null,null,60000,null,null,0,null,60000,1080,null,null,2400,195,9864.3499999999985,"Benefit not given",null,2023,null,null,null,null,null,null,null,null,null,null,null,null,null,null,null,null,null,null,null,null,null,null,null,null,null,null,null,null,null,null,null,null,null,null,null,null,null,null,null,null,null,null,null,null,null,null,null,null,null,null,null,null,null,null,null,null,null,null,null,null,null,null,null,null,null,null,0,0,0,0,0,0,0,0,0,0,0,0,null,0,0,null,{"$f":"0","v":0},0,null,null,null,null,null,null,0,null,0,null,null,null,null,0,0,null,0]
[2,"November","A49898479409","Timothy Brian Odongo","Resident","Primary Employee",100000,20000,10000,null,5000,null,null,135000,null,null,0,null,135000,1080,null,null,2400,255,32304.649999999994,"Benefit not given",null,2023,null,null,null,null,null,null,null,null,null,null,null,null,null,null,null,null,null,null,null,null,null,null,null,null,null,null,null,null,null,null,null,null,null,null,null,null,null,null,null,null,null,null,null,null,null,null,null,null,null,null,null,null,null,null,null,null,null,null,null,null,null,null,null,null,null,null,{"$f":"BP128","v":0},{"$f":"BQ128","v":0},{"$f":"BR128","v":0},{"$f":"BS128","v":0},{"$f":"BT128","v":0},{"$f":"BU128","v":0},{"$f":"BV128","v":0},{"$f":"BW128","v":0},{"$f":"CN128","v":0},{"$f":"BX128","v":0},{"$f":"BY128","v":0},{"$f":"BZ128","v":0},null,{"$f":"CB128","v":0},{"$f":"CC128","v":0},null,{"$f":"0","v":0},{"$f":"CM128","v":0},null,null,null,null,null,null,{"$f":"CG128","v":0},null,{"$f":"CH128","v":0},null,null,null,null,{"$f":"CJ128","v":0},{"$f":"CK128","v":0},null,{"$f":"CL128","v":0}]
[3,"November","A4378678570K","Bshora Wayu Nzamo","Resident","Primary Employee",50000,null,null,null,null,null,null,50000,null,null,0,null,50000,1080,null,null,2400,180,6879.35,"Benefit not given",null,2023,null,null,null,null,null,null,null,null,null,null,null,null,null,null,null,null,null,null,null,null,null,null,null,null,null,null,null,null,null,null,null,null,null,null,null,null,null,null,null,null,null,null,null,null,null,null,null,null,null,null,null,null,null,null,null,null,null,null,null,null,null,null,null,null,null,null,0,0,0,0,0,0,0,0,0,0,0,0,null,0,0,null,{"$f":"0","v":0},0,null,null,null,null,null,null,0,null,0,null,null,null,null,0,0,null,0]
[4,"November","A646834690O","Wanyoni Agala Musando","Resident","Primary Employee",45000,null,null,null,null,null,null,45000,null,null,0,null,45000,1080,null,null,2400,165,5394.35,"Benefit not given",null,2023,null,null,null,null,null,null,null,null,null,null,null,null,null,null,null,null,null,null,null,null,null,null,null,null,null,null,null,null,null,null,null,null,null,null,null,null,null,null,null,null,null,null,null,null,null,null,null,null,null,null,null,null,null,null,null,null,null,null,null,null,null,null,null,null,null,null,0,0,0,0,0,0,0,0,0,0,0,0,null,0,0,null,{"$f":"0","v":0},0,null,null,null,null,null,null,0,null,0,null,null,null,null,0,0,null,0]
[5,"November","A745878980P","Benerd Kimani Njorioge","Resident","Primary Employee",45000,null,null,null,null,null,null,45000,null,null,0,null,45000,1080,null,null,2400,165,5394.35,"Benefit not given",null,2023,null,null,null,null,null,null,null,null,null,null,null,null,null,null,null,null,null,null,null,null,null,null,null,null,null,null,null,null,null,null,null,null,null,null,null,null,null,null,null,null,null,null,null,null,null,null,null,null,null,null,null,null,null,null,null,null,null,null,null,null,null,null,null,null,null,null,0,0,0,0,0,0,0,0,0,0,0,0,null,0,0,null,{"$f":"0","v":0},0,null,null,null,null,null,null,0,null,0,null,null,null,null,0,0,null,0]
[6,"November","A457899480p","Sam Jacob Mroki","Resident","Primary Employee",35000,null,null,null,null,null,null,35000,null,null,0,null,35000,1080,null,null,2400,142.5,2416.8500000000004,"Benefit not given",null,2023,null,null,null,null,null,null,null,null,null,null,null,null,null,null,null,null,null,null,null,null,null,null,null,null,null,null,null,null,null,null,null,null,null,null,null,null,null,null,null,null,null,null,null,null,null,null,null,null,null,null,null,null,null,null,null,null,null,null,null,null,null,null,null,null,null,null,0,0,0,0,0,0,0,0,0,0,0,0,null,0,0,null,{"$f":"0","v":0},0,null,null,null,null,null,null,0,null,0,null,null,null,null,0,0,null,0]
[7,"November","A5783458890P","Joy Mueni Mutinda","Resident","Primary Employee",40000,null,null,null,null,null,null,40000,null,null,0,null,40000,1080,null,null,2400,150,3909.3500000000004,"Benefit not given",null,2023,null,null,null,null,null,null,null,null,null,null,null,null,null,null,null,null,null,null,null,null,null,null,null,null,null,null,null,null,null,null,null,null,null,null,null,null,null,null,null,null,null,null,null,null,null,null,null,null,null,null,null,null,null,null,null,null,null,null,null,null,null,null,null,null,null,null,0,0,0,0,0,0,0,0,0,0,0,0,null,0,0,null,{"$f":"0","v":0},0,null,null,null,null,null,null,0,null,0,null,null,null,null,0,0,null,0]
[8,"November","A34778457890p","Kahindi Mwero Boga","Resident","Primary Employee",40000,null,null,null,null,null,null,40000,null,null,0,null,40000,1080,null,null,2400,150,3909.3500000000004,"Benefit not given",null,2023,null,null,null,null,null,null,null,null,null,null,null,null,null,null,null,null,null,null,null,null,null,null,null,null,null,null,null,null,null,null,null,null,null,null,null,null,null,null,null,null,null,null,null,null,null,null,null,null,null,null,null,null,null,null,null,null,null,null,null,null,null,null,null,null,null,null,0,0,0,0,0,0,0,0,0,0,0,0,null,0,0,null,{"$f":"0","v":0},0,null,null,null,null,null,null,0,null,0,null,null,null,null,0,0,null,0]
[9,"November","A034897489E","John Boscco Bosire","Resident","Primary Employee",50000,null,null,null,null,null,null,50000,null,null,0,null,50000,1080,null,null,2400,180,6879.35,"Benefit not given",null,2023,null,null,null,null,null,null,null,null,null,null,null,null,null,null,null,null,null,null,null,null,null,null,null,null,null,null,null,null,null,null,null,null,null,null,null,null,null,null,null,null,null,null,null,null,null,null,null,null,null,null,null,null,null,null,null,null,null,null,null,null,null,null,null,null,null,null,0,0,0,0,0,0,0,0,0,0,0,0,null,0,0,null,{"$f":"0","v":0},0,null,null,null,null,null,null,0,null,0,null,null,null,null,0,0,null,0]
[10,"November","A4782349790P","Hassan Abdulnasir Wario","Resident","Primary Employee",40000,null,null,null,null,null,null,40000,null,null,0,null,40000,1080,null,null,2400,150,3909.3500000000004,"Benefit not given",null,2023,null,null,null,null,null,null,null,null,null,null,null,null,null,null,null,null,null,null,null,null,null,null,null,null,null,null,null,null,null,null,null,null,null,null,null,null,null,null,null,null,null,null,null,null,null,null,null,null,null,null,null,null,null,null,null,null,null,null,null,null,null,null,null,null,null,null,0,0,0,0,0,0,0,0,0,0,0,0,null,0,0,null,{"$f":"0","v":0},0,null,null,null,null,null,null,0,null,0,null,null,null,null,0,0,null,0]
[11,"November","A0324878234P","Jastine Makemba Batogo","Resident","Primary Employee",50000,null,null,null,null,null,null,50000,null,null,0,null,50000,1080,null,null,2400,180,6879.35,"Benefit not given",null,2023,null,null,null,null,null,null,null,null,null,null,null,null,null,null,null,null,null,null,null,null,null,null,null,null,null,null,null,null,null,null,null,null,null,null,null,null,null,null,null,null,null,null,null,null,null,null,null,null,null,null,null,null,null,null,null,null,null,null,null,null,null,null,null,null,null,null,0,0,0,0,0,0,0,0,0,0,0,0,null,0,0,null,{"$f":"0","v":0},0,null,null,null,null,null,null,0,null,0,null,null,null,null,0,0,null,0]
[12,"November","A03476784359K","Janet Wairimu Wamatagi","Resident","Primary Employee",40000,null,null,null,null,null,null,40000,null,null,0,null,40000,1080,null,null,2400,150,3909.3500000000004,"Benefit not given",null,2023,null,null,null,null,null,null,null,null,null,null,null,null,null,null,null,null,null,null,null,null,null,null,null,null,null,null,null,null,null,null,null,null,null,null,null,null,null,null,null,null,null,null,null,null,null,null,null,null,null,null,null,null,null,null,null,null,null,null,null,null,null,null,null,null,null,null,0,0,0,0,0,0,0,0,0,0,0,0,null,0,0,null,{"$f":"0","v":0},0,null,null,null,null,null,null,0,null,0,null,null,null,null,0,0,null,0]
[1,"December","A34578678450P","Brian Kombe Gode","Resident","Primary Employee",60000,null,null,null,null,null,null,60000,null,null,0,null,60000,1080,null,null,2400,195,9864.3499999999985,"Benefit not given",null,2023,null,null,null,null,null,null,null,null,null,null,null,null,null,null,null,null,null,null,null,null,null,null,null,null,null,null,null,null,null,null,null,null,null,null,null,null,null,null,null,null,null,null,null,null,null,null,null,null,null,null,null,null,null,null,null,null,null,null,null,null,null,null,null,null,null,null,0,0,0,0,0,0,0,0,0,0,0,0,null,0,0,null,{"$f":"0","v":0},0,null,null,null,null,null,null,0,null,0,null,null,null,null,0,0,null,0]
[2,"December","A49898479409","Timothy Brian Odongo","Resident","Primary Employee",100000,20000,10000,null,5000,null,null,135000,null,null,0,null,135000,1080,null,null,2400,255,32304.649999999994,"Benefit not given",null,2023,null,null,null,null,null,null,null,null,null,null,null,null,null,null,null,null,null,null,null,null,null,null,null,null,null,null,null,null,null,null,null,null,null,null,null,null,null,null,null,null,null,null,null,null,null,null,null,null,null,null,null,null,null,null,null,null,null,null,null,null,null,null,null,null,null,null,0,0,0,0,0,0,0,0,0,0,0,0,null,0,0,null,{"$f":"0","v":0},0,null,null,null,null,null,null,0,null,0,null,null,null,null,0,0,null,0]
[3,"December","A4378678570K","Bshora Wayu Nzamo","Resident","Primary Employee",50000,null,null,null,null,null,null,50000,null,null,0,null,50000,1080,null,null,2400,180,6879.35,"Benefit not given",null,2023,null,null,null,null,null,null,null,null,null,null,null,null,null,null,null,null,null,null,null,null,null,null,null,null,null,null,null,null,null,null,null,null,null,null,null,null,null,null,null,null,null,null,null,null,null,null,null,null,null,null,null,null,null,null,null,null,null,null,null,null,null,null,null,null,null,null,0,0,0,0,0,0,0,0,0,0,0,0,null,0,0,null,{"$f":"0","v":0},0,null,null,null,null,null,null,0,null,0,null,null,null,null,0,0,null,0]
[4,"December","A646834690O","Wanyoni Agala Musando","Resident","Primary Employee",45000,null,null,null,null,null,null,45000,null,null,0,null,45000,1080,null,null,2400,165,5394.35,"Benefit not given",null,2023,null,null,null,null,null,null,null,null,null,null,null,null,null,null,null,null,null,null,null,null,null,null,null,null,null,null,null,null,null,null,null,null,null,null,null,null,null,null,null,null,null,null,null,null,null,null,null,null,null,null,null,null,null,null,null,null,null,null,null,null,null,null,null,null,null,null,0,0,0,0,0,0,0,0,0,0,0,0,null,0,0,null,{"$f":"0","v":0},0,null,null,null,null,null,null,0,null,0,null,null,null,null,0,0,null,0]
[5,"December","A745878980P","Benerd Kimani Njorioge","Resident","Primary Employee",45000,null,null,null,null,null,null,45000,null,null,0,null,45000,1080,null,null,2400,165,5394.35,"Benefit not given",null,2023,null,null,null,null,null,null,null,null,null,null,null,null,null,null,null,null,null,null,null,null,null,null,null,null,null,null,null,null,null,null,null,null,null,null,null,null,null,null,null,null,null,null,null,null,null,null,null,null,null,null,null,null,null,null,null,null,null,null,null,null,null,null,null,null,null,null,0,0,0,0,0,0,0,0,0,0,0,0,null,0,0,null,{"$f":"0","v":0},0,null,null,null,null,null,null,0,null,0,null,null,null,null,0,0,null,0]
[6,"December","A457899480p","Sam Jacob Mroki","Resident","Primary Employee",35000,null,null,null,null,null,null,35000,null,null,0,null,35000,1080,null,null,2400,142.5,2416.8500000000004,"Benefit not given",null,2023,null,null,null,null,null,null,null,null,null,null,null,null,null,null,null,null,null,null,null,null,null,null,null,null,null,null,null,null,null,null,null,null,null,null,null,null,null,null,null,null,null,null,null,null,null,null,null,null,null,null,null,null,null,null,null,null,null,null,null,null,null,null,null,null,null,null,0,0,0,0,0,0,0,0,0,0,0,0,null,0,0,null,{"$f":"0","v":0},0,null,null,null,null,null,null,0,null,0,null,null,null,null,0,0,null,0]
[7,"December","A5783458890P","Joy Mueni Mutinda","Resident","Primary Employee",40000,null,null,null,null,null,null,40000,null,null,0,null,40000,1080,null,null,2400,150,3909.3500000000004,"Benefit not given",null,2023,null,null,null,null,null,null,null,null,null,null,null,null,null,null,null,null,null,null,null,null,null,null,null,null,null,null,null,null,null,null,null,null,null,null,null,null,null,null,null,null,null,null,null,null,null,null,null,null,null,null,null,null,null,null,null,null,null,null,null,null,null,null,null,null,null,null,0,0,0,0,0,0,0,0,0,0,0,0,null,0,0,null,{"$f":"0","v":0},0,null,null,null,null,null,null,0,null,0,null,null,null,null,0,0,null,0]
[8,"December","A34778457890p","Kahindi Mwero Boga","Resident","Primary Employee",40000,null,null,null,null,null,null,40000,null,null,0,null,40000,1080,null,null,2400,150,3909.3500000000004,"Benefit not given",null,2023,null,null,null,null,null,null,null,null,null,null,null,null,null,null,null,null,null,null,null,null,null,null,null,null,null,null,null,null,null,null,null,null,null,null,null,null,null,null,null,null,null,null,null,null,null,null,null,null,null,null,null,null,null,null,null,null,null,null,null,null,null,null,null,null,null,null,0,0,0,0,0,0,0,0,0,0,0,0,null,0,0,null,{"$f":"0","v":0},0,null,null,null,null,null,null,0,null,0,null,null,null,null,0,0,null,0]
[9,"December","A034897489E","John Boscco Bosire","Resident","Primary Employee",50000,null,null,null,null,null,null,50000,null,null,0,null,50000,1080,null,null,2400,180,6879.35,"Benefit not given",null,2023,null,null,null,null,null,null,null,null,null,null,null,null,null,null,null,null,null,null,null,null,null,null,null,null,null,null,null,null,null,null,null,null,null,null,null,null,null,null,null,null,null,null,null,null,null,null,null,null,null,null,null,null,null,null,null,null,null,null,null,null,null,null,null,null,null,null,0,0,0,0,0,0,0,0,0,0,0,0,null,0,0,null,{"$f":"0","v":0},0,null,null,null,null,null,null,0,null,0,null,null,null,null,0,0,null,0]
[10,"December","A4782349790P","Hassan Abdulnasir Wario","Resident","Primary Employee",40000,null,null,null,null,null,null,40000,null,null,0,null,40000,1080,null,null,2400,150,3909.3500000000004,"Benefit not given",null,2023,null,null,null,null,null,null,null,null,null,null,null,null,null,null,null,null,null,null,null,null,null,null,null,null,null,null,null,null,null,null,null,null,null,null,null,null,null,null,null,null,null,null,null,null,null,null,null,null,null,null,null,null,null,null,null,null,null,null,null,null,null,null,null,null,null,null,0,0,0,0,0,0,0,0,0,0,0,0,null,0,0,null,{"$f":"0","v":0},0,null,null,null,null,null,null,0,null,0,null,null,null,null,0,0,null,0]
[11,"December","A0324878234P","Jastine Makemba Batogo","Resident","Primary Employee",50000,null,null,null,null,null,null,50000,null,null,0,null,50000,1080,null,null,2400,180,6879.35,"Benefit not given",null,2023,null,null,null,null,null,null,null,null,null,null,null,null,null,null,null,null,null,null,null,null,null,null,null,null,null,null,null,null,null,null,null,null,null,null,null,null,null,null,null,null,null,null,null,null,null,null,null,null,null,null,null,null,null,null,null,null,null,null,null,null,null,null,null,null,null,null,0,0,0,0,0,0,0,0,0,0,0,0,null,0,0,null,{"$f":"0","v":0},0,null,null,null,null,null,null,0,null,0,null,null,null,null,0,0,null,0]
[12,"December","A03476784359K","Janet Wairimu Wamatagi","Resident","Primary Employee",40000,null,null,null,null,null,null,40000,null,null,0,null,40000,1080,null,null,2400,150,3909.3500000000004,"Benefit not given",null,2023,null,null,null,null,null,null,null,null,null,null,null,null,null,null,null,null,null,null,null,null,null,null,null,null,null,null,null,null,null,null,null,null,null,null,null,null,null,null,null,null,null,null,null,null,null,null,null,null,null,null,null,null,null,null,null,null,null,null,null,null,null,null,null,null,null,null,0,0,0,0,0,0,0,0,0,0,0,0,null,0,0,null,{"$f":"0","v":0},0,null,null,null,null,null,null,0,null,0,null,null,null,null,0,0,null,0]
[null,null,null,null,null,null,null,null,null,null,null,null,null,null,null,null,null,null,null,null,null,null,null,null,null,null,null,null,null,null,null,null,null,null,null,null,null,null,null,null,null,null,null,null,null,null,null,null,null,null,null,null,null,null,null,null,null,null,null,null,null,null,null,null,null,null,null,null,null,null,null,null,null,null,null,null,null,null,null,null,null,null,null,null,null,null,null,null,null,null,null,null,null,null,0,0,0,0,0,0,0,0,0,0,0,0,null,0,0,null,{"$f":"0","v":0},0,null,null,null,null,null,null,0,null,0,null,null,null,null,0,0,null,0]
[null,null,null,null,null,null,null,null,null,null,null,null,null,null,null,null,null,null,null,null,null,null,null,null,null,null,null,null,null,null,null,null,null,null,null,null,null,null,null,null,null,null,null,null,null,null,null,null,null,null,null,null,null,null,null,null,null,null,null,null,null,null,null,null,null,null,null,null,null,null,null,null,null,null,null,null,null,null,null,null,null,null,null,null,null,null,null,null,null,null,null,null,null,null,0,0,0,0,0,0,0,0,0,0,0,0,null,0,0,null,{"$f":"0","v":0},0,null,null,null,null,null,null,0,null,0,null,null,null,null,0,0,null,0]
[null,null,null,null,null,null,null,null,null,null,null,null,null,null,null,null,null,null,null,null,null,null,null,null,null,null,null,null,null,null,null,null,null,null,null,null,null,null,null,null,null,null,null,null,null,null,null,null,null,null,null,null,null,null,null,null,null,null,null,null,null,null,null,null,null,null,null,null,null,null,null,null,null,null,null,null,null,null,null,null,null,null,null,null,null,null,null,null,null,null,null,null,null,null,0,0,0,0,0,0,0,0,0,0,0,0,null,0,0,null,{"$f":"0","v":0},0,null,null,null,null,null,null,0,null,0,null,null,null,null,0,0,null,0]
[null,null,null,null,null,null,null,null,null,null,null,null,null,null,null,null,null,null,null,null,null,null,null,null,null,null,null,null,null,null,null,null,null,null,null,null,null,null,null,null,null,null,null,null,null,null,null,null,null,null,null,null,null,null,null,null,null,null,null,null,null,null,null,null,null,null,null,null,null,null,null,null,null,null,null,null,null,null,null,null,null,null,null,null,null,null,null,null,null,null,null,null,null,null,0,0,0,0,0,0,0,0,0,0,0,0,null,0,0,null,{"$f":"0","v":0},0,null,null,null,null,null,null,0,null,0,null,null,null,null,0,0,null,0]
[null,null,null,null,null,null,null,null,null,null,null,null,null,null,null,null,null,null,null,null,null,null,null,null,null,null,null,null,null,null,null,null,null,null,null,null,null,null,null,null,null,null,null,null,null,null,null,null,null,null,null,null,null,null,null,null,null,null,null,null,null,null,null,null,null,null,null,null,null,null,null,null,null,null,null,null,null,null,null,null,null,null,null,null,null,null,null,null,null,null,null,null,null,null,0,0,0,0,0,0,0,0,0,0,0,0,null,0,0,null,{"$f":"0","v":0},0,null,null,null,null,null,null,0,null,0,null,null,null,null,0,0,null,0]
[null,null,null,null,null,null,null,null,null,null,null,null,null,null,null,null,null,null,null,null,null,null,null,null,null,null,null,null,null,null,null,null,null,null,null,null,null,null,null,null,null,null,null,null,null,null,null,null,null,null,null,null,null,null,null,null,null,null,null,null,null,null,null,null,null,null,null,null,null,null,null,null,null,null,null,null,null,null,null,null,null,null,null,null,null,null,null,null,null,null,null,null,null,null,0,0,0,0,0,0,0,0,0,0,0,0,null,0,0,null,{"$f":"0","v":0},0,null,null,null,null,null,null,0,null,0,null,null,null,null,0,0,null,0]
[null,null,null,null,null,null,null,null,null,null,null,null,null,null,null,null,null,null,null,null,null,null,null,null,null,null,null,null,null,null,null,null,null,null,null,null,null,null,null,null,null,null,null,null,null,null,null,null,null,null,null,null,null,null,null,null,null,null,null,null,null,null,null,null,null,null,null,null,null,null,null,null,null,null,null,null,null,null,null,null,null,null,null,null,null,null,null,null,null,null,null,null,null,null,0,0,0,0,0,0,0,0,0,0,0,0,null,0,0,null,{"$f":"0","v":0},0,null,null,null,null,null,null,0,null,0,null,null,null,null,0,0,null,0]
[null,null,null,null,null,null,null,null,null,null,null,null,null,null,null,null,null,null,null,null,null,null,null,null,null,null,null,null,null,null,null,null,null,null,null,null,null,null,null,null,null,null,null,null,null,null,null,null,null,null,null,null,null,null,null,null,null,null,null,null,null,null,null,null,null,null,null,null,null,null,null,null,null,null,null,null,null,null,null,null,null,null,null,null,null,null,null,null,null,null,null,null,null,null,0,0,0,0,0,0,0,0,0,0,0,0,null,0,0,null,{"$f":"0","v":0},0,null,null,null,null,null,null,0,null,0,null,null,null,null,0,0,null,0]
[null,null,null,null,null,null,null,null,null,null,null,null,null,null,null,null,null,null,null,null,null,null,null,null,null,null,null,null,null,null,null,null,null,null,null,null,null,null,null,null,null,null,null,null,null,null,null,null,null,null,null,null,null,null,null,null,null,null,null,null,null,null,null,null,null,null,null,null,null,null,null,null,null,null,null,null,null,null,null,null,null,null,null,null,null,null,null,null,null,null,null,null,null,null,0,0,0,0,0,0,0,0,0,0,0,0,null,0,0,null,{"$f":"0","v":0},0,null,null,null,null,null,null,0,null,0,null,null,null,null,0,0,null,0]
[null,null,null,null,null,null,null,null,null,null,null,null,null,null,null,null,null,null,null,null,null,null,null,null,null,null,null,null,null,null,null,null,null,null,null,null,null,null,null,null,null,null,null,null,null,null,null,null,null,null,null,null,null,null,null,null,null,null,null,null,null,null,null,null,null,null,null,null,null,null,null,null,null,null,null,null,null,null,null,null,null,null,null,null,null,null,null,null,null,null,null,null,null,null,0,0,0,0,0,0,0,0,0,0,0,0,null,0,0,null,{"$f":"0","v":0},0,null,null,null,null,null,null,0,null,0,null,null,null,null,0,0,null,0]
[null,null,null,null,null,null,null,null,null,null,null,null,null,null,null,null,null,null,null,null,null,null,null,null,null,null,null,null,null,null,null,null,null,null,null,null,null,null,null,null,null,null,null,null,null,null,null,null,null,null,null,null,null,null,null,null,null,null,null,null,null,null,null,null,null,null,null,null,null,null,null,null,null,null,null,null,null,null,null,null,null,null,null,null,null,null,null,null,null,null,null,null,null,null,0,0,0,0,0,0,0,0,0,0,0,0,null,0,0,null,{"$f":"0","v":0},0,null,null,null,null,null,null,0,null,0,null,null,null,null,0,0,null,0]
[null,null,null,null,null,null,null,null,null,null,null,null,null,null,null,null,null,null,null,null,null,null,null,null,null,null,null,null,null,null,null,null,null,null,null,null,null,null,null,null,null,null,null,null,null,null,null,null,null,null,null,null,null,null,null,null,null,null,null,null,null,null,null,null,null,null,null,null,null,null,null,null,null,null,null,null,null,null,null,null,null,null,null,null,null,null,null,null,null,null,null,null,null,null,0,0,0,0,0,0,0,0,0,0,0,0,null,0,0,null,{"$f":"0","v":0},0,null,null,null,null,null,null,0,null,0,null,null,null,null,0,0,null,0]
[null,null,null,null,null,null,null,null,null,null,null,null,null,null,null,null,null,null,null,null,null,null,null,null,null,null,null,null,null,null,null,null,null,null,null,null,null,null,null,null,null,null,null,null,null,null,null,null,null,null,null,null,null,null,null,null,null,null,null,null,null,null,null,null,null,null,null,null,null,null,null,null,null,null,null,null,null,null,null,null,null,null,null,null,null,null,null,null,null,null,null,null,null,null,0,0,0,0,0,0,0,0,0,0,0,0,null,0,0,null,{"$f":"0","v":0},0,null,null,null,null,null,null,0,null,0,null,null,null,null,0,0,null,0]
[null,null,null,null,null,null,null,null,null,null,null,null,null,null,null,null,null,null,null,null,null,null,null,null,null,null,null,null,null,null,null,null,null,null,null,null,null,null,null,null,null,null,null,null,null,null,null,null,null,null,null,null,null,null,null,null,null,null,null,null,null,null,null,null,null,null,null,null,null,null,null,null,null,null,null,null,null,null,null,null,null,null,null,null,null,null,null,null,null,null,null,null,null,null,0,0,0,0,0,0,0,0,0,0,0,0,null,0,0,null,{"$f":"0","v":0},0,null,null,null,null,null,null,0,null,0,null,null,null,null,0,0,null,0]
[null,null,null,null,null,null,null,null,null,null,null,null,null,null,null,null,null,null,null,null,null,null,null,null,null,null,null,null,null,null,null,null,null,null,null,null,null,null,null,null,null,null,null,null,null,null,null,null,null,null,null,null,null,null,null,null,null,null,null,null,null,null,null,null,null,null,null,null,null,null,null,null,null,null,null,null,null,null,null,null,null,null,null,null,null,null,null,null,null,null,null,null,null,null,0,0,0,0,0,0,0,0,0,0,0,0,null,0,0,null,{"$f":"0","v":0},0,null,null,null,null,null,null,0,null,0,null,null,null,null,0,0,null,0]
[null,null,null,null,null,null,null,null,null,null,null,null,null,null,null,null,null,null,null,null,null,null,null,null,null,null,null,null,null,null,null,null,null,null,null,null,null,null,null,null,null,null,null,null,null,null,null,null,null,null,null,null,null,null,null,null,null,null,null,null,null,null,null,null,null,null,null,null,null,null,null,null,null,null,null,null,null,null,null,null,null,null,null,null,null,null,null,null,null,null,null,null,null,null,0,0,0,0,0,0,0,0,0,0,0,0,null,0,0,null,{"$f":"0","v":0},0,null,null,null,null,null,null,0,null,0,null,null,null,null,0,0,null,0]
[null,null,null,null,null,null,null,null,null,null,null,null,null,null,null,null,null,null,null,null,null,null,null,null,null,null,null,null,null,null,null,null,null,null,null,null,null,null,null,null,null,null,null,null,null,null,null,null,null,null,null,null,null,null,null,null,null,null,null,null,null,null,null,null,null,null,null,null,null,null,null,null,null,null,null,null,null,null,null,null,null,null,null,null,null,null,null,null,null,null,null,null,null,null,0,0,0,0,0,0,0,0,0,0,0,0,null,0,0,null,{"$f":"0","v":0},0,null,null,null,null,null,null,0,null,0,null,null,null,null,0,0,null,0]
[null,null,null,null,null,null,null,null,null,null,null,null,null,null,null,null,null,null,null,null,null,null,null,null,null,null,null,null,null,null,null,null,null,null,null,null,null,null,null,null,null,null,null,null,null,null,null,null,null,null,null,null,null,null,null,null,null,null,null,null,null,null,null,null,null,null,null,null,null,null,null,null,null,null,null,null,null,null,null,null,null,null,null,null,null,null,null,null,null,null,null,null,null,null,0,0,0,0,0,0,0,0,0,0,0,0,null,0,0,null,{"$f":"0","v":0},0,null,null,null,null,null,null,0,null,0,null,null,null,null,0,0,null,0]
[null,null,null,null,null,null,null,null,null,null,null,null,null,null,null,null,null,null,null,null,null,null,null,null,null,null,null,null,null,null,null,null,null,null,null,null,null,null,null,null,null,null,null,null,null,null,null,null,null,null,null,null,null,null,null,null,null,null,null,null,null,null,null,null,null,null,null,null,null,null,null,null,null,null,null,null,null,null,null,null,null,null,null,null,null,null,null,null,null,null,null,null,null,null,0,0,0,0,0,0,0,0,0,0,0,0,null,0,0,null,{"$f":"0","v":0},0,null,null,null,null,null,null,0,null,0,null,null,null,null,0,0,null,0]
[null,null,null,null,null,null,null,null,null,null,null,null,null,null,null,null,null,null,null,null,null,null,null,null,null,null,null,null,null,null,null,null,null,null,null,null,null,null,null,null,null,null,null,null,null,null,null,null,null,null,null,null,null,null,null,null,null,null,null,null,null,null,null,null,null,null,null,null,null,null,null,null,null,null,null,null,null,null,null,null,null,null,null,null,null,null,null,null,null,null,null,null,null,null,0,0,0,0,0,0,0,0,0,0,0,0,null,0,0,null,{"$f":"0","v":0},0,null,null,null,null,null,null,0,null,0,null,null,null,null,0,0,null,0]
[null,null,null,null,null,null,null,null,null,null,null,null,null,null,null,null,null,null,null,null,null,null,null,null,null,null,null,null,null,null,null,null,null,null,null,null,null,null,null,null,null,null,null,null,null,null,null,null,null,null,null,null,null,null,null,null,null,null,null,null,null,null,null,null,null,null,null,null,null,null,null,null,null,null,null,null,null,null,null,null,null,null,null,null,null,null,null,null,null,null,null,null,null,null,0,0,0,0,0,0,0,0,0,0,0,0,null,0,0,null,{"$f":"0","v":0},0,null,null,null,null,null,null,0,null,0,null,null,null,null,0,0,null,0]
[null,null,null,null,null,null,null,null,null,null,null,null,null,null,null,null,null,null,null,null,null,null,null,null,null,null,null,null,null,null,null,null,null,null,null,null,null,null,null,null,null,null,null,null,null,null,null,null,null,null,null,null,null,null,null,null,null,null,null,null,null,null,null,null,null,null,null,null,null,null,null,null,null,null,null,null,null,null,null,null,null,null,null,null,null,null,null,null,null,null,null,null,null,null,0,0,0,0,0,0,0,0,0,0,0,0,null,0,0,null,{"$f":"0","v":0},0,null,null,null,null,null,null,0,null,0,null,null,null,null,0,0,null,0]
[null,null,null,null,null,null,null,null,null,null,null,null,null,null,null,null,null,null,null,null,null,null,null,null,null,null,null,null,null,null,null,null,null,null,null,null,null,null,null,null,null,null,null,null,null,null,null,null,null,null,null,null,null,null,null,null,null,null,null,null,null,null,null,null,null,null,null,null,null,null,null,null,null,null,null,null,null,null,null,null,null,null,null,null,null,null,null,null,null,null,null,null,null,null,0,0,0,0,0,0,0,0,0,0,0,0,null,0,0,null,{"$f":"0","v":0},0,null,null,null,null,null,null,0,null,0,null,null,null,null,0,0,null,0]
[null,null,null,null,null,null,null,null,null,null,null,null,null,null,null,null,null,null,null,null,null,null,null,null,null,null,null,null,null,null,null,null,null,null,null,null,null,null,null,null,null,null,null,null,null,null,null,null,null,null,null,null,null,null,null,null,null,null,null,null,null,null,null,null,null,null,null,null,null,null,null,null,null,null,null,null,null,null,null,null,null,null,null,null,null,null,null,null,null,null,null,null,null,null,0,0,0,0,0,0,0,0,0,0,0,0,null,0,0,null,{"$f":"0","v":0},0,null,null,null,null,null,null,0,null,0,null,null,null,null,0,0,null,0]
[null,null,null,null,null,null,null,null,null,null,null,null,null,null,null,null,null,null,null,null,null,null,null,null,null,null,null,null,null,null,null,null,null,null,null,null,null,null,null,null,null,null,null,null,null,null,null,null,null,null,null,null,null,null,null,null,null,null,null,null,null,null,null,null,null,null,null,null,null,null,null,null,null,null,null,null,null,null,null,null,null,null,null,null,null,null,null,null,null,null,null,null,null,null,0,0,0,0,0,0,0,0,0,0,0,0,null,0,0,null,{"$f":"0","v":0},0,null,null,null,null,null,null,0,null,0,null,null,null,null,0,0,null,0]
[null,null,null,null,null,null,null,null,null,null,null,null,null,null,null,null,null,null,null,null,null,null,null,null,null,null,null,null,null,null,null,null,null,null,null,null,null,null,null,null,null,null,null,null,null,null,null,null,null,null,null,null,null,null,null,null,null,null,null,null,null,null,null,null,null,null,null,null,null,null,null,null,null,null,null,null,null,null,null,null,null,null,null,null,null,null,null,null,null,null,null,null,null,null,0,0,0,0,0,0,0,0,0,0,0,0,null,0,0,null,{"$f":"0","v":0},0,null,null,null,null,null,null,0,null,0,null,null,null,null,0,0,null,0]
[null,null,null,null,null,null,null,null,null,null,null,null,null,null,null,null,null,null,null,null,null,null,null,null,null,null,null,null,null,null,null,null,null,null,null,null,null,null,null,null,null,null,null,null,null,null,null,null,null,null,null,null,null,null,null,null,null,null,null,null,null,null,null,null,null,null,null,null,null,null,null,null,null,null,null,null,null,null,null,null,null,null,null,null,null,null,null,null,null,null,null,null,null,null,0,0,0,0,0,0,0,0,0,0,0,0,null,0,0,null,{"$f":"0","v":0},0,null,null,null,null,null,null,0,null,0,null,null,null,null,0,0,null,0]
[null,null,null,null,null,null,null,null,null,null,null,null,null,null,null,null,null,null,null,null,null,null,null,null,null,null,null,null,null,null,null,null,null,null,null,null,null,null,null,null,null,null,null,null,null,null,null,null,null,null,null,null,null,null,null,null,null,null,null,null,null,null,null,null,null,null,null,null,null,null,null,null,null,null,null,null,null,null,null,null,null,null,null,null,null,null,null,null,null,null,null,null,null,null,0,0,0,0,0,0,0,0,0,0,0,0,null,0,0,null,{"$f":"0","v":0},0,null,null,null,null,null,null,0,null,0,null,null,null,null,0,0,null,0]
[null,null,null,null,null,null,null,null,null,null,null,null,null,null,null,null,null,null,null,null,null,null,null,null,null,null,null,null,null,null,null,null,null,null,null,null,null,null,null,null,null,null,null,null,null,null,null,null,null,null,null,null,null,null,null,null,null,null,null,null,null,null,null,null,null,null,null,null,null,null,null,null,null,null,null,null,null,null,null,null,null,null,null,null,null,null,null,null,null,null,null,null,null,null,0,0,0,0,0,0,0,0,0,0,0,0,null,0,0,null,{"$f":"0","v":0},0,null,null,null,null,null,null,0,null,0,null,null,null,null,0,0,null,0]
[null,null,null,null,null,null,null,null,null,null,null,null,null,null,null,null,null,null,null,null,null,null,null,null,null,null,null,null,null,null,null,null,null,null,null,null,null,null,null,null,null,null,null,null,null,null,null,null,null,null,null,null,null,null,null,null,null,null,null,null,null,null,null,null,null,null,null,null,null,null,null,null,null,null,null,null,null,null,null,null,null,null,null,null,null,null,null,null,null,null,null,null,null,null,0,0,0,0,0,0,0,0,0,0,0,0,null,0,0,null,{"$f":"0","v":0},0,null,null,null,null,null,null,0,null,0,null,null,null,null,0,0,null,0]
[null,null,null,null,null,null,null,null,null,null,null,null,null,null,null,null,null,null,null,null,null,null,null,null,null,null,null,null,null,null,null,null,null,null,null,null,null,null,null,null,null,null,null,null,null,null,null,null,null,null,null,null,null,null,null,null,null,null,null,null,null,null,null,null,null,null,null,null,null,null,null,null,null,null,null,null,null,null,null,null,null,null,null,null,null,null,null,null,null,null,null,null,null,null,0,0,0,0,0,0,0,0,0,0,0,0,null,0,0,null,{"$f":"0","v":0},0,null,null,null,null,null,null,0,null,0,null,null,null,null,0,0,null,0]
[null,null,null,null,null,null,null,null,null,null,null,null,null,null,null,null,null,null,null,null,null,null,null,null,null,null,null,null,null,null,null,null,null,null,null,null,null,null,null,null,null,null,null,null,null,null,null,null,null,null,null,null,null,null,null,null,null,null,null,null,null,null,null,null,null,null,null,null,null,null,null,null,null,null,null,null,null,null,null,null,null,null,null,null,null,null,null,null,null,null,null,null,null,null,0,0,0,0,0,0,0,0,0,0,0,0,null,0,0,null,{"$f":"0","v":0},0,null,null,null,null,null,null,0,null,0,null,null,null,null,0,0,null,0]
[null,null,null,null,null,null,null,null,null,null,null,null,null,null,null,null,null,null,null,null,null,null,null,null,null,null,null,null,null,null,null,null,null,null,null,null,null,null,null,null,null,null,null,null,null,null,null,null,null,null,null,null,null,null,null,null,null,null,null,null,null,null,null,null,null,null,null,null,null,null,null,null,null,null,null,null,null,null,null,null,null,null,null,null,null,null,null,null,null,null,null,null,null,null,0,0,0,0,0,0,0,0,0,0,0,0,null,0,0,null,{"$f":"0","v":0},0,null,null,null,null,null,null,0,null,0,null,null,null,null,0,0,null,0]
[null,null,null,null,null,null,null,null,null,null,null,null,null,null,null,null,null,null,null,null,null,null,null,null,null,null,null,null,null,null,null,null,null,null,null,null,null,null,null,null,null,null,null,null,null,null,null,null,null,null,null,null,null,null,null,null,null,null,null,null,null,null,null,null,null,null,null,null,null,null,null,null,null,null,null,null,null,null,null,null,null,null,null,null,null,null,null,null,null,null,null,null,null,null,0,0,0,0,0,0,0,0,0,0,0,0,null,0,0,null,{"$f":"0","v":0},0,null,null,null,null,null,null,0,null,0,null,null,null,null,0,0,null,0]
[null,null,null,null,null,null,null,null,null,null,null,null,null,null,null,null,null,null,null,null,null,null,null,null,null,null,null,null,null,null,null,null,null,null,null,null,null,null,null,null,null,null,null,null,null,null,null,null,null,null,null,null,null,null,null,null,null,null,null,null,null,null,null,null,null,null,null,null,null,null,null,null,null,null,null,null,null,null,null,null,null,null,null,null,null,null,null,null,null,null,null,null,null,null,0,0,0,0,0,0,0,0,0,0,0,0,null,0,0,null,{"$f":"0","v":0},0,null,null,null,null,null,null,0,null,0,null,null,null,null,0,0,null,0]
[null,null,null,null,null,null,null,null,null,null,null,null,null,null,null,null,null,null,null,null,null,null,null,null,null,null,null,null,null,null,null,null,null,null,null,null,null,null,null,null,null,null,null,null,null,null,null,null,null,null,null,null,null,null,null,null,null,null,null,null,null,null,null,null,null,null,null,null,null,null,null,null,null,null,null,null,null,null,null,null,null,null,null,null,null,null,null,null,null,null,null,null,null,null,0,0,0,0,0,0,0,0,0,0,0,0,null,0,0,null,{"$f":"0","v":0},0,null,null,null,null,null,null,0,null,0,null,null,null,null,0,0,null,0]
[null,null,null,null,null,null,null,null,null,null,null,null,null,null,null,null,null,null,null,null,null,null,null,null,null,null,null,null,null,null,null,null,null,null,null,null,null,null,null,null,null,null,null,null,null,null,null,null,null,null,null,null,null,null,null,null,null,null,null,null,null,null,null,null,null,null,null,null,null,null,null,null,null,null,null,null,null,null,null,null,null,null,null,null,null,null,null,null,null,null,null,null,null,null,0,0,0,0,0,0,0,0,0,0,0,0,null,0,0,null,{"$f":"0","v":0},0,null,null,null,null,null,null,0,null,0,null,null,null,null,0,0,null,0]
[null,null,null,null,null,null,null,null,null,null,null,null,null,null,null,null,null,null,null,null,null,null,null,null,null,null,null,null,null,null,null,null,null,null,null,null,null,null,null,null,null,null,null,null,null,null,null,null,null,null,null,null,null,null,null,null,null,null,null,null,null,null,null,null,null,null,null,null,null,null,null,null,null,null,null,null,null,null,null,null,null,null,null,null,null,null,null,null,null,null,null,null,null,null,0,0,0,0,0,0,0,0,0,0,0,0,null,0,0,null,{"$f":"0","v":0},0,null,null,null,null,null,null,0,null,0,null,null,null,null,0,0,null,0]
[null,null,null,null,null,null,null,null,null,null,null,null,null,null,null,null,null,null,null,null,null,null,null,null,null,null,null,null,null,null,null,null,null,null,null,null,null,null,null,null,null,null,null,null,null,null,null,null,null,null,null,null,null,null,null,null,null,null,null,null,null,null,null,null,null,null,null,null,null,null,null,null,null,null,null,null,null,null,null,null,null,null,null,null,null,null,null,null,null,null,null,null,null,null,0,0,0,0,0,0,0,0,0,0,0,0,null,0,0,null,{"$f":"0","v":0},0,null,null,null,null,null,null,0,null,0,null,null,null,null,0,0,null,0]
[null,null,null,null,null,null,null,null,null,null,null,null,null,null,null,null,null,null,null,null,null,null,null,null,null,null,null,null,null,null,null,null,null,null,null,null,null,null,null,null,null,null,null,null,null,null,null,null,null,null,null,null,null,null,null,null,null,null,null,null,null,null,null,null,null,null,null,null,null,null,null,null,null,null,null,null,null,null,null,null,null,null,null,null,null,null,null,null,null,null,null,null,null,null,0,0,0,0,0,0,0,0,0,0,0,0,null,0,0,null,{"$f":"0","v":0},0,null,null,null,null,null,null,0,null,0,null,null,null,null,0,0,null,0]
[null,null,null,null,null,null,null,null,null,null,null,null,null,null,null,null,null,null,null,null,null,null,null,null,null,null,null,null,null,null,null,null,null,null,null,null,null,null,null,null,null,null,null,null,null,null,null,null,null,null,null,null,null,null,null,null,null,null,null,null,null,null,null,null,null,null,null,null,null,null,null,null,null,null,null,null,null,null,null,null,null,null,null,null,null,null,null,null,null,null,null,null,null,null,0,0,0,0,0,0,0,0,0,0,0,0,null,0,0,null,{"$f":"0","v":0},0,null,null,null,null,null,null,0,null,0,null,null,null,null,0,0,null,0]
[null,null,null,null,null,null,null,null,null,null,null,null,null,null,null,null,null,null,null,null,null,null,null,null,null,null,null,null,null,null,null,null,null,null,null,null,null,null,null,null,null,null,null,null,null,null,null,null,null,null,null,null,null,null,null,null,null,null,null,null,null,null,null,null,null,null,null,null,null,null,null,null,null,null,null,null,null,null,null,null,null,null,null,null,null,null,null,null,null,null,null,null,null,null,{"$f":"BP192","v":0},{"$f":"BQ192","v":0},{"$f":"BR192","v":0},{"$f":"BS192","v":0},{"$f":"BT192","v":0},{"$f":"BU192","v":0},{"$f":"BV192","v":0},{"$f":"BW192","v":0},{"$f":"CN192","v":0},{"$f":"BX192","v":0},{"$f":"BY192","v":0},{"$f":"BZ192","v":0},null,{"$f":"CB192","v":0},{"$f":"CC192","v":0},null,{"$f":"0","v":0},{"$f":"CM192","v":0},null,null,null,null,null,null,{"$f":"CG192","v":0},null,{"$f":"CH192","v":0},null,null,null,null,{"$f":"CJ192","v":0},{"$f":"CK192","v":0},null,{"$f":"CL192","v":0}]
[null,null,null,null,null,null,null,null,null,null,null,null,null,null,null,null,null,null,null,null,null,null,null,null,null,null,null,null,null,null,null,null,null,null,null,null,null,null,null,null,null,null,null,null,null,null,null,null,null,null,null,null,null,null,null,null,null,null,null,null,null,null,null,null,null,null,null,null,null,null,null,null,null,null,null,null,null,null,null,null,null,null,null,null,null,null,null,null,null,null,null,null,null,null,0,0,0,0,0,0,0,0,0,0,0,0,null,0,0,null,{"$f":"0","v":0},0,null,null,null,null,null,null,0,null,0,null,null,null,null,0,0,null,0]
[null,null,null,null,null,null,null,null,null,null,null,null,null,null,null,null,null,null,null,null,null,null,null,null,null,null,null,null,null,null,null,null,null,null,null,null,null,null,null,null,null,null,null,null,null,null,null,null,null,null,null,null,null,null,null,null,null,null,null,null,null,null,null,null,null,null,null,null,null,null,null,null,null,null,null,null,null,null,null,null,null,null,null,null,null,null,null,null,null,null,null,null,null,null,0,0,0,0,0,0,0,0,0,0,0,0,null,0,0,null,{"$f":"0","v":0},0,null,null,null,null,null,null,0,null,0,null,null,null,null,0,0,null,0]
[null,null,null,null,null,null,null,null,null,null,null,null,null,null,null,null,null,null,null,null,null,null,null,null,null,null,null,null,null,null,null,null,null,null,null,null,null,null,null,null,null,null,null,null,null,null,null,null,null,null,null,null,null,null,null,null,null,null,null,null,null,null,null,null,null,null,null,null,null,null,null,null,null,null,null,null,null,null,null,null,null,null,null,null,null,null,null,null,null,null,null,null,null,null,0,0,0,0,0,0,0,0,0,0,0,0,null,0,0,null,{"$f":"0","v":0},0,null,null,null,null,null,null,0,null,0,null,null,null,null,0,0,null,0]
[null,null,null,null,null,null,null,null,null,null,null,null,null,null,null,null,null,null,null,null,null,null,null,null,null,null,null,null,null,null,null,null,null,null,null,null,null,null,null,null,null,null,null,null,null,null,null,null,null,null,null,null,null,null,null,null,null,null,null,null,null,null,null,null,null,null,null,null,null,null,null,null,null,null,null,null,null,null,null,null,null,null,null,null,null,null,null,null,null,null,null,null,null,null,0,0,0,0,0,0,0,0,0,0,0,0,null,0,0,null,{"$f":"0","v":0},0,null,null,null,null,null,null,0,null,0,null,null,null,null,0,0,null,0]
[null,null,null,null,null,null,null,null,null,null,null,null,null,null,null,null,null,null,null,null,null,null,null,null,null,null,null,null,null,null,null,null,null,null,null,null,null,null,null,null,null,null,null,null,null,null,null,null,null,null,null,null,null,null,null,null,null,null,null,null,null,null,null,null,null,null,null,null,null,null,null,null,null,null,null,null,null,null,null,null,null,null,null,null,null,null,null,null,null,null,null,null,null,null,{"$f":"BP197","v":0},{"$f":"BQ197","v":0},{"$f":"BR197","v":0},{"$f":"BS197","v":0},{"$f":"BT197","v":0},{"$f":"BU197","v":0},{"$f":"BV197","v":0},{"$f":"BW197","v":0},{"$f":"CN197","v":0},{"$f":"BX197","v":0},{"$f":"BY197","v":0},{"$f":"BZ197","v":0},null,{"$f":"CB197","v":0},{"$f":"CC197","v":0},null,{"$f":"0","v":0},{"$f":"CM197","v":0},null,null,null,null,null,null,{"$f":"CG197","v":0},null,{"$f":"CH197","v":0},null,null,null,null,{"$f":"CJ197","v":0},{"$f":"CK197","v":0},null,{"$f":"CL197","v":0}]
[null,null,null,null,null,null,null,null,null,null,null,null,null,null,null,null,null,null,null,null,null,null,null,null,null,null,null,null,null,null,null,null,null,null,null,null,null,null,null,null,null,null,null,null,null,null,null,null,null,null,null,null,null,null,null,null,null,null,null,null,null,null,null,null,null,null,null,null,null,null,null,null,null,null,null,null,null,null,null,null,null,null,null,null,null,null,null,null,null,null,null,null,null,null,{"$f":"BP198","v":0},{"$f":"BQ198","v":0},{"$f":"BR198","v":0},{"$f":"BS198","v":0},{"$f":"BT198","v":0},{"$f":"BU198","v":0},{"$f":"BV198","v":0},{"$f":"BW198","v":0},{"$f":"CN198","v":0},{"$f":"BX198","v":0},{"$f":"BY198","v":0},{"$f":"BZ198","v":0},null,{"$f":"CB198","v":0},{"$f":"CC198","v":0},null,{"$f":"0","v":0},{"$f":"CM198","v":0},null,null,null,null,null,null,{"$f":"CG198","v":0},null,{"$f":"CH198","v":0},null,null,null,null,{"$f":"CJ198","v":0},{"$f":"CK198","v":0},null,{"$f":"CL198","v":0}]

{"sheet":"Validator","index":9,"n_rows":2,"n_cols":7,"rows_kept":2,"cut":false,"hidden":true,"merged":[]}
["Details","Password",null,null,"User Name","Password","ResetKey"]
["System Serial No:",null,null,null,null,null,"XDV!34tyBLB"]

{"sheet":"SUMMARY","index":10,"n_rows":407,"n_cols":73,"rows_kept":407,"cut":false,"hidden":true,"merged":[[304,0,304,4],[338,0,338,4],[372,0,372,4],[406,0,406,4],[311,0,311,48],[345,0,345,48],[379,0,379,48],[39,0,39,48],[73,0,73,48],[32,0,32,4],[277,0,277,48],[107,0,107,48],[141,0,141,48],[175,0,175,48],[209,0,209,48],[243,0,243,48],[66,0,66,4],[100,0,100,4],[134,0,134,4],[168,0,168,4],[202,0,202,4],[236,0,236,4],[270,0,270,4],[3,0,3,38],[7,59,7,65],[14,59,14,65],[21,59,21,65],[5,0,5,48]]}
[]
["MONTH","January"]
[]
["MONTHLY EMPLOYEE PAYROLL MOVEMENT SCHEDULE"]
[]
["January"]
["EMP NO:","NAMES","ID NO","PHONE NO.","RATE",1,2,3,4,5,6,7,8,9,10,11,12,13,14,15,16,17,18,19,20,21,22,23,24,25,26,27,28,29,30,31,"TOTAL  DAYS","BASIC PAY","ADVANCE","PAYEE","NHIF","NHIF RELIEF","NSSF","TOTAL-D","LOAN REPAYMENT","NET PAYABLE","LEAVE DAYS","PAID END MONTH","NITA",null,null,null,null,null,null,null,"Basic Salary for Paye",null,null,null,null,null,null,null,null,null,null,"ID Number",null,"Employee ID","Empoyee Name","ID Number","Phone Number"]
[{"$f":"IFERROR(IF($BR$8<>\"\",$BR$8,\"\"),\"\")","v":1},{"$f":"IFERROR(IF($BS$8<>\"\",$BS$8,\"\"),\"\")","v":"Brian Kombe Gode"},{"$f":"IFERROR(IF($BT$8<>\"\",$BT$8,\"\"),\"\")","v":334567890},{"$f":"IFERROR(IF($BU$8<>\"\",$BU$8,\"\"),\"\")","v":7896543},1500,1,1,1,1,1,1,1,1,1,1,1,1,1,1,1,1,1,1,1,1,1,1,1,1,1,1,1,1,1,1,1,{"$f":"IFERROR(SUM(F8:AJ8)+AU8,0)","v":31},{"$f":"IFERROR(E8*AK8,0)","v":46500},20000,{"$f":"BG8","v":5844.35},{"$f":"IFERROR(VLOOKUP(AL8,$BH$24:$BI$40,2,TRUE),0)","v":1100},{"$f":"AO8*0.15","v":165},{"$f":"IF(AL8>=18000,1080,AL8*0.06)","v":1080},{"$f":"IFERROR(AO8+AQ8,0)","v":2180},null,{"$f":"AL8-AM8-AN8-AO8-AQ8-AS8","v":18475.650000000001},null,null,null,null,null,null,null,null,null,null,{"$f":"AL8-AQ8","v":45420},{"$f":"(IFERROR(IF((BE8-$BH$10)>1,$BH$10*$BI$10,0)+IF((BE8-$BH$10)>$BH$11,$BH$11*$BI$11,IF(AND((BE8-$BH$10)<$BH$11,(BE8-$BH$10)>0),((BE8-$BH$10)/$BH$11*($BH$11*$BI$11)),0))+IF((BE8-$BH$10-$BH$11)>$BH$12,(BE8-$BH$12)*$BI$12,IF(AND((BE8-$BH$10-$BH$11)<$BH$12,(BE8-$BH$10-$BH$11)>0),((BE8-$BH$10-$BH$11)/$BH$12*($BH$12*$BI$12)),0)),0))-2400-AP8","v":5844.35},{"$f":"IFERROR(IF(BF8<=0,0,BF8),0)","v":5844.35},"Paye Normal",null,null,null,null,null,null,null,null,null,1,"Brian Kombe Gode",334567890,7896543]
[{"$f":"IFERROR(IF($BR$9<>\"\",$BR$9,\"\"),\"\")","v":2},{"$f":"IFERROR(IF($BS$9<>\"\",$BS$9,\"\"),\"\")","v":"Timothy Brian Odongo"},{"$f":"IFERROR(IF($BT$9<>\"\",$BT$9,\"\"),\"\")","v":2345671},{"$f":"IFERROR(IF($BU$9<>\"\",$BU$9,\"\"),\"\")","v":737456712},2000,1,1,1,1,1,1,1,1,1,1,1,1,1,1,1,1,1,1,1,1,1,1,1,1,1,1,1,1,1,1,1,{"$f":"IFERROR(SUM(F9:AJ9)+AU9,0)","v":31},{"$f":"IFERROR(E9*AK9,0)","v":62000},4000,{"$f":"BG9","v":10464.35},1300,{"$f":"AO9*0.15","v":195},{"$f":"IF(AL9>=18000,1080,AL9*0.06)","v":1080},{"$f":"IFERROR(AO9+AQ9,0)","v":2380},null,{"$f":"AL9-AM9-AN9-AO9-AQ9","v":45155.65},null,null,null,null,null,null,null,null,null,null,60920,10464.35,{"$f":"IFERROR(IF(BF9<=0,0,BF9),0)","v":10464.35},"NORMAL","RATES",null,null,null,null,null,null,null,null,2,"Timothy Brian Odongo",2345671,737456712]
[{"$f":"IFERROR(IF($BR$10<>\"\",$BR$10,\"\"),\"\")","v":3},{"$f":"IFERROR(IF($BS$10<>\"\",$BS$10,\"\"),\"\")","v":"Bshora Wayu Nzamo"},{"$f":"IFERROR(IF($BT$10<>\"\",$BT$10,\"\"),\"\")","v":29675430},{"$f":"IFERROR(IF($BU$10<>\"\",$BU$10,\"\"),\"\")","v":734567820},3000,1,1,1,1,1,1,1,1,1,1,1,1,1,1,1,1,1,1,1,1,1,1,1,1,1,1,1,1,1,1,1,31,93000,40000,19719.649999999998,1600,240,1080,2680,null,30600.350000000006,null,null,null,null,null,null,null,null,null,null,91920,19719.649999999998,19719.649999999998,{"$f":"'Set-Up'!$D$7","v":24000},{"$f":"'Set-Up'!$E$7","v":0.1},null,{"$f":"IFERROR(IF(($B88-$BH$10)>1,$BH$10*BI10,0),\"\")","v":""},null,null,null,null,null,null,3,"Bshora Wayu Nzamo",29675430,734567820]
[{"$f":"IFERROR(IF($BR$11<>\"\",$BR$11,\"\"),\"\")","v":4},{"$f":"IFERROR(IF($BS$11<>\"\",$BS$11,\"\"),\"\")","v":"Wanyoni Agala Musando"},{"$f":"IFERROR(IF($BT$11<>\"\",$BT$11,\"\"),\"\")","v":33456789},{"$f":"IFERROR(IF($BU$11<>\"\",$BU$11,\"\"),\"\")","v":786543221},null,null,null,null,null,null,null,null,null,null,null,null,null,null,null,null,null,null,null,null,null,null,null,null,null,null,null,null,null,null,null,null,0,0,null,0,150,22.5,0,150,null,-150,null,null,null,null,null,null,null,null,null,null,0,-2422.5,0,{"$f":"'Set-Up'!$D$8","v":8333},{"$f":"'Set-Up'!$E$8","v":0.25},null,{"$f":"IFERROR(IF(($BA8-$BH$10)>$BH$11,$BH$11*$BI$11,IF(AND((BA8-$BH$10)<$BH$11,(BA8-$BH$10)>0),((BA8-$BH$10)/$BH$11*($BH$11*$BI$11)),0)),0)","v":0},null,null,{"$f":"IF(AND((BA8-$BH10)<$BH$11,(BA8-$BH$10)>0),((BA8-$BH$10)/$BH$11*($BH$26*$BI$11)),0)","v":0},null,null,null,4,"Wanyoni Agala Musando",33456789,786543221]
[{"$f":"IFERROR(IF($BR$12<>\"\",$BR$12,\"\"),\"\")","v":5},{"$f":"IFERROR(IF($BS$12<>\"\",$BS$12,\"\"),\"\")","v":"Benerd Kimani Njorioge"},{"$f":"IFERROR(IF($BT$12<>\"\",$BT$12,\"\"),\"\")","v":30456789},{"$f":"IFERROR(IF($BU$12<>\"\",$BU$12,\"\"),\"\")","v":789654321},null,null,null,null,null,null,null,null,null,null,null,null,null,null,null,null,null,null,null,null,null,null,null,null,null,null,null,null,null,null,null,null,0,0,null,0,150,22.5,0,150,null,-150,null,null,null,null,null,null,null,null,null,null,0,-2422.5,0,{"$f":"'Set-Up'!$D$9","v":32332},{"$f":"'Set-Up'!$E$9","v":0.3},null,{"$f":"IFERROR(IF(($CN8-$BH$10-$BH$11)>$BH$12,($CN8-$BH$12)*$BI$12,IF(AND((BA8-$BH$10-$BH$11)<$BH$12,(BA8-$BH$10-$BH$11)>0),((BA8-$BH$10-$BH$11)/$BH$12*($BH$12*$BI$12)),0)),0)","v":0},null,null,{"$f":"IF(AND((BA8-$BH$10-$BH$11)<$BH$12,(BA8-$BH$10-$BH$11)>0),((BA8-$BH$10-$BH$11)/$BH$12*($BH$12*$BI$12)),0)","v":0},null,null,null,5,"Benerd Kimani Njorioge",30456789,789654321]
[{"$f":"IFERROR(IF($BR$13<>\"\",$BR$13,\"\"),\"\")","v":6},{"$f":"IFERROR(IF($BS$13<>\"\",$BS$13,\"\"),\"\")","v":"Sam Jacob Mroki"},{"$f":"IFERROR(IF($BT$13<>\"\",$BT$13,\"\"),\"\")","v":31567823},{"$f":"IFERROR(IF($BU$13<>\"\",$BU$13,\"\"),\"\")","v":768942345},null,null,null,null,null,null,null,null,null,null,null,null,null,null,null,null,null,null,null,null,null,null,null,null,null,null,null,null,null,null,null,null,0,0,null,0,150,22.5,0,150,null,-150,null,null,null,null,null,null,null,null,null,null,0,-2422.5,0,null,null,null,{"$f":"SUM(BK10:BK12)","v":0},null,null,null,null,null,null,6,"Sam Jacob Mroki",31567823,768942345]
[{"$f":"IFERROR(IF($BR$14<>\"\",$BR$14,\"\"),\"\")","v":7},{"$f":"IFERROR(IF($BS$14<>\"\",$BS$14,\"\"),\"\")","v":"Joy Mueni Mutinda"},{"$f":"IFERROR(IF($BT$14<>\"\",$BT$14,\"\"),\"\")","v":32897938},{"$f":"IFERROR(IF($BU$14<>\"\",$BU$14,\"\"),\"\")","v":723456765},null,null,null,null,null,null,null,null,null,null,null,null,null,null,null,null,null,null,null,null,null,null,null,null,null,null,null,null,null,null,null,null,0,0,null,0,150,22.5,0,150,null,-150,null,null,null,null,null,null,null,null,null,null,0,-2422.5,0,null,null,null,null,null,null,null,null,null,null,7,"Joy Mueni Mutinda",32897938,723456765]
[{"$f":"IFERROR(IF($BR$15<>\"\",$BR$15,\"\"),\"\")","v":8},{"$f":"IFERROR(IF($BS$15<>\"\",$BS$15,\"\"),\"\")","v":"Kahindi Mwero Boga"},{"$f":"IFERROR(IF($BT$15<>\"\",$BT$15,\"\"),\"\")","v":2934567},{"$f":"IFERROR(IF($BU$15<>\"\",$BU$15,\"\"),\"\")","v":798654312},null,null,null,null,null,null,null,null,null,null,null,null,null,null,null,null,null,null,null,null,null,null,null,null,null,null,null,null,null,null,null,null,0,0,null,0,150,22.5,0,150,null,-150,null,null,null,null,null,null,null,null,null,null,0,-2422.5,0,"NSSF",null,null,null,null,null,null,null,null,null,8,"Kahindi Mwero Boga",2934567,798654312]
[{"$f":"IFERROR(IF($BR$16<>\"\",$BR$16,\"\"),\"\")","v":9},{"$f":"IFERROR(IF($BS$16<>\"\",$BS$16,\"\"),\"\")","v":"John Boscco Bosire"},{"$f":"IFERROR(IF($BT$16<>\"\",$BT$16,\"\"),\"\")","v":98347897},{"$f":"IFERROR(IF($BU$16<>\"\",$BU$16,\"\"),\"\")","v":734567128},null,null,null,null,null,null,null,null,null,null,null,null,null,null,null,null,null,null,null,null,null,null,null,null,null,null,null,null,null,null,null,null,0,0,null,0,150,22.5,0,150,null,-150,null,null,null,null,null,null,null,null,null,null,0,-2422.5,0,"Rates","Amount",null,"Result",null,null,null,null,null,null,9,"John Boscco Bosire",98347897,734567128]
[{"$f":"IFERROR(IF($BR$17<>\"\",$BR$17,\"\"),\"\")","v":10},{"$f":"IFERROR(IF($BS$17<>\"\",$BS$17,\"\"),\"\")","v":"Hassan Abdulnasir Wario"},{"$f":"IFERROR(IF($BT$17<>\"\",$BT$17,\"\"),\"\")","v":2156789},{"$f":"IFERROR(IF($BU$17<>\"\",$BU$17,\"\"),\"\")","v":731256789},null,null,null,null,null,null,null,null,null,null,null,null,null,null,null,null,null,null,null,null,null,null,null,null,null,null,null,null,null,null,null,null,0,0,null,0,150,22.5,0,150,null,-150,null,null,null,null,null,null,null,null,null,null,0,-2422.5,0,0.06,18000,null,null,null,null,null,null,null,null,10,"Hassan Abdulnasir Wario",2156789,731256789]
[{"$f":"IFERROR(IF($BR$18<>\"\",$BR$18,\"\"),\"\")","v":11},{"$f":"IFERROR(IF($BS$18<>\"\",$BS$18,\"\"),\"\")","v":"Jastine Makemba Batogo"},{"$f":"IFERROR(IF($BT$18<>\"\",$BT$18,\"\"),\"\")","v":34567890},{"$f":"IFERROR(IF($BU$18<>\"\",$BU$18,\"\"),\"\")","v":786885432},null,null,null,null,null,null,null,null,null,null,null,null,null,null,null,null,null,null,null,null,null,null,null,null,null,null,null,null,null,null,null,null,0,0,null,0,150,22.5,0,150,null,-150,null,null,null,null,null,null,null,null,null,null,0,-2422.5,0,"Above Limit",{"$f":"BH17*BI17","v":1080},null,{"$f":"IFERROR(IF(X6>=BI17,1080,X6*BH17),0)","v":0},null,null,null,null,null,null,11,"Jastine Makemba Batogo",34567890,786885432]
[{"$f":"IFERROR(IF($BR$19<>\"\",$BR$19,\"\"),\"\")","v":12},{"$f":"IFERROR(IF($BS$19<>\"\",$BS$19,\"\"),\"\")","v":"Janet Wairimu Wamatagi"},{"$f":"IFERROR(IF($BT$19<>\"\",$BT$19,\"\"),\"\")","v":35678910},{"$f":"IFERROR(IF($BU$19<>\"\",$BU$19,\"\"),\"\")","v":745683412},null,null,null,null,null,null,null,null,null,null,null,null,null,null,null,null,null,null,null,null,null,null,null,null,null,null,null,null,null,null,null,null,0,0,null,0,150,22.5,0,150,null,-150,null,null,null,null,null,null,null,null,null,null,0,-2422.5,0,null,null,null,null,null,null,null,null,null,null,12,"Janet Wairimu Wamatagi",35678910,745683412]
[{"$f":"IFERROR(IF($BR$20<>\"\",$BR$20,\"\"),\"\")","v":13},{"$f":"IFERROR(IF($BS$20<>\"\",$BS$20,\"\"),\"\")","v":"Denis Brian Ochola"},{"$f":"IFERROR(IF($BT$20<>\"\",$BT$20,\"\"),\"\")","v":34567812},{"$f":"IFERROR(IF($BU$20<>\"\",$BU$20,\"\"),\"\")","v":798345675},null,null,null,null,null,null,null,null,null,null,null,null,null,null,null,null,null,null,null,null,null,null,null,null,null,null,null,null,null,null,null,null,0,0,null,0,150,22.5,0,150,null,-150,null,null,null,null,null,null,null,null,null,null,0,-2422.5,0,null,null,null,null,null,null,null,null,null,null,13,"Denis Brian Ochola",34567812,798345675]
[{"$f":"IFERROR(IF($BR$21<>\"\",$BR$21,\"\"),\"\")","v":14},{"$f":"IFERROR(IF($BS$21<>\"\",$BS$21,\"\"),\"\")","v":"Gitau Harrison Kithi"},{"$f":"IFERROR(IF($BT$21<>\"\",$BT$21,\"\"),\"\")","v":35267812},{"$f":"IFERROR(IF($BU$21<>\"\",$BU$21,\"\"),\"\")","v":739456712},null,null,null,null,null,null,null,null,null,null,null,null,null,null,null,null,null,null,null,null,null,null,null,null,null,null,null,null,null,null,null,null,0,0,null,0,150,22.5,0,150,null,-150,null,null,null,null,null,null,null,null,null,null,0,-2422.5,0,null,null,null,null,null,null,null,null,null,null,14,"Gitau Harrison Kithi",35267812,739456712]
[{"$f":"IFERROR(IF($BR$22<>\"\",$BR$22,\"\"),\"\")","v":""},{"$f":"IFERROR(IF($BS$22<>\"\",$BS$22,\"\"),\"\")","v":""},{"$f":"IFERROR(IF($BT$22<>\"\",$BT$22,\"\"),\"\")","v":""},{"$f":"IFERROR(IF($BU$22<>\"\",$BU$22,\"\"),\"\")","v":""},null,null,null,null,null,null,null,null,null,null,null,null,null,null,null,null,null,null,null,null,null,null,null,null,null,null,null,null,null,null,null,null,0,0,null,0,150,22.5,0,150,null,-150,null,null,null,null,null,null,null,null,null,null,0,-2422.5,0,"NHIF"]
[{"$f":"IFERROR(IF($BR$23<>\"\",$BR$23,\"\"),\"\")","v":""},{"$f":"IFERROR(IF($BS$23<>\"\",$BS$23,\"\"),\"\")","v":""},{"$f":"IFERROR(IF($BT$23<>\"\",$BT$23,\"\"),\"\")","v":""},{"$f":"IFERROR(IF($BU$23<>\"\",$BU$23,\"\"),\"\")","v":""},null,null,null,null,null,null,null,null,null,null,null,null,null,null,null,null,null,null,null,null,null,null,null,null,null,null,null,null,null,null,null,null,0,0,null,0,150,22.5,0,150,null,-150,null,null,null,null,null,null,null,null,null,null,0,-2422.5,0,"Rates","Amount",null,"Result"]
[{"$f":"IFERROR(IF($BR$24<>\"\",$BR$24,\"\"),\"\")","v":""},{"$f":"IFERROR(IF($BS$24<>\"\",$BS$24,\"\"),\"\")","v":""},{"$f":"IFERROR(IF($BT$24<>\"\",$BT$24,\"\"),\"\")","v":""},{"$f":"IFERROR(IF($BU$24<>\"\",$BU$24,\"\"),\"\")","v":""},null,null,null,null,null,null,null,null,null,null,null,null,null,null,null,null,null,null,null,null,null,null,null,null,null,null,null,null,null,null,null,null,0,0,null,0,150,22.5,0,150,null,-150,null,null,null,null,null,null,null,null,null,null,0,-2422.5,0,0,150,null,"Cash Pay","OutPut","Relief"]
[{"$f":"IFERROR(IF($BR$25<>\"\",$BR$25,\"\"),\"\")","v":""},{"$f":"IFERROR(IF($BS$25<>\"\",$BS$25,\"\"),\"\")","v":""},{"$f":"IFERROR(IF($BT$25<>\"\",$BT$25,\"\"),\"\")","v":""},{"$f":"IFERROR(IF($BU$25<>\"\",$BU$25,\"\"),\"\")","v":""},null,null,null,null,null,null,null,null,null,null,null,null,null,null,null,null,null,null,null,null,null,null,null,null,null,null,null,null,null,null,null,null,0,0,null,0,150,22.5,0,150,null,-150,null,null,null,null,null,null,null,null,null,null,0,-2422.5,0,6000,300,null,{"$f":"X6","v":0},{"$f":"VLOOKUP(BK25,BH24:BI40,2,TRUE)","v":150},{"$f":"BL25*15%","v":22.5}]
[{"$f":"IFERROR(IF($BR$26<>\"\",$BR$26,\"\"),\"\")","v":""},{"$f":"IFERROR(IF($BS$26<>\"\",$BS$26,\"\"),\"\")","v":""},{"$f":"IFERROR(IF($BT$26<>\"\",$BT$26,\"\"),\"\")","v":""},{"$f":"IFERROR(IF($BU$26<>\"\",$BU$26,\"\"),\"\")","v":""},null,null,null,null,null,null,null,null,null,null,null,null,null,null,null,null,null,null,null,null,null,null,null,null,null,null,null,null,null,null,null,null,0,0,null,0,150,22.5,0,150,null,-150,null,null,null,null,null,null,null,null,null,null,0,-2422.5,0,8000,400]
[{"$f":"IFERROR(IF($BR$27<>\"\",$BR$27,\"\"),\"\")","v":""},{"$f":"IFERROR(IF($BS$27<>\"\",$BS$27,\"\"),\"\")","v":""},{"$f":"IFERROR(IF($BT$27<>\"\",$BT$27,\"\"),\"\")","v":""},{"$f":"IFERROR(IF($BU$27<>\"\",$BU$27,\"\"),\"\")","v":""},null,null,null,null,null,null,null,null,null,null,null,null,null,null,null,null,null,null,null,null,null,null,null,null,null,null,null,null,null,null,null,null,0,0,null,0,150,22.5,0,150,null,-150,null,null,null,null,null,null,null,null,null,null,0,-2422.5,0,12000,500]
[{"$f":"IFERROR(IF($BR$28<>\"\",$BR$28,\"\"),\"\")","v":""},{"$f":"IFERROR(IF($BS$28<>\"\",$BS$28,\"\"),\"\")","v":""},{"$f":"IFERROR(IF($BT$28<>\"\",$BT$28,\"\"),\"\")","v":""},{"$f":"IFERROR(IF($BU$28<>\"\",$BU$28,\"\"),\"\")","v":""},null,null,null,null,null,null,null,null,null,null,null,null,null,null,null,null,null,null,null,null,null,null,null,null,null,null,null,null,null,null,null,null,0,0,null,0,150,22.5,0,150,null,-150,null,null,null,null,null,null,null,null,null,null,0,-2422.5,0,15000,600]
[{"$f":"IFERROR(IF($BR$29<>\"\",$BR$29,\"\"),\"\")","v":""},{"$f":"IFERROR(IF($BS$29<>\"\",$BS$29,\"\"),\"\")","v":""},{"$f":"IFERROR(IF($BT$29<>\"\",$BT$29,\"\"),\"\")","v":""},{"$f":"IFERROR(IF($BU$29<>\"\",$BU$29,\"\"),\"\")","v":""},null,null,null,null,null,null,null,null,null,null,null,null,null,null,null,null,null,null,null,null,null,null,null,null,null,null,null,null,null,null,null,null,0,0,null,0,150,22.5,0,150,null,-150,null,null,null,null,null,null,null,null,null,null,0,-2422.5,0,20000,750]
[{"$f":"IFERROR(IF($BR$30<>\"\",$BR$30,\"\"),\"\")","v":""},{"$f":"IFERROR(IF($BS$30<>\"\",$BS$30,\"\"),\"\")","v":""},{"$f":"IFERROR(IF($BT$30<>\"\",$BT$30,\"\"),\"\")","v":""},{"$f":"IFERROR(IF($BU$30<>\"\",$BU$30,\"\"),\"\")","v":""},null,null,null,null,null,null,null,null,null,null,null,null,null,null,null,null,null,null,null,null,null,null,null,null,null,null,null,null,null,null,null,null,0,0,null,0,150,22.5,0,150,null,-150,null,null,null,null,null,null,null,null,null,null,0,-2422.5,0,25000,850]
[{"$f":"IFERROR(IF($BR$31<>\"\",$BR$31,\"\"),\"\")","v":""},{"$f":"IFERROR(IF($BS$31<>\"\",$BS$31,\"\"),\"\")","v":""},{"$f":"IFERROR(IF($BT$31<>\"\",$BT$31,\"\"),\"\")","v":""},{"$f":"IFERROR(IF($BU$31<>\"\",$BU$31,\"\"),\"\")","v":""},null,null,null,null,null,null,null,null,null,null,null,null,null,null,null,null,null,null,null,null,null,null,null,null,null,null,null,null,null,null,null,null,0,0,null,0,150,22.5,0,150,null,-150,null,null,null,null,null,null,null,null,null,null,0,-2422.5,0,30000,900]
[{"$f":"IFERROR(IF($BR$32<>\"\",$BR$32,\"\"),\"\")","v":""},{"$f":"IFERROR(IF($BS$32<>\"\",$BS$32,\"\"),\"\")","v":""},{"$f":"IFERROR(IF($BT$32<>\"\",$BT$32,\"\"),\"\")","v":""},{"$f":"IFERROR(IF($BU$32<>\"\",$BU$32,\"\"),\"\")","v":""},null,null,null,null,null,null,null,null,null,null,null,null,null,null,null,null,null,null,null,null,null,null,null,null,null,null,null,null,null,null,null,null,0,0,null,0,150,22.5,0,150,null,-150,null,null,null,null,null,null,null,null,null,null,0,-2422.5,0,35000,950]
["TOTAL",null,null,null,null,null,null,null,null,null,null,null,null,null,null,null,null,null,null,null,null,null,null,null,null,null,null,null,null,null,null,null,null,null,null,null,null,{"$f":"SUM(AL8:AL32)","v":201500},{"$f":"SUM(AM8:AM32)","v":64000},36028.35,7300,1095,3240,10540,{"$f":"SUM(AS8:AS32)","v":0},{"$f":"SUM(AT8:AT32)","v":90931.650000000009},{"$f":"SUM(AU8:AU32)","v":0},{"$f":"SUM(AV8:AV32)","v":0},{"$f":"SUM(AW8:AW32)","v":0},null,null,null,null,null,null,null,null,null,null,40000,1000]
[null,null,null,null,null,null,null,null,null,null,null,null,null,null,null,null,null,null,null,null,null,null,null,null,null,null,null,null,null,null,null,null,null,null,null,null,null,null,null,null,null,null,null,null,null,null,null,null,null,null,null,null,null,null,null,null,null,null,null,45000,1100]
[null,null,null,null,null,null,null,null,null,null,null,null,null,null,null,null,null,null,null,null,null,null,null,null,null,null,null,null,null,null,null,null,null,null,null,null,null,null,null,null,null,null,null,null,null,null,null,null,null,null,null,null,null,null,null,null,null,null,null,50000,1200]
[null,null,null,null,null,null,null,null,null,null,null,null,null,null,null,null,null,null,null,null,null,null,null,null,null,null,null,null,null,null,null,null,null,null,null,null,null,null,null,null,null,null,null,null,null,null,null,null,null,null,null,null,null,null,null,null,null,null,null,60000,1300]
[null,null,null,null,null,null,null,null,null,null,null,null,null,null,null,null,null,null,null,null,null,null,null,null,null,null,null,null,null,null,null,null,null,null,null,null,null,null,null,null,null,null,null,null,null,null,null,null,null,null,null,null,null,null,null,null,null,null,null,70000,1400]
[null,null,null,null,null,null,null,null,null,null,null,null,null,null,null,null,null,null,null,null,null,null,null,null,null,null,null,null,null,null,null,null,null,null,null,null,null,null,null,null,null,null,null,null,null,null,null,null,null,null,null,null,null,null,null,null,null,null,null,80000,1500]
[null,null,null,null,null,null,null,null,null,null,null,null,null,null,null,null,null,null,null,null,null,null,null,null,null,null,null,null,null,null,null,null,null,null,null,null,null,null,null,null,null,null,null,null,null,null,null,null,null,null,null,null,null,null,null,null,null,null,null,90000,1600]
["February",null,null,null,null,null,null,null,null,null,null,null,null,null,null,null,null,null,null,null,null,null,null,null,null,null,null,null,null,null,null,null,null,null,null,null,null,null,null,null,null,null,null,null,null,null,null,null,null,null,null,null,null,null,null,null,null,null,null,100000,1700]
["EMP NO:","NAMES","ID NO","PHONE NO.","RATE",1,2,3,4,5,6,7,8,9,10,11,12,13,14,15,16,17,18,19,20,21,22,23,24,25,26,27,28,29,30,31,"TOTAL  DAYS","BASIC PAY","ADVANCE","PAYEE","NHIF","NHIF RELIEF","NSSF","TOTAL-D","LOAN REPAYMENT","NET PAYABLE","LEAVE DAYS","PAID END MONTH","NITA",null,null,null,null,null,null,null,"Basic Salary for Paye"]
[{"$f":"IFERROR(IF($BR$8<>\"\",$BR$8,\"\"),\"\")","v":1},{"$f":"IFERROR(IF($BS$8<>\"\",$BS$8,\"\"),\"\")","v":"Brian Kombe Gode"},{"$f":"IFERROR(IF($BT$8<>\"\",$BT$8,\"\"),\"\")","v":334567890},{"$f":"IFERROR(IF($BU$8<>\"\",$BU$8,\"\"),\"\")","v":7896543},null,null,null,null,null,null,null,null,null,null,null,null,null,null,null,null,null,null,null,null,null,null,null,null,null,null,null,null,null,null,null,null,{"$f":"IFERROR(SUM(F42:AJ42)+AU42,0)","v":0},{"$f":"IFERROR(E42*AK42,0)","v":0},null,{"$f":"BG42","v":0},{"$f":"IFERROR(VLOOKUP(AL42,$BH$24:$BI$40,2,TRUE),0)","v":150},{"$f":"AO42*0.15","v":22.5},{"$f":"IF(AL42>=18000,1080,AL42*0.06)","v":0},{"$f":"IFERROR(AO42+AQ42,0)","v":150},null,{"$f":"AL42-AM42-AN42-AO42-AQ42-AS42","v":-150},null,null,null,null,null,null,null,null,null,null,{"$f":"AL42-AQ42","v":0},{"$f":"(IFERROR(IF((BE42-$BH$10)>1,$BH$10*$BI$10,0)+IF((BE42-$BH$10)>$BH$11,$BH$11*$BI$11,IF(AND((BE42-$BH$10)<$BH$11,(BE42-$BH$10)>0),((BE42-$BH$10)/$BH$11*($BH$11*$BI$11)),0))+IF((BE42-$BH$10-$BH$11)>$BH$12,(BE42-$BH$12)*$BI$12,IF(AND((BE42-$BH$10-$BH$11)<$BH$12,(BE42-$BH$10-$BH$11)>0),((BE42-$BH$10-$BH$11)/$BH$12*($BH$12*$BI$12)),0)),0))-2400-AP42","v":-2422.5},{"$f":"IFERROR(IF(BF42<=0,0,BF42),0)","v":0}]
[{"$f":"IFERROR(IF($BR$9<>\"\",$BR$9,\"\"),\"\")","v":2},{"$f":"IFERROR(IF($BS$9<>\"\",$BS$9,\"\"),\"\")","v":"Timothy Brian Odongo"},{"$f":"IFERROR(IF($BT$9<>\"\",$BT$9,\"\"),\"\")","v":2345671},{"$f":"IFERROR(IF($BU$9<>\"\",$BU$9,\"\"),\"\")","v":737456712},null,null,null,null,null,null,null,null,null,null,null,null,null,null,null,null,null,null,null,null,null,null,null,null,null,null,null,null,null,null,null,null,{"$f":"IFERROR(SUM(F43:AJ43)+AU43,0)","v":0},{"$f":"IFERROR(E43*AK43,0)","v":0},null,{"$f":"BG43","v":0},150,{"$f":"AO43*0.15","v":22.5},{"$f":"IF(AL43>=18000,1080,AL43*0.06)","v":0},{"$f":"IFERROR(AO43+AQ43,0)","v":150},null,{"$f":"AL43-AM43-AN43-AO43-AQ43","v":-150},null,null,null,null,null,null,null,null,null,null,0,-2422.5,{"$f":"IFERROR(IF(BF43<=0,0,BF43),0)","v":0}]
[{"$f":"IFERROR(IF($BR$10<>\"\",$BR$10,\"\"),\"\")","v":3},{"$f":"IFERROR(IF($BS$10<>\"\",$BS$10,\"\"),\"\")","v":"Bshora Wayu Nzamo"},{"$f":"IFERROR(IF($BT$10<>\"\",$BT$10,\"\"),\"\")","v":29675430},{"$f":"IFERROR(IF($BU$10<>\"\",$BU$10,\"\"),\"\")","v":734567820},null,null,null,null,null,null,null,null,null,null,null,null,null,null,null,null,null,null,null,null,null,null,null,null,null,null,null,null,null,null,null,null,0,0,null,0,150,22.5,0,150,null,-150,null,null,null,null,null,null,null,null,null,null,0,-2422.5,0]
[{"$f":"IFERROR(IF($BR$11<>\"\",$BR$11,\"\"),\"\")","v":4},{"$f":"IFERROR(IF($BS$11<>\"\",$BS$11,\"\"),\"\")","v":"Wanyoni Agala Musando"},{"$f":"IFERROR(IF($BT$11<>\"\",$BT$11,\"\"),\"\")","v":33456789},{"$f":"IFERROR(IF($BU$11<>\"\",$BU$11,\"\"),\"\")","v":786543221},null,null,null,null,null,null,null,null,null,null,null,null,null,null,null,null,null,null,null,null,null,null,null,null,null,null,null,null,null,null,null,null,0,0,null,0,150,22.5,0,150,null,-150,null,null,null,null,null,null,null,null,null,null,0,-2422.5,0]
[{"$f":"IFERROR(IF($BR$12<>\"\",$BR$12,\"\"),\"\")","v":5},{"$f":"IFERROR(IF($BS$12<>\"\",$BS$12,\"\"),\"\")","v":"Benerd Kimani Njorioge"},{"$f":"IFERROR(IF($BT$12<>\"\",$BT$12,\"\"),\"\")","v":30456789},{"$f":"IFERROR(IF($BU$12<>\"\",$BU$12,\"\"),\"\")","v":789654321},null,null,null,null,null,null,null,null,null,null,null,null,null,null,null,null,null,null,null,null,null,null,null,null,null,null,null,null,null,null,null,null,0,0,null,0,150,22.5,0,150,null,-150,null,null,null,null,null,null,null,null,null,null,0,-2422.5,0]
[{"$f":"IFERROR(IF($BR$13<>\"\",$BR$13,\"\"),\"\")","v":6},{"$f":"IFERROR(IF($BS$13<>\"\",$BS$13,\"\"),\"\")","v":"Sam Jacob Mroki"},{"$f":"IFERROR(IF($BT$13<>\"\",$BT$13,\"\"),\"\")","v":31567823},{"$f":"IFERROR(IF($BU$13<>\"\",$BU$13,\"\"),\"\")","v":768942345},null,null,null,null,null,null,null,null,null,null,null,null,null,null,null,null,null,null,null,null,null,null,null,null,null,null,null,null,null,null,null,null,0,0,null,0,150,22.5,0,150,null,-150,null,null,null,null,null,null,null,null,null,null,0,-2422.5,0]
[{"$f":"IFERROR(IF($BR$14<>\"\",$BR$14,\"\"),\"\")","v":7},{"$f":"IFERROR(IF($BS$14<>\"\",$BS$14,\"\"),\"\")","v":"Joy Mueni Mutinda"},{"$f":"IFERROR(IF($BT$14<>\"\",$BT$14,\"\"),\"\")","v":32897938},{"$f":"IFERROR(IF($BU$14<>\"\",$BU$14,\"\"),\"\")","v":723456765},null,null,null,null,null,null,null,null,null,null,null,null,null,null,null,null,null,null,null,null,null,null,null,null,null,null,null,null,null,null,null,null,0,0,null,0,150,22.5,0,150,null,-150,null,null,null,null,null,null,null,null,null,null,0,-2422.5,0]
[{"$f":"IFERROR(IF($BR$15<>\"\",$BR$15,\"\"),\"\")","v":8},{"$f":"IFERROR(IF($BS$15<>\"\",$BS$15,\"\"),\"\")","v":"Kahindi Mwero Boga"},{"$f":"IFERROR(IF($BT$15<>\"\",$BT$15,\"\"),\"\")","v":2934567},{"$f":"IFERROR(IF($BU$15<>\"\",$BU$15,\"\"),\"\")","v":798654312},null,null,null,null,null,null,null,null,null,null,null,null,null,null,null,null,null,null,null,null,null,null,null,null,null,null,null,null,null,null,null,null,0,0,null,0,150,22.5,0,150,null,-150,null,null,null,null,null,null,null,null,null,null,0,-2422.5,0]
[{"$f":"IFERROR(IF($BR$16<>\"\",$BR$16,\"\"),\"\")","v":9},{"$f":"IFERROR(IF($BS$16<>\"\",$BS$16,\"\"),\"\")","v":"John Boscco Bosire"},{"$f":"IFERROR(IF($BT$16<>\"\",$BT$16,\"\"),\"\")","v":98347897},{"$f":"IFERROR(IF($BU$16<>\"\",$BU$16,\"\"),\"\")","v":734567128},null,null,null,null,null,null,null,null,null,null,null,null,null,null,null,null,null,null,null,null,null,null,null,null,null,null,null,null,null,null,null,null,0,0,null,0,150,22.5,0,150,null,-150,null,null,null,null,null,null,null,null,null,null,0,-2422.5,0]
[{"$f":"IFERROR(IF($BR$17<>\"\",$BR$17,\"\"),\"\")","v":10},{"$f":"IFERROR(IF($BS$17<>\"\",$BS$17,\"\"),\"\")","v":"Hassan Abdulnasir Wario"},{"$f":"IFERROR(IF($BT$17<>\"\",$BT$17,\"\"),\"\")","v":2156789},{"$f":"IFERROR(IF($BU$17<>\"\",$BU$17,\"\"),\"\")","v":731256789},null,null,null,null,null,null,null,null,null,null,null,null,null,null,null,null,null,null,null,null,null,null,null,null,null,null,null,null,null,null,null,null,0,0,null,0,150,22.5,0,150,null,-150,null,null,null,null,null,null,null,null,null,null,0,-2422.5,0]
[{"$f":"IFERROR(IF($BR$18<>\"\",$BR$18,\"\"),\"\")","v":11},{"$f":"IFERROR(IF($BS$18<>\"\",$BS$18,\"\"),\"\")","v":"Jastine Makemba Batogo"},{"$f":"IFERROR(IF($BT$18<>\"\",$BT$18,\"\"),\"\")","v":34567890},{"$f":"IFERROR(IF($BU$18<>\"\",$BU$18,\"\"),\"\")","v":786885432},null,null,null,null,null,null,null,null,null,null,null,null,null,null,null,null,null,null,null,null,null,null,null,null,null,null,null,null,null,null,null,null,0,0,null,0,150,22.5,0,150,null,-150,null,null,null,null,null,null,null,null,null,null,0,-2422.5,0]
[{"$f":"IFERROR(IF($BR$19<>\"\",$BR$19,\"\"),\"\")","v":12},{"$f":"IFERROR(IF($BS$19<>\"\",$BS$19,\"\"),\"\")","v":"Janet Wairimu Wamatagi"},{"$f":"IFERROR(IF($BT$19<>\"\",$BT$19,\"\"),\"\")","v":35678910},{"$f":"IFERROR(IF($BU$19<>\"\",$BU$19,\"\"),\"\")","v":745683412},null,null,null,null,null,null,null,null,null,null,null,null,null,null,null,null,null,null,null,null,null,null,null,null,null,null,null,null,null,null,null,null,0,0,null,0,150,22.5,0,150,null,-150,null,null,null,null,null,null,null,null,null,null,0,-2422.5,0]
[{"$f":"IFERROR(IF($BR$20<>\"\",$BR$20,\"\"),\"\")","v":13},{"$f":"IFERROR(IF($BS$20<>\"\",$BS$20,\"\"),\"\")","v":"Denis Brian Ochola"},{"$f":"IFERROR(IF($BT$20<>\"\",$BT$20,\"\"),\"\")","v":34567812},{"$f":"IFERROR(IF($BU$20<>\"\",$BU$20,\"\"),\"\")","v":798345675},null,null,null,null,null,null,null,null,null,null,null,null,null,null,null,null,null,null,null,null,null,null,null,null,null,null,null,null,null,null,null,null,0,0,null,0,150,22.5,0,150,null,-150,null,null,null,null,null,null,null,null,null,null,0,-2422.5,0]
[{"$f":"IFERROR(IF($BR$21<>\"\",$BR$21,\"\"),\"\")","v":14},{"$f":"IFERROR(IF($BS$21<>\"\",$BS$21,\"\"),\"\")","v":"Gitau Harrison Kithi"},{"$f":"IFERROR(IF($BT$21<>\"\",$BT$21,\"\"),\"\")","v":35267812},{"$f":"IFERROR(IF($BU$21<>\"\",$BU$21,\"\"),\"\")","v":739456712},null,null,null,null,null,null,null,null,null,null,null,null,null,null,null,null,null,null,null,null,null,null,null,null,null,null,null,null,null,null,null,null,0,0,null,0,150,22.5,0,150,null,-150,null,null,null,null,null,null,null,null,null,null,0,-2422.5,0]
[{"$f":"IFERROR(IF($BR$22<>\"\",$BR$22,\"\"),\"\")","v":""},{"$f":"IFERROR(IF($BS$22<>\"\",$BS$22,\"\"),\"\")","v":""},{"$f":"IFERROR(IF($BT$22<>\"\",$BT$22,\"\"),\"\")","v":""},{"$f":"IFERROR(IF($BU$22<>\"\",$BU$22,\"\"),\"\")","v":""},null,null,null,null,null,null,null,null,null,null,null,null,null,null,null,null,null,null,null,null,null,null,null,null,null,null,null,null,null,null,null,null,0,0,null,0,150,22.5,0,150,null,-150,null,null,null,null,null,null,null,null,null,null,0,-2422.5,0]
[{"$f":"IFERROR(IF($BR$23<>\"\",$BR$23,\"\"),\"\")","v":""},{"$f":"IFERROR(IF($BS$23<>\"\",$BS$23,\"\"),\"\")","v":""},{"$f":"IFERROR(IF($BT$23<>\"\",$BT$23,\"\"),\"\")","v":""},{"$f":"IFERROR(IF($BU$23<>\"\",$BU$23,\"\"),\"\")","v":""},null,null,null,null,null,null,null,null,null,null,null,null,null,null,null,null,null,null,null,null,null,null,null,null,null,null,null,null,null,null,null,null,0,0,null,0,150,22.5,0,150,null,-150,null,null,null,null,null,null,null,null,null,null,0,-2422.5,0]
[{"$f":"IFERROR(IF($BR$24<>\"\",$BR$24,\"\"),\"\")","v":""},{"$f":"IFERROR(IF($BS$24<>\"\",$BS$24,\"\"),\"\")","v":""},{"$f":"IFERROR(IF($BT$24<>\"\",$BT$24,\"\"),\"\")","v":""},{"$f":"IFERROR(IF($BU$24<>\"\",$BU$24,\"\"),\"\")","v":""},null,null,null,null,null,null,null,null,null,null,null,null,null,null,null,null,null,null,null,null,null,null,null,null,null,null,null,null,null,null,null,null,0,0,null,0,150,22.5,0,150,null,-150,null,null,null,null,null,null,null,null,null,null,0,-2422.5,0]
[{"$f":"IFERROR(IF($BR$25<>\"\",$BR$25,\"\"),\"\")","v":""},{"$f":"IFERROR(IF($BS$25<>\"\",$BS$25,\"\"),\"\")","v":""},{"$f":"IFERROR(IF($BT$25<>\"\",$BT$25,\"\"),\"\")","v":""},{"$f":"IFERROR(IF($BU$25<>\"\",$BU$25,\"\"),\"\")","v":""},null,null,null,null,null,null,null,null,null,null,null,null,null,null,null,null,null,null,null,null,null,null,null,null,null,null,null,null,null,null,null,null,0,0,null,0,150,22.5,0,150,null,-150,null,null,null,null,null,null,null,null,null,null,0,-2422.5,0]
[{"$f":"IFERROR(IF($BR$26<>\"\",$BR$26,\"\"),\"\")","v":""},{"$f":"IFERROR(IF($BS$26<>\"\",$BS$26,\"\"),\"\")","v":""},{"$f":"IFERROR(IF($BT$26<>\"\",$BT$26,\"\"),\"\")","v":""},{"$f":"IFERROR(IF($BU$26<>\"\",$BU$26,\"\"),\"\")","v":""},null,null,null,null,null,null,null,null,null,null,null,null,null,null,null,null,null,null,null,null,null,null,null,null,null,null,null,null,null,null,null,null,0,0,null,0,150,22.5,0,150,null,-150,null,null,null,null,null,null,null,null,null,null,0,-2422.5,0]
[{"$f":"IFERROR(IF($BR$27<>\"\",$BR$27,\"\"),\"\")","v":""},{"$f":"IFERROR(IF($BS$27<>\"\",$BS$27,\"\"),\"\")","v":""},{"$f":"IFERROR(IF($BT$27<>\"\",$BT$27,\"\"),\"\")","v":""},{"$f":"IFERROR(IF($BU$27<>\"\",$BU$27,\"\"),\"\")","v":""},null,null,null,null,null,null,null,null,null,null,null,null,null,null,null,null,null,null,null,null,null,null,null,null,null,null,null,null,null,null,null,null,0,0,null,0,150,22.5,0,150,null,-150,null,null,null,null,null,null,null,null,null,null,0,-2422.5,0]
[{"$f":"IFERROR(IF($BR$28<>\"\",$BR$28,\"\"),\"\")","v":""},{"$f":"IFERROR(IF($BS$28<>\"\",$BS$28,\"\"),\"\")","v":""},{"$f":"IFERROR(IF($BT$28<>\"\",$BT$28,\"\"),\"\")","v":""},{"$f":"IFERROR(IF($BU$28<>\"\",$BU$28,\"\"),\"\")","v":""},null,null,null,null,null,null,null,null,null,null,null,null,null,null,null,null,null,null,null,null,null,null,null,null,null,null,null,null,null,null,null,null,0,0,null,0,150,22.5,0,150,null,-150,null,null,null,null,null,null,null,null,null,null,0,-2422.5,0]
[{"$f":"IFERROR(IF($BR$29<>\"\",$BR$29,\"\"),\"\")","v":""},{"$f":"IFERROR(IF($BS$29<>\"\",$BS$29,\"\"),\"\")","v":""},{"$f":"IFERROR(IF($BT$29<>\"\",$BT$29,\"\"),\"\")","v":""},{"$f":"IFERROR(IF($BU$29<>\"\",$BU$29,\"\"),\"\")","v":""},null,null,null,null,null,null,null,null,null,null,null,null,null,null,null,null,null,null,null,null,null,null,null,null,null,null,null,null,null,null,null,null,0,0,null,0,150,22.5,0,150,null,-150,null,null,null,null,null,null,null,null,null,null,0,-2422.5,0]
[{"$f":"IFERROR(IF($BR$30<>\"\",$BR$30,\"\"),\"\")","v":""},{"$f":"IFERROR(IF($BS$30<>\"\",$BS$30,\"\"),\"\")","v":""},{"$f":"IFERROR(IF($BT$30<>\"\",$BT$30,\"\"),\"\")","v":""},{"$f":"IFERROR(IF($BU$30<>\"\",$BU$30,\"\"),\"\")","v":""},null,null,null,null,null,null,null,null,null,null,null,null,null,null,null,null,null,null,null,null,null,null,null,null,null,null,null,null,null,null,null,null,0,0,null,0,150,22.5,0,150,null,-150,null,null,null,null,null,null,null,null,null,null,0,-2422.5,0]
[{"$f":"IFERROR(IF($BR$31<>\"\",$BR$31,\"\"),\"\")","v":""},{"$f":"IFERROR(IF($BS$31<>\"\",$BS$31,\"\"),\"\")","v":""},{"$f":"IFERROR(IF($BT$31<>\"\",$BT$31,\"\"),\"\")","v":""},{"$f":"IFERROR(IF($BU$31<>\"\",$BU$31,\"\"),\"\")","v":""},null,null,null,null,null,null,null,null,null,null,null,null,null,null,null,null,null,null,null,null,null,null,null,null,null,null,null,null,null,null,null,null,0,0,null,0,150,22.5,0,150,null,-150,null,null,null,null,null,null,null,null,null,null,0,-2422.5,0]
[{"$f":"IFERROR(IF($BR$32<>\"\",$BR$32,\"\"),\"\")","v":""},{"$f":"IFERROR(IF($BS$32<>\"\",$BS$32,\"\"),\"\")","v":""},{"$f":"IFERROR(IF($BT$32<>\"\",$BT$32,\"\"),\"\")","v":""},{"$f":"IFERROR(IF($BU$32<>\"\",$BU$32,\"\"),\"\")","v":""},null,null,null,null,null,null,null,null,null,null,null,null,null,null,null,null,null,null,null,null,null,null,null,null,null,null,null,null,null,null,null,null,0,0,null,0,150,22.5,0,150,null,-150,null,null,null,null,null,null,null,null,null,null,0,-2422.5,0]
["TOTAL",null,null,null,null,null,null,null,null,null,null,null,null,null,null,null,null,null,null,null,null,null,null,null,null,null,null,null,null,null,null,null,null,null,null,null,null,{"$f":"SUM(AL42:AL66)","v":0},{"$f":"SUM(AM42:AM66)","v":0},0,{"$f":"SUM(AO42:AO66)","v":3750},562.5,0,3750,0,-3750,0,0,0]
[]
[]
[]
[]
[]
[]
["March"]
["EMP NO:","NAMES","ID NO","PHONE NO.","RATE",1,2,3,4,5,6,7,8,9,10,11,12,13,14,15,16,17,18,19,20,21,22,23,24,25,26,27,28,29,30,31,"TOTAL  DAYS","BASIC PAY","ADVANCE","PAYEE","NHIF","NHIF RELIEF","NSSF","TOTAL-D","LOAN REPAYMENT","NET PAYABLE","LEAVE DAYS","PAID END MONTH","NITA",null,null,null,null,null,null,null,"Basic Salary for Paye"]
[{"$f":"IFERROR(IF($BR$8<>\"\",$BR$8,\"\"),\"\")","v":1},{"$f":"IFERROR(IF($BS$8<>\"\",$BS$8,\"\"),\"\")","v":"Brian Kombe Gode"},{"$f":"IFERROR(IF($BT$8<>\"\",$BT$8,\"\"),\"\")","v":334567890},{"$f":"IFERROR(IF($BU$8<>\"\",$BU$8,\"\"),\"\")","v":7896543},null,null,null,null,null,null,null,null,null,null,null,null,null,null,null,null,null,null,null,null,null,null,null,null,null,null,null,null,null,null,null,null,{"$f":"IFERROR(SUM(F76:AJ76)+AU76,0)","v":0},{"$f":"IFERROR(E76*AK76,0)","v":0},null,{"$f":"BG76","v":0},{"$f":"IFERROR(VLOOKUP(AL76,$BH$24:$BI$40,2,TRUE),0)","v":150},{"$f":"AO76*0.15","v":22.5},{"$f":"IF(AL76>=18000,1080,AL76*0.06)","v":0},{"$f":"IFERROR(AO76+AQ76,0)","v":150},null,{"$f":"AL76-AM76-AN76-AO76-AQ76-AS76","v":-150},null,null,null,null,null,null,null,null,null,null,{"$f":"AL76-AQ76","v":0},{"$f":"(IFERROR(IF((BE76-$BH$10)>1,$BH$10*$BI$10,0)+IF((BE76-$BH$10)>$BH$11,$BH$11*$BI$11,IF(AND((BE76-$BH$10)<$BH$11,(BE76-$BH$10)>0),((BE76-$BH$10)/$BH$11*($BH$11*$BI$11)),0))+IF((BE76-$BH$10-$BH$11)>$BH$12,(BE76-$BH$12)*$BI$12,IF(AND((BE76-$BH$10-$BH$11)<$BH$12,(BE76-$BH$10-$BH$11)>0),((BE76-$BH$10-$BH$11)/$BH$12*($BH$12*$BI$12)),0)),0))-2400-AP76","v":-2422.5},{"$f":"IFERROR(IF(BF76<=0,0,BF76),0)","v":0}]
[{"$f":"IFERROR(IF($BR$9<>\"\",$BR$9,\"\"),\"\")","v":2},{"$f":"IFERROR(IF($BS$9<>\"\",$BS$9,\"\"),\"\")","v":"Timothy Brian Odongo"},{"$f":"IFERROR(IF($BT$9<>\"\",$BT$9,\"\"),\"\")","v":2345671},{"$f":"IFERROR(IF($BU$9<>\"\",$BU$9,\"\"),\"\")","v":737456712},null,null,null,null,null,null,null,null,null,null,null,null,null,null,null,null,null,null,null,null,null,null,null,null,null,null,null,null,null,null,null,null,{"$f":"IFERROR(SUM(F77:AJ77)+AU77,0)","v":0},{"$f":"IFERROR(E77*AK77,0)","v":0},null,{"$f":"BG77","v":0},150,{"$f":"AO77*0.15","v":22.5},{"$f":"IF(AL77>=18000,1080,AL77*0.06)","v":0},{"$f":"IFERROR(AO77+AQ77,0)","v":150},null,{"$f":"AL77-AM77-AN77-AO77-AQ77","v":-150},null,null,null,null,null,null,null,null,null,null,0,-2422.5,{"$f":"IFERROR(IF(BF77<=0,0,BF77),0)","v":0}]
[{"$f":"IFERROR(IF($BR$10<>\"\",$BR$10,\"\"),\"\")","v":3},{"$f":"IFERROR(IF($BS$10<>\"\",$BS$10,\"\"),\"\")","v":"Bshora Wayu Nzamo"},{"$f":"IFERROR(IF($BT$10<>\"\",$BT$10,\"\"),\"\")","v":29675430},{"$f":"IFERROR(IF($BU$10<>\"\",$BU$10,\"\"),\"\")","v":734567820},null,null,null,null,null,null,null,null,null,null,null,null,null,null,null,null,null,null,null,null,null,null,null,null,null,null,null,null,null,null,null,null,0,0,null,0,150,22.5,0,150,null,-150,null,null,null,null,null,null,null,null,null,null,0,-2422.5,0]
[{"$f":"IFERROR(IF($BR$11<>\"\",$BR$11,\"\"),\"\")","v":4},{"$f":"IFERROR(IF($BS$11<>\"\",$BS$11,\"\"),\"\")","v":"Wanyoni Agala Musando"},{"$f":"IFERROR(IF($BT$11<>\"\",$BT$11,\"\"),\"\")","v":33456789},{"$f":"IFERROR(IF($BU$11<>\"\",$BU$11,\"\"),\"\")","v":786543221},null,null,null,null,null,null,null,null,null,null,null,null,null,null,null,null,null,null,null,null,null,null,null,null,null,null,null,null,null,null,null,null,0,0,null,0,150,22.5,0,150,null,-150,null,null,null,null,null,null,null,null,null,null,0,-2422.5,0]
[{"$f":"IFERROR(IF($BR$12<>\"\",$BR$12,\"\"),\"\")","v":5},{"$f":"IFERROR(IF($BS$12<>\"\",$BS$12,\"\"),\"\")","v":"Benerd Kimani Njorioge"},{"$f":"IFERROR(IF($BT$12<>\"\",$BT$12,\"\"),\"\")","v":30456789},{"$f":"IFERROR(IF($BU$12<>\"\",$BU$12,\"\"),\"\")","v":789654321},null,null,null,null,null,null,null,null,null,null,null,null,null,null,null,null,null,null,null,null,null,null,null,null,null,null,null,null,null,null,null,null,0,0,null,0,150,22.5,0,150,null,-150,null,null,null,null,null,null,null,null,null,null,0,-2422.5,0]
[{"$f":"IFERROR(IF($BR$13<>\"\",$BR$13,\"\"),\"\")","v":6},{"$f":"IFERROR(IF($BS$13<>\"\",$BS$13,\"\"),\"\")","v":"Sam Jacob Mroki"},{"$f":"IFERROR(IF($BT$13<>\"\",$BT$13,\"\"),\"\")","v":31567823},{"$f":"IFERROR(IF($BU$13<>\"\",$BU$13,\"\"),\"\")","v":768942345},null,null,null,null,null,null,null,null,null,null,null,null,null,null,null,null,null,null,null,null,null,null,null,null,null,null,null,null,null,null,null,null,0,0,null,0,150,22.5,0,150,null,-150,null,null,null,null,null,null,null,null,null,null,0,-2422.5,0]
[{"$f":"IFERROR(IF($BR$14<>\"\",$BR$14,\"\"),\"\")","v":7},{"$f":"IFERROR(IF($BS$14<>\"\",$BS$14,\"\"),\"\")","v":"Joy Mueni Mutinda"},{"$f":"IFERROR(IF($BT$14<>\"\",$BT$14,\"\"),\"\")","v":32897938},{"$f":"IFERROR(IF($BU$14<>\"\",$BU$14,\"\"),\"\")","v":723456765},null,null,null,null,null,null,null,null,null,null,null,null,null,null,null,null,null,null,null,null,null,null,null,null,null,null,null,null,null,null,null,null,0,0,null,0,150,22.5,0,150,null,-150,null,null,null,null,null,null,null,null,null,null,0,-2422.5,0]
[{"$f":"IFERROR(IF($BR$15<>\"\",$BR$15,\"\"),\"\")","v":8},{"$f":"IFERROR(IF($BS$15<>\"\",$BS$15,\"\"),\"\")","v":"Kahindi Mwero Boga"},{"$f":"IFERROR(IF($BT$15<>\"\",$BT$15,\"\"),\"\")","v":2934567},{"$f":"IFERROR(IF($BU$15<>\"\",$BU$15,\"\"),\"\")","v":798654312},null,null,null,null,null,null,null,null,null,null,null,null,null,null,null,null,null,null,null,null,null,null,null,null,null,null,null,null,null,null,null,null,0,0,null,0,150,22.5,0,150,null,-150,null,null,null,null,null,null,null,null,null,null,0,-2422.5,0]
[{"$f":"IFERROR(IF($BR$16<>\"\",$BR$16,\"\"),\"\")","v":9},{"$f":"IFERROR(IF($BS$16<>\"\",$BS$16,\"\"),\"\")","v":"John Boscco Bosire"},{"$f":"IFERROR(IF($BT$16<>\"\",$BT$16,\"\"),\"\")","v":98347897},{"$f":"IFERROR(IF($BU$16<>\"\",$BU$16,\"\"),\"\")","v":734567128},null,null,null,null,null,null,null,null,null,null,null,null,null,null,null,null,null,null,null,null,null,null,null,null,null,null,null,null,null,null,null,null,0,0,null,0,150,22.5,0,150,null,-150,null,null,null,null,null,null,null,null,null,null,0,-2422.5,0]
[{"$f":"IFERROR(IF($BR$17<>\"\",$BR$17,\"\"),\"\")","v":10},{"$f":"IFERROR(IF($BS$17<>\"\",$BS$17,\"\"),\"\")","v":"Hassan Abdulnasir Wario"},{"$f":"IFERROR(IF($BT$17<>\"\",$BT$17,\"\"),\"\")","v":2156789},{"$f":"IFERROR(IF($BU$17<>\"\",$BU$17,\"\"),\"\")","v":731256789},null,null,null,null,null,null,null,null,null,null,null,null,null,null,null,null,null,null,null,null,null,null,null,null,null,null,null,null,null,null,null,null,0,0,null,0,150,22.5,0,150,null,-150,null,null,null,null,null,null,null,null,null,null,0,-2422.5,0]
[{"$f":"IFERROR(IF($BR$18<>\"\",$BR$18,\"\"),\"\")","v":11},{"$f":"IFERROR(IF($BS$18<>\"\",$BS$18,\"\"),\"\")","v":"Jastine Makemba Batogo"},{"$f":"IFERROR(IF($BT$18<>\"\",$BT$18,\"\"),\"\")","v":34567890},{"$f":"IFERROR(IF($BU$18<>\"\",$BU$18,\"\"),\"\")","v":786885432},null,null,null,null,null,null,null,null,null,null,null,null,null,null,null,null,null,null,null,null,null,null,null,null,null,null,null,null,null,null,null,null,0,0,null,0,150,22.5,0,150,null,-150,null,null,null,null,null,null,null,null,null,null,0,-2422.5,0]
[{"$f":"IFERROR(IF($BR$19<>\"\",$BR$19,\"\"),\"\")","v":12},{"$f":"IFERROR(IF($BS$19<>\"\",$BS$19,\"\"),\"\")","v":"Janet Wairimu Wamatagi"},{"$f":"IFERROR(IF($BT$19<>\"\",$BT$19,\"\"),\"\")","v":35678910},{"$f":"IFERROR(IF($BU$19<>\"\",$BU$19,\"\"),\"\")","v":745683412},null,null,null,null,null,null,null,null,null,null,null,null,null,null,null,null,null,null,null,null,null,null,null,null,null,null,null,null,null,null,null,null,0,0,null,0,150,22.5,0,150,null,-150,null,null,null,null,null,null,null,null,null,null,0,-2422.5,0]
[{"$f":"IFERROR(IF($BR$20<>\"\",$BR$20,\"\"),\"\")","v":13},{"$f":"IFERROR(IF($BS$20<>\"\",$BS$20,\"\"),\"\")","v":"Denis Brian Ochola"},{"$f":"IFERROR(IF($BT$20<>\"\",$BT$20,\"\"),\"\")","v":34567812},{"$f":"IFERROR(IF($BU$20<>\"\",$BU$20,\"\"),\"\")","v":798345675},null,null,null,null,null,null,null,null,null,null,null,null,null,null,null,null,null,null,null,null,null,null,null,null,null,null,null,null,null,null,null,null,0,0,null,0,150,22.5,0,150,null,-150,null,null,null,null,null,null,null,null,null,null,0,-2422.5,0]
[{"$f":"IFERROR(IF($BR$21<>\"\",$BR$21,\"\"),\"\")","v":14},{"$f":"IFERROR(IF($BS$21<>\"\",$BS$21,\"\"),\"\")","v":"Gitau Harrison Kithi"},{"$f":"IFERROR(IF($BT$21<>\"\",$BT$21,\"\"),\"\")","v":35267812},{"$f":"IFERROR(IF($BU$21<>\"\",$BU$21,\"\"),\"\")","v":739456712},null,null,null,null,null,null,null,null,null,null,null,null,null,null,null,null,null,null,null,null,null,null,null,null,null,null,null,null,null,null,null,null,0,0,null,0,150,22.5,0,150,null,-150,null,null,null,null,null,null,null,null,null,null,0,-2422.5,0]
[{"$f":"IFERROR(IF($BR$22<>\"\",$BR$22,\"\"),\"\")","v":""},{"$f":"IFERROR(IF($BS$22<>\"\",$BS$22,\"\"),\"\")","v":""},{"$f":"IFERROR(IF($BT$22<>\"\",$BT$22,\"\"),\"\")","v":""},{"$f":"IFERROR(IF($BU$22<>\"\",$BU$22,\"\"),\"\")","v":""},null,null,null,null,null,null,null,null,null,null,null,null,null,null,null,null,null,null,null,null,null,null,null,null,null,null,null,null,null,null,null,null,0,0,null,0,150,22.5,0,150,null,-150,null,null,null,null,null,null,null,null,null,null,0,-2422.5,0]
[{"$f":"IFERROR(IF($BR$23<>\"\",$BR$23,\"\"),\"\")","v":""},{"$f":"IFERROR(IF($BS$23<>\"\",$BS$23,\"\"),\"\")","v":""},{"$f":"IFERROR(IF($BT$23<>\"\",$BT$23,\"\"),\"\")","v":""},{"$f":"IFERROR(IF($BU$23<>\"\",$BU$23,\"\"),\"\")","v":""},null,null,null,null,null,null,null,null,null,null,null,null,null,null,null,null,null,null,null,null,null,null,null,null,null,null,null,null,null,null,null,null,0,0,null,0,150,22.5,0,150,null,-150,null,null,null,null,null,null,null,null,null,null,0,-2422.5,0]
[{"$f":"IFERROR(IF($BR$24<>\"\",$BR$24,\"\"),\"\")","v":""},{"$f":"IFERROR(IF($BS$24<>\"\",$BS$24,\"\"),\"\")","v":""},{"$f":"IFERROR(IF($BT$24<>\"\",$BT$24,\"\"),\"\")","v":""},{"$f":"IFERROR(IF($BU$24<>\"\",$BU$24,\"\"),\"\")","v":""},null,null,null,null,null,null,null,null,null,null,null,null,null,null,null,null,null,null,null,null,null,null,null,null,null,null,null,null,null,null,null,null,0,0,null,0,150,22.5,0,150,null,-150,null,null,null,null,null,null,null,null,null,null,0,-2422.5,0]
[{"$f":"IFERROR(IF($BR$25<>\"\",$BR$25,\"\"),\"\")","v":""},{"$f":"IFERROR(IF($BS$25<>\"\",$BS$25,\"\"),\"\")","v":""},{"$f":"IFERROR(IF($BT$25<>\"\",$BT$25,\"\"),\"\")","v":""},{"$f":"IFERROR(IF($BU$25<>\"\",$BU$25,\"\"),\"\")","v":""},null,null,null,null,null,null,null,null,null,null,null,null,null,null,null,null,null,null,null,null,null,null,null,null,null,null,null,null,null,null,null,null,0,0,null,0,150,22.5,0,150,null,-150,null,null,null,null,null,null,null,null,null,null,0,-2422.5,0]
[{"$f":"IFERROR(IF($BR$26<>\"\",$BR$26,\"\"),\"\")","v":""},{"$f":"IFERROR(IF($BS$26<>\"\",$BS$26,\"\"),\"\")","v":""},{"$f":"IFERROR(IF($BT$26<>\"\",$BT$26,\"\"),\"\")","v":""},{"$f":"IFERROR(IF($BU$26<>\"\",$BU$26,\"\"),\"\")","v":""},null,null,null,null,null,null,null,null,null,null,null,null,null,null,null,null,null,null,null,null,null,null,null,null,null,null,null,null,null,null,null,null,0,0,null,0,150,22.5,0,150,null,-150,null,null,null,null,null,null,null,null,null,null,0,-2422.5,0]
[{"$f":"IFERROR(IF($BR$27<>\"\",$BR$27,\"\"),\"\")","v":""},{"$f":"IFERROR(IF($BS$27<>\"\",$BS$27,\"\"),\"\")","v":""},{"$f":"IFERROR(IF($BT$27<>\"\",$BT$27,\"\"),\"\")","v":""},{"$f":"IFERROR(IF($BU$27<>\"\",$BU$27,\"\"),\"\")","v":""},null,null,null,null,null,null,null,null,null,null,null,null,null,null,null,null,null,null,null,null,null,null,null,null,null,null,null,null,null,null,null,null,0,0,null,0,150,22.5,0,150,null,-150,null,null,null,null,null,null,null,null,null,null,0,-2422.5,0]
[{"$f":"IFERROR(IF($BR$28<>\"\",$BR$28,\"\"),\"\")","v":""},{"$f":"IFERROR(IF($BS$28<>\"\",$BS$28,\"\"),\"\")","v":""},{"$f":"IFERROR(IF($BT$28<>\"\",$BT$28,\"\"),\"\")","v":""},{"$f":"IFERROR(IF($BU$28<>\"\",$BU$28,\"\"),\"\")","v":""},null,null,null,null,null,null,null,null,null,null,null,null,null,null,null,null,null,null,null,null,null,null,null,null,null,null,null,null,null,null,null,null,0,0,null,0,150,22.5,0,150,null,-150,null,null,null,null,null,null,null,null,null,null,0,-2422.5,0]
[{"$f":"IFERROR(IF($BR$29<>\"\",$BR$29,\"\"),\"\")","v":""},{"$f":"IFERROR(IF($BS$29<>\"\",$BS$29,\"\"),\"\")","v":""},{"$f":"IFERROR(IF($BT$29<>\"\",$BT$29,\"\"),\"\")","v":""},{"$f":"IFERROR(IF($BU$29<>\"\",$BU$29,\"\"),\"\")","v":""},null,null,null,null,null,null,null,null,null,null,null,null,null,null,null,null,null,null,null,null,null,null,null,null,null,null,null,null,null,null,null,null,0,0,null,0,150,22.5,0,150,null,-150,null,null,null,null,null,null,null,null,null,null,0,-2422.5,0]
[{"$f":"IFERROR(IF($BR$30<>\"\",$BR$30,\"\"),\"\")","v":""},{"$f":"IFERROR(IF($BS$30<>\"\",$BS$30,\"\"),\"\")","v":""},{"$f":"IFERROR(IF($BT$30<>\"\",$BT$30,\"\"),\"\")","v":""},{"$f":"IFERROR(IF($BU$30<>\"\",$BU$30,\"\"),\"\")","v":""},null,null,null,null,null,null,null,null,null,null,null,null,null,null,null,null,null,null,null,null,null,null,null,null,null,null,null,null,null,null,null,null,0,0,null,0,150,22.5,0,150,null,-150,null,null,null,null,null,null,null,null,null,null,0,-2422.5,0]
[{"$f":"IFERROR(IF($BR$31<>\"\",$BR$31,\"\"),\"\")","v":""},{"$f":"IFERROR(IF($BS$31<>\"\",$BS$31,\"\"),\"\")","v":""},{"$f":"IFERROR(IF($BT$31<>\"\",$BT$31,\"\"),\"\")","v":""},{"$f":"IFERROR(IF($BU$31<>\"\",$BU$31,\"\"),\"\")","v":""},null,null,null,null,null,null,null,null,null,null,null,null,null,null,null,null,null,null,null,null,null,null,null,null,null,null,null,null,null,null,null,null,0,0,null,0,150,22.5,0,150,null,-150,null,null,null,null,null,null,null,null,null,null,0,-2422.5,0]
[{"$f":"IFERROR(IF($BR$32<>\"\",$BR$32,\"\"),\"\")","v":""},{"$f":"IFERROR(IF($BS$32<>\"\",$BS$32,\"\"),\"\")","v":""},{"$f":"IFERROR(IF($BT$32<>\"\",$BT$32,\"\"),\"\")","v":""},{"$f":"IFERROR(IF($BU$32<>\"\",$BU$32,\"\"),\"\")","v":""},null,null,null,null,null,null,null,null,null,null,null,null,null,null,null,null,null,null,null,null,null,null,null,null,null,null,null,null,null,null,null,null,0,0,null,0,150,22.5,0,150,null,-150,null,null,null,null,null,null,null,null,null,null,0,-2422.5,0]
["TOTAL",null,null,null,null,null,null,null,null,null,null,null,null,null,null,null,null,null,null,null,null,null,null,null,null,null,null,null,null,null,null,null,null,null,null,null,null,{"$f":"SUM(AL76:AL100)","v":0},{"$f":"SUM(AM76:AM100)","v":0},0,3750,562.5,0,3750,0,-3750,0,0,0]
[]
[]
[]
[]
[]
[]
["April"]
["EMP NO:","NAMES","ID NO","PHONE NO.","RATE",1,2,3,4,5,6,7,8,9,10,11,12,13,14,15,16,17,18,19,20,21,22,23,24,25,26,27,28,29,30,31,"TOTAL  DAYS","BASIC PAY","ADVANCE","PAYEE","NHIF","NHIF RELIEF","NSSF","TOTAL-D","LOAN REPAYMENT","NET PAYABLE","LEAVE DAYS","PAID END MONTH","NITA",null,null,null,null,null,null,null,"Basic Salary for Paye"]
[{"$f":"IFERROR(IF($BR$8<>\"\",$BR$8,\"\"),\"\")","v":1},{"$f":"IFERROR(IF($BS$8<>\"\",$BS$8,\"\"),\"\")","v":"Brian Kombe Gode"},{"$f":"IFERROR(IF($BT$8<>\"\",$BT$8,\"\"),\"\")","v":334567890},{"$f":"IFERROR(IF($BU$8<>\"\",$BU$8,\"\"),\"\")","v":7896543},null,null,null,null,null,null,null,null,null,null,null,null,null,null,null,null,null,null,null,null,null,null,null,null,null,null,null,null,null,null,null,null,{"$f":"IFERROR(SUM(F110:AJ110)+AU110,0)","v":0},{"$f":"IFERROR(E110*AK110,0)","v":0},null,{"$f":"BG110","v":0},{"$f":"IFERROR(VLOOKUP(AL110,$BH$24:$BI$40,2,TRUE),0)","v":150},{"$f":"AO110*0.15","v":22.5},{"$f":"IF(AL110>=18000,1080,AL110*0.06)","v":0},{"$f":"IFERROR(AO110+AQ110,0)","v":150},null,{"$f":"AL110-AM110-AN110-AO110-AQ110-AS110","v":-150},null,null,null,null,null,null,null,null,null,null,{"$f":"AL110-AQ110","v":0},{"$f":"(IFERROR(IF((BE110-$BH$10)>1,$BH$10*$BI$10,0)+IF((BE110-$BH$10)>$BH$11,$BH$11*$BI$11,IF(AND((BE110-$BH$10)<$BH$11,(BE110-$BH$10)>0),((BE110-$BH$10)/$BH$11*($BH$11*$BI$11)),0))+IF((BE110-$BH$10-$BH$11)>$BH$12,(BE110-$BH$12)*$BI$12,IF(AND((BE110-$BH$10-$BH$11)<$BH$12,(BE110-$BH$10-$BH$11)>0),((BE110-$BH$10-$BH$11)/$BH$12*($BH$12*$BI$12)),0)),0))-2400-AP110","v":-2422.5},{"$f":"IFERROR(IF(BF110<=0,0,BF110),0)","v":0}]
[{"$f":"IFERROR(IF($BR$9<>\"\",$BR$9,\"\"),\"\")","v":2},{"$f":"IFERROR(IF($BS$9<>\"\",$BS$9,\"\"),\"\")","v":"Timothy Brian Odongo"},{"$f":"IFERROR(IF($BT$9<>\"\",$BT$9,\"\"),\"\")","v":2345671},{"$f":"IFERROR(IF($BU$9<>\"\",$BU$9,\"\"),\"\")","v":737456712},null,null,null,null,null,null,null,null,null,null,null,null,null,null,null,null,null,null,null,null,null,null,null,null,null,null,null,null,null,null,null,null,{"$f":"IFERROR(SUM(F111:AJ111)+AU111,0)","v":0},{"$f":"IFERROR(E111*AK111,0)","v":0},null,{"$f":"BG111","v":0},150,{"$f":"AO111*0.15","v":22.5},{"$f":"IF(AL111>=18000,1080,AL111*0.06)","v":0},{"$f":"IFERROR(AO111+AQ111,0)","v":150},null,{"$f":"AL111-AM111-AN111-AO111-AQ111","v":-150},null,null,null,null,null,null,null,null,null,null,0,-2422.5,{"$f":"IFERROR(IF(BF111<=0,0,BF111),0)","v":0}]
[{"$f":"IFERROR(IF($BR$10<>\"\",$BR$10,\"\"),\"\")","v":3},{"$f":"IFERROR(IF($BS$10<>\"\",$BS$10,\"\"),\"\")","v":"Bshora Wayu Nzamo"},{"$f":"IFERROR(IF($BT$10<>\"\",$BT$10,\"\"),\"\")","v":29675430},{"$f":"IFERROR(IF($BU$10<>\"\",$BU$10,\"\"),\"\")","v":734567820},null,null,null,null,null,null,null,null,null,null,null,null,null,null,null,null,null,null,null,null,null,null,null,null,null,null,null,null,null,null,null,null,0,0,null,0,150,22.5,0,150,null,-150,null,null,null,null,null,null,null,null,null,null,0,-2422.5,0]
[{"$f":"IFERROR(IF($BR$11<>\"\",$BR$11,\"\"),\"\")","v":4},{"$f":"IFERROR(IF($BS$11<>\"\",$BS$11,\"\"),\"\")","v":"Wanyoni Agala Musando"},{"$f":"IFERROR(IF($BT$11<>\"\",$BT$11,\"\"),\"\")","v":33456789},{"$f":"IFERROR(IF($BU$11<>\"\",$BU$11,\"\"),\"\")","v":786543221},null,null,null,null,null,null,null,null,null,null,null,null,null,null,null,null,null,null,null,null,null,null,null,null,null,null,null,null,null,null,null,null,0,0,null,0,150,22.5,0,150,null,-150,null,null,null,null,null,null,null,null,null,null,0,-2422.5,0]
[{"$f":"IFERROR(IF($BR$12<>\"\",$BR$12,\"\"),\"\")","v":5},{"$f":"IFERROR(IF($BS$12<>\"\",$BS$12,\"\"),\"\")","v":"Benerd Kimani Njorioge"},{"$f":"IFERROR(IF($BT$12<>\"\",$BT$12,\"\"),\"\")","v":30456789},{"$f":"IFERROR(IF($BU$12<>\"\",$BU$12,\"\"),\"\")","v":789654321},null,null,null,null,null,null,null,null,null,null,null,null,null,null,null,null,null,null,null,null,null,null,null,null,null,null,null,null,null,null,null,null,0,0,null,0,150,22.5,0,150,null,-150,null,null,null,null,null,null,null,null,null,null,0,-2422.5,0]
[{"$f":"IFERROR(IF($BR$13<>\"\",$BR$13,\"\"),\"\")","v":6},{"$f":"IFERROR(IF($BS$13<>\"\",$BS$13,\"\"),\"\")","v":"Sam Jacob Mroki"},{"$f":"IFERROR(IF($BT$13<>\"\",$BT$13,\"\"),\"\")","v":31567823},{"$f":"IFERROR(IF($BU$13<>\"\",$BU$13,\"\"),\"\")","v":768942345},null,null,null,null,null,null,null,null,null,null,null,null,null,null,null,null,null,null,null,null,null,null,null,null,null,null,null,null,null,null,null,null,0,0,null,0,150,22.5,0,150,null,-150,null,null,null,null,null,null,null,null,null,null,0,-2422.5,0]
[{"$f":"IFERROR(IF($BR$14<>\"\",$BR$14,\"\"),\"\")","v":7},{"$f":"IFERROR(IF($BS$14<>\"\",$BS$14,\"\"),\"\")","v":"Joy Mueni Mutinda"},{"$f":"IFERROR(IF($BT$14<>\"\",$BT$14,\"\"),\"\")","v":32897938},{"$f":"IFERROR(IF($BU$14<>\"\",$BU$14,\"\"),\"\")","v":723456765},null,null,null,null,null,null,null,null,null,null,null,null,null,null,null,null,null,null,null,null,null,null,null,null,null,null,null,null,null,null,null,null,0,0,null,0,150,22.5,0,150,null,-150,null,null,null,null,null,null,null,null,null,null,0,-2422.5,0]
[{"$f":"IFERROR(IF($BR$15<>\"\",$BR$15,\"\"),\"\")","v":8},{"$f":"IFERROR(IF($BS$15<>\"\",$BS$15,\"\"),\"\")","v":"Kahindi Mwero Boga"},{"$f":"IFERROR(IF($BT$15<>\"\",$BT$15,\"\"),\"\")","v":2934567},{"$f":"IFERROR(IF($BU$15<>\"\",$BU$15,\"\"),\"\")","v":798654312},null,null,null,null,null,null,null,null,null,null,null,null,null,null,null,null,null,null,null,null,null,null,null,null,null,null,null,null,null,null,null,null,0,0,null,0,150,22.5,0,150,null,-150,null,null,null,null,null,null,null,null,null,null,0,-2422.5,0]
[{"$f":"IFERROR(IF($BR$16<>\"\",$BR$16,\"\"),\"\")","v":9},{"$f":"IFERROR(IF($BS$16<>\"\",$BS$16,\"\"),\"\")","v":"John Boscco Bosire"},{"$f":"IFERROR(IF($BT$16<>\"\",$BT$16,\"\"),\"\")","v":98347897},{"$f":"IFERROR(IF($BU$16<>\"\",$BU$16,\"\"),\"\")","v":734567128},null,null,null,null,null,null,null,null,null,null,null,null,null,null,null,null,null,null,null,null,null,null,null,null,null,null,null,null,null,null,null,null,0,0,null,0,150,22.5,0,150,null,-150,null,null,null,null,null,null,null,null,null,null,0,-2422.5,0]
[{"$f":"IFERROR(IF($BR$17<>\"\",$BR$17,\"\"),\"\")","v":10},{"$f":"IFERROR(IF($BS$17<>\"\",$BS$17,\"\"),\"\")","v":"Hassan Abdulnasir Wario"},{"$f":"IFERROR(IF($BT$17<>\"\",$BT$17,\"\"),\"\")","v":2156789},{"$f":"IFERROR(IF($BU$17<>\"\",$BU$17,\"\"),\"\")","v":731256789},null,null,null,null,null,null,null,null,null,null,null,null,null,null,null,null,null,null,null,null,null,null,null,null,null,null,null,null,null,null,null,null,0,0,null,0,150,22.5,0,150,null,-150,null,null,null,null,null,null,null,null,null,null,0,-2422.5,0]
[{"$f":"IFERROR(IF($BR$18<>\"\",$BR$18,\"\"),\"\")","v":11},{"$f":"IFERROR(IF($BS$18<>\"\",$BS$18,\"\"),\"\")","v":"Jastine Makemba Batogo"},{"$f":"IFERROR(IF($BT$18<>\"\",$BT$18,\"\"),\"\")","v":34567890},{"$f":"IFERROR(IF($BU$18<>\"\",$BU$18,\"\"),\"\")","v":786885432},null,null,null,null,null,null,null,null,null,null,null,null,null,null,null,null,null,null,null,null,null,null,null,null,null,null,null,null,null,null,null,null,0,0,null,0,150,22.5,0,150,null,-150,null,null,null,null,null,null,null,null,null,null,0,-2422.5,0]
[{"$f":"IFERROR(IF($BR$19<>\"\",$BR$19,\"\"),\"\")","v":12},{"$f":"IFERROR(IF($BS$19<>\"\",$BS$19,\"\"),\"\")","v":"Janet Wairimu Wamatagi"},{"$f":"IFERROR(IF($BT$19<>\"\",$BT$19,\"\"),\"\")","v":35678910},{"$f":"IFERROR(IF($BU$19<>\"\",$BU$19,\"\"),\"\")","v":745683412},null,null,null,null,null,null,null,null,null,null,null,null,null,null,null,null,null,null,null,null,null,null,null,null,null,null,null,null,null,null,null,null,0,0,null,0,150,22.5,0,150,null,-150,null,null,null,null,null,null,null,null,null,null,0,-2422.5,0]
[{"$f":"IFERROR(IF($BR$20<>\"\",$BR$20,\"\"),\"\")","v":13},{"$f":"IFERROR(IF($BS$20<>\"\",$BS$20,\"\"),\"\")","v":"Denis Brian Ochola"},{"$f":"IFERROR(IF($BT$20<>\"\",$BT$20,\"\"),\"\")","v":34567812},{"$f":"IFERROR(IF($BU$20<>\"\",$BU$20,\"\"),\"\")","v":798345675},null,null,null,null,null,null,null,null,null,null,null,null,null,null,null,null,null,null,null,null,null,null,null,null,null,null,null,null,null,null,null,null,0,0,null,0,150,22.5,0,150,null,-150,null,null,null,null,null,null,null,null,null,null,0,-2422.5,0]
[{"$f":"IFERROR(IF($BR$21<>\"\",$BR$21,\"\"),\"\")","v":14},{"$f":"IFERROR(IF($BS$21<>\"\",$BS$21,\"\"),\"\")","v":"Gitau Harrison Kithi"},{"$f":"IFERROR(IF($BT$21<>\"\",$BT$21,\"\"),\"\")","v":35267812},{"$f":"IFERROR(IF($BU$21<>\"\",$BU$21,\"\"),\"\")","v":739456712},null,null,null,null,null,null,null,null,null,null,null,null,null,null,null,null,null,null,null,null,null,null,null,null,null,null,null,null,null,null,null,null,0,0,null,0,150,22.5,0,150,null,-150,null,null,null,null,null,null,null,null,null,null,0,-2422.5,0]
[{"$f":"IFERROR(IF($BR$22<>\"\",$BR$22,\"\"),\"\")","v":""},{"$f":"IFERROR(IF($BS$22<>\"\",$BS$22,\"\"),\"\")","v":""},{"$f":"IFERROR(IF($BT$22<>\"\",$BT$22,\"\"),\"\")","v":""},{"$f":"IFERROR(IF($BU$22<>\"\",$BU$22,\"\"),\"\")","v":""},null,null,null,null,null,null,null,null,null,null,null,null,null,null,null,null,null,null,null,null,null,null,null,null,null,null,null,null,null,null,null,null,0,0,null,0,150,22.5,0,150,null,-150,null,null,null,null,null,null,null,null,null,null,0,-2422.5,0]
[{"$f":"IFERROR(IF($BR$23<>\"\",$BR$23,\"\"),\"\")","v":""},{"$f":"IFERROR(IF($BS$23<>\"\",$BS$23,\"\"),\"\")","v":""},{"$f":"IFERROR(IF($BT$23<>\"\",$BT$23,\"\"),\"\")","v":""},{"$f":"IFERROR(IF($BU$23<>\"\",$BU$23,\"\"),\"\")","v":""},null,null,null,null,null,null,null,null,null,null,null,null,null,null,null,null,null,null,null,null,null,null,null,null,null,null,null,null,null,null,null,null,0,0,null,0,150,22.5,0,150,null,-150,null,null,null,null,null,null,null,null,null,null,0,-2422.5,0]
[{"$f":"IFERROR(IF($BR$24<>\"\",$BR$24,\"\"),\"\")","v":""},{"$f":"IFERROR(IF($BS$24<>\"\",$BS$24,\"\"),\"\")","v":""},{"$f":"IFERROR(IF($BT$24<>\"\",$BT$24,\"\"),\"\")","v":""},{"$f":"IFERROR(IF($BU$24<>\"\",$BU$24,\"\"),\"\")","v":""},null,null,null,null,null,null,null,null,null,null,null,null,null,null,null,null,null,null,null,null,null,null,null,null,null,null,null,null,null,null,null,null,0,0,null,0,150,22.5,0,150,null,-150,null,null,null,null,null,null,null,null,null,null,0,-2422.5,0]
[{"$f":"IFERROR(IF($BR$25<>\"\",$BR$25,\"\"),\"\")","v":""},{"$f":"IFERROR(IF($BS$25<>\"\",$BS$25,\"\"),\"\")","v":""},{"$f":"IFERROR(IF($BT$25<>\"\",$BT$25,\"\"),\"\")","v":""},{"$f":"IFERROR(IF($BU$25<>\"\",$BU$25,\"\"),\"\")","v":""},null,null,null,null,null,null,null,null,null,null,null,null,null,null,null,null,null,null,null,null,null,null,null,null,null,null,null,null,null,null,null,null,0,0,null,0,150,22.5,0,150,null,-150,null,null,null,null,null,null,null,null,null,null,0,-2422.5,0]
[{"$f":"IFERROR(IF($BR$26<>\"\",$BR$26,\"\"),\"\")","v":""},{"$f":"IFERROR(IF($BS$26<>\"\",$BS$26,\"\"),\"\")","v":""},{"$f":"IFERROR(IF($BT$26<>\"\",$BT$26,\"\"),\"\")","v":""},{"$f":"IFERROR(IF($BU$26<>\"\",$BU$26,\"\"),\"\")","v":""},null,null,null,null,null,null,null,null,null,null,null,null,null,null,null,null,null,null,null,null,null,null,null,null,null,null,null,null,null,null,null,null,0,0,null,0,150,22.5,0,150,null,-150,null,null,null,null,null,null,null,null,null,null,0,-2422.5,0]
[{"$f":"IFERROR(IF($BR$27<>\"\",$BR$27,\"\"),\"\")","v":""},{"$f":"IFERROR(IF($BS$27<>\"\",$BS$27,\"\"),\"\")","v":""},{"$f":"IFERROR(IF($BT$27<>\"\",$BT$27,\"\"),\"\")","v":""},{"$f":"IFERROR(IF($BU$27<>\"\",$BU$27,\"\"),\"\")","v":""},null,null,null,null,null,null,null,null,null,null,null,null,null,null,null,null,null,null,null,null,null,null,null,null,null,null,null,null,null,null,null,null,0,0,null,0,150,22.5,0,150,null,-150,null,null,null,null,null,null,null,null,null,null,0,-2422.5,0]
[{"$f":"IFERROR(IF($BR$28<>\"\",$BR$28,\"\"),\"\")","v":""},{"$f":"IFERROR(IF($BS$28<>\"\",$BS$28,\"\"),\"\")","v":""},{"$f":"IFERROR(IF($BT$28<>\"\",$BT$28,\"\"),\"\")","v":""},{"$f":"IFERROR(IF($BU$28<>\"\",$BU$28,\"\"),\"\")","v":""},null,null,null,null,null,null,null,null,null,null,null,null,null,null,null,null,null,null,null,null,null,null,null,null,null,null,null,null,null,null,null,null,0,0,null,0,150,22.5,0,150,null,-150,null,null,null,null,null,null,null,null,null,null,0,-2422.5,0]
[{"$f":"IFERROR(IF($BR$29<>\"\",$BR$29,\"\"),\"\")","v":""},{"$f":"IFERROR(IF($BS$29<>\"\",$BS$29,\"\"),\"\")","v":""},{"$f":"IFERROR(IF($BT$29<>\"\",$BT$29,\"\"),\"\")","v":""},{"$f":"IFERROR(IF($BU$29<>\"\",$BU$29,\"\"),\"\")","v":""},null,null,null,null,null,null,null,null,null,null,null,null,null,null,null,null,null,null,null,null,null,null,null,null,null,null,null,null,null,null,null,null,0,0,null,0,150,22.5,0,150,null,-150,null,null,null,null,null,null,null,null,null,null,0,-2422.5,0]
[{"$f":"IFERROR(IF($BR$30<>\"\",$BR$30,\"\"),\"\")","v":""},{"$f":"IFERROR(IF($BS$30<>\"\",$BS$30,\"\"),\"\")","v":""},{"$f":"IFERROR(IF($BT$30<>\"\",$BT$30,\"\"),\"\")","v":""},{"$f":"IFERROR(IF($BU$30<>\"\",$BU$30,\"\"),\"\")","v":""},null,null,null,null,null,null,null,null,null,null,null,null,null,null,null,null,null,null,null,null,null,null,null,null,null,null,null,null,null,null,null,null,0,0,null,0,150,22.5,0,150,null,-150,null,null,null,null,null,null,null,null,null,null,0,-2422.5,0]
[{"$f":"IFERROR(IF($BR$31<>\"\",$BR$31,\"\"),\"\")","v":""},{"$f":"IFERROR(IF($BS$31<>\"\",$BS$31,\"\"),\"\")","v":""},{"$f":"IFERROR(IF($BT$31<>\"\",$BT$31,\"\"),\"\")","v":""},{"$f":"IFERROR(IF($BU$31<>\"\",$BU$31,\"\"),\"\")","v":""},null,null,null,null,null,null,null,null,null,null,null,null,null,null,null,null,null,null,null,null,null,null,null,null,null,null,null,null,null,null,null,null,0,0,null,0,150,22.5,0,150,null,-150,null,null,null,null,null,null,null,null,null,null,0,-2422.5,0]
[{"$f":"IFERROR(IF($BR$32<>\"\",$BR$32,\"\"),\"\")","v":""},{"$f":"IFERROR(IF($BS$32<>\"\",$BS$32,\"\"),\"\")","v":""},{"$f":"IFERROR(IF($BT$32<>\"\",$BT$32,\"\"),\"\")","v":""},{"$f":"IFERROR(IF($BU$32<>\"\",$BU$32,\"\"),\"\")","v":""},null,null,null,null,null,null,null,null,null,null,null,null,null,null,null,null,null,null,null,null,null,null,null,null,null,null,null,null,null,null,null,null,0,0,null,0,150,22.5,0,150,null,-150,null,null,null,null,null,null,null,null,null,null,0,-2422.5,0]
["TOTAL",null,null,null,null,null,null,null,null,null,null,null,null,null,null,null,null,null,null,null,null,null,null,null,null,null,null,null,null,null,null,null,null,null,null,null,null,{"$f":"SUM(AL110:AL134)","v":0},{"$f":"SUM(AM110:AM134)","v":0},0,3750,562.5,0,3750,0,-3750,0,0,0]
[]
[]
[]
[]
[]
[]
["May"]
["EMP NO:","NAMES","ID NO","PHONE NO.","RATE",1,2,3,4,5,6,7,8,9,10,11,12,13,14,15,16,17,18,19,20,21,22,23,24,25,26,27,28,29,30,31,"TOTAL  DAYS","BASIC PAY","ADVANCE","PAYEE","NHIF","NHIF RELIEF","NSSF","TOTAL-D","LOAN REPAYMENT","NET PAYABLE","LEAVE DAYS","PAID END MONTH","NITA",null,null,null,null,null,null,null,"Basic Salary for Paye"]
[{"$f":"IFERROR(IF($BR$8<>\"\",$BR$8,\"\"),\"\")","v":1},{"$f":"IFERROR(IF($BS$8<>\"\",$BS$8,\"\"),\"\")","v":"Brian Kombe Gode"},{"$f":"IFERROR(IF($BT$8<>\"\",$BT$8,\"\"),\"\")","v":334567890},{"$f":"IFERROR(IF($BU$8<>\"\",$BU$8,\"\"),\"\")","v":7896543},null,null,null,null,null,null,null,null,null,null,null,null,null,null,null,null,null,null,null,null,null,null,null,null,null,null,null,null,null,null,null,null,{"$f":"IFERROR(SUM(F144:AJ144)+AU144,0)","v":0},{"$f":"IFERROR(E144*AK144,0)","v":0},null,{"$f":"BG144","v":0},{"$f":"IFERROR(VLOOKUP(AL144,$BH$24:$BI$40,2,TRUE),0)","v":150},{"$f":"AO144*0.15","v":22.5},{"$f":"IF(AL144>=18000,1080,AL144*0.06)","v":0},{"$f":"IFERROR(AO144+AQ144,0)","v":150},null,{"$f":"AL144-AM144-AN144-AO144-AQ144-AS144","v":-150},null,null,null,null,null,null,null,null,null,null,{"$f":"AL144-AQ144","v":0},{"$f":"(IFERROR(IF((BE144-$BH$10)>1,$BH$10*$BI$10,0)+IF((BE144-$BH$10)>$BH$11,$BH$11*$BI$11,IF(AND((BE144-$BH$10)<$BH$11,(BE144-$BH$10)>0),((BE144-$BH$10)/$BH$11*($BH$11*$BI$11)),0))+IF((BE144-$BH$10-$BH$11)>$BH$12,(BE144-$BH$12)*$BI$12,IF(AND((BE144-$BH$10-$BH$11)<$BH$12,(BE144-$BH$10-$BH$11)>0),((BE144-$BH$10-$BH$11)/$BH$12*($BH$12*$BI$12)),0)),0))-2400-AP144","v":-2422.5},{"$f":"IFERROR(IF(BF144<=0,0,BF144),0)","v":0}]
[{"$f":"IFERROR(IF($BR$9<>\"\",$BR$9,\"\"),\"\")","v":2},{"$f":"IFERROR(IF($BS$9<>\"\",$BS$9,\"\"),\"\")","v":"Timothy Brian Odongo"},{"$f":"IFERROR(IF($BT$9<>\"\",$BT$9,\"\"),\"\")","v":2345671},{"$f":"IFERROR(IF($BU$9<>\"\",$BU$9,\"\"),\"\")","v":737456712},null,null,null,null,null,null,null,null,null,null,null,null,null,null,null,null,null,null,null,null,null,null,null,null,null,null,null,null,null,null,null,null,{"$f":"IFERROR(SUM(F145:AJ145)+AU145,0)","v":0},{"$f":"IFERROR(E145*AK145,0)","v":0},null,{"$f":"BG145","v":0},150,{"$f":"AO145*0.15","v":22.5},{"$f":"IF(AL145>=18000,1080,AL145*0.06)","v":0},{"$f":"IFERROR(AO145+AQ145,0)","v":150},null,{"$f":"AL145-AM145-AN145-AO145-AQ145","v":-150},null,null,null,null,null,null,null,null,null,null,0,-2422.5,{"$f":"IFERROR(IF(BF145<=0,0,BF145),0)","v":0}]
[{"$f":"IFERROR(IF($BR$10<>\"\",$BR$10,\"\"),\"\")","v":3},{"$f":"IFERROR(IF($BS$10<>\"\",$BS$10,\"\"),\"\")","v":"Bshora Wayu Nzamo"},{"$f":"IFERROR(IF($BT$10<>\"\",$BT$10,\"\"),\"\")","v":29675430},{"$f":"IFERROR(IF($BU$10<>\"\",$BU$10,\"\"),\"\")","v":734567820},null,null,null,null,null,null,null,null,null,null,null,null,null,null,null,null,null,null,null,null,null,null,null,null,null,null,null,null,null,null,null,null,0,0,null,0,150,22.5,0,150,null,-150,null,null,null,null,null,null,null,null,null,null,0,-2422.5,0]
[{"$f":"IFERROR(IF($BR$11<>\"\",$BR$11,\"\"),\"\")","v":4},{"$f":"IFERROR(IF($BS$11<>\"\",$BS$11,\"\"),\"\")","v":"Wanyoni Agala Musando"},{"$f":"IFERROR(IF($BT$11<>\"\",$BT$11,\"\"),\"\")","v":33456789},{"$f":"IFERROR(IF($BU$11<>\"\",$BU$11,\"\"),\"\")","v":786543221},null,null,null,null,null,null,null,null,null,null,null,null,null,null,null,null,null,null,null,null,null,null,null,null,null,null,null,null,null,null,null,null,0,0,null,0,150,22.5,0,150,null,-150,null,null,null,null,null,null,null,null,null,null,0,-2422.5,0]
[{"$f":"IFERROR(IF($BR$12<>\"\",$BR$12,\"\"),\"\")","v":5},{"$f":"IFERROR(IF($BS$12<>\"\",$BS$12,\"\"),\"\")","v":"Benerd Kimani Njorioge"},{"$f":"IFERROR(IF($BT$12<>\"\",$BT$12,\"\"),\"\")","v":30456789},{"$f":"IFERROR(IF($BU$12<>\"\",$BU$12,\"\"),\"\")","v":789654321},null,null,null,null,null,null,null,null,null,null,null,null,null,null,null,null,null,null,null,null,null,null,null,null,null,null,null,null,null,null,null,null,0,0,null,0,150,22.5,0,150,null,-150,null,null,null,null,null,null,null,null,null,null,0,-2422.5,0]
[{"$f":"IFERROR(IF($BR$13<>\"\",$BR$13,\"\"),\"\")","v":6},{"$f":"IFERROR(IF($BS$13<>\"\",$BS$13,\"\"),\"\")","v":"Sam Jacob Mroki"},{"$f":"IFERROR(IF($BT$13<>\"\",$BT$13,\"\"),\"\")","v":31567823},{"$f":"IFERROR(IF($BU$13<>\"\",$BU$13,\"\"),\"\")","v":768942345},null,null,null,null,null,null,null,null,null,null,null,null,null,null,null,null,null,null,null,null,null,null,null,null,null,null,null,null,null,null,null,null,0,0,null,0,150,22.5,0,150,null,-150,null,null,null,null,null,null,null,null,null,null,0,-2422.5,0]
[{"$f":"IFERROR(IF($BR$14<>\"\",$BR$14,\"\"),\"\")","v":7},{"$f":"IFERROR(IF($BS$14<>\"\",$BS$14,\"\"),\"\")","v":"Joy Mueni Mutinda"},{"$f":"IFERROR(IF($BT$14<>\"\",$BT$14,\"\"),\"\")","v":32897938},{"$f":"IFERROR(IF($BU$14<>\"\",$BU$14,\"\"),\"\")","v":723456765},null,null,null,null,null,null,null,null,null,null,null,null,null,null,null,null,null,null,null,null,null,null,null,null,null,null,null,null,null,null,null,null,0,0,null,0,150,22.5,0,150,null,-150,null,null,null,null,null,null,null,null,null,null,0,-2422.5,0]
[{"$f":"IFERROR(IF($BR$15<>\"\",$BR$15,\"\"),\"\")","v":8},{"$f":"IFERROR(IF($BS$15<>\"\",$BS$15,\"\"),\"\")","v":"Kahindi Mwero Boga"},{"$f":"IFERROR(IF($BT$15<>\"\",$BT$15,\"\"),\"\")","v":2934567},{"$f":"IFERROR(IF($BU$15<>\"\",$BU$15,\"\"),\"\")","v":798654312},null,null,null,null,null,null,null,null,null,null,null,null,null,null,null,null,null,null,null,null,null,null,null,null,null,null,null,null,null,null,null,null,0,0,null,0,150,22.5,0,150,null,-150,null,null,null,null,null,null,null,null,null,null,0,-2422.5,0]
[{"$f":"IFERROR(IF($BR$16<>\"\",$BR$16,\"\"),\"\")","v":9},{"$f":"IFERROR(IF($BS$16<>\"\",$BS$16,\"\"),\"\")","v":"John Boscco Bosire"},{"$f":"IFERROR(IF($BT$16<>\"\",$BT$16,\"\"),\"\")","v":98347897},{"$f":"IFERROR(IF($BU$16<>\"\",$BU$16,\"\"),\"\")","v":734567128},null,null,null,null,null,null,null,null,null,null,null,null,null,null,null,null,null,null,null,null,null,null,null,null,null,null,null,null,null,null,null,null,0,0,null,0,150,22.5,0,150,null,-150,null,null,null,null,null,null,null,null,null,null,0,-2422.5,0]
[{"$f":"IFERROR(IF($BR$17<>\"\",$BR$17,\"\"),\"\")","v":10},{"$f":"IFERROR(IF($BS$17<>\"\",$BS$17,\"\"),\"\")","v":"Hassan Abdulnasir Wario"},{"$f":"IFERROR(IF($BT$17<>\"\",$BT$17,\"\"),\"\")","v":2156789},{"$f":"IFERROR(IF($BU$17<>\"\",$BU$17,\"\"),\"\")","v":731256789},null,null,null,null,null,null,null,null,null,null,null,null,null,null,null,null,null,null,null,null,null,null,null,null,null,null,null,null,null,null,null,null,0,0,null,0,150,22.5,0,150,null,-150,null,null,null,null,null,null,null,null,null,null,0,-2422.5,0]
[{"$f":"IFERROR(IF($BR$18<>\"\",$BR$18,\"\"),\"\")","v":11},{"$f":"IFERROR(IF($BS$18<>\"\",$BS$18,\"\"),\"\")","v":"Jastine Makemba Batogo"},{"$f":"IFERROR(IF($BT$18<>\"\",$BT$18,\"\"),\"\")","v":34567890},{"$f":"IFERROR(IF($BU$18<>\"\",$BU$18,\"\"),\"\")","v":786885432},null,null,null,null,null,null,null,null,null,null,null,null,null,null,null,null,null,null,null,null,null,null,null,null,null,null,null,null,null,null,null,null,0,0,null,0,150,22.5,0,150,null,-150,null,null,null,null,null,null,null,null,null,null,0,-2422.5,0]
[{"$f":"IFERROR(IF($BR$19<>\"\",$BR$19,\"\"),\"\")","v":12},{"$f":"IFERROR(IF($BS$19<>\"\",$BS$19,\"\"),\"\")","v":"Janet Wairimu Wamatagi"},{"$f":"IFERROR(IF($BT$19<>\"\",$BT$19,\"\"),\"\")","v":35678910},{"$f":"IFERROR(IF($BU$19<>\"\",$BU$19,\"\"),\"\")","v":745683412},null,null,null,null,null,null,null,null,null,null,null,null,null,null,null,null,null,null,null,null,null,null,null,null,null,null,null,null,null,null,null,null,0,0,null,0,150,22.5,0,150,null,-150,null,null,null,null,null,null,null,null,null,null,0,-2422.5,0]
[{"$f":"IFERROR(IF($BR$20<>\"\",$BR$20,\"\"),\"\")","v":13},{"$f":"IFERROR(IF($BS$20<>\"\",$BS$20,\"\"),\"\")","v":"Denis Brian Ochola"},{"$f":"IFERROR(IF($BT$20<>\"\",$BT$20,\"\"),\"\")","v":34567812},{"$f":"IFERROR(IF($BU$20<>\"\",$BU$20,\"\"),\"\")","v":798345675},null,null,null,null,null,null,null,null,null,null,null,null,null,null,null,null,null,null,null,null,null,null,null,null,null,null,null,null,null,null,null,null,0,0,null,0,150,22.5,0,150,null,-150,null,null,null,null,null,null,null,null,null,null,0,-2422.5,0]
[{"$f":"IFERROR(IF($BR$21<>\"\",$BR$21,\"\"),\"\")","v":14},{"$f":"IFERROR(IF($BS$21<>\"\",$BS$21,\"\"),\"\")","v":"Gitau Harrison Kithi"},{"$f":"IFERROR(IF($BT$21<>\"\",$BT$21,\"\"),\"\")","v":35267812},{"$f":"IFERROR(IF($BU$21<>\"\",$BU$21,\"\"),\"\")","v":739456712},null,null,null,null,null,null,null,null,null,null,null,null,null,null,null,null,null,null,null,null,null,null,null,null,null,null,null,null,null,null,null,null,0,0,null,0,150,22.5,0,150,null,-150,null,null,null,null,null,null,null,null,null,null,0,-2422.5,0]
[{"$f":"IFERROR(IF($BR$22<>\"\",$BR$22,\"\"),\"\")","v":""},{"$f":"IFERROR(IF($BS$22<>\"\",$BS$22,\"\"),\"\")","v":""},{"$f":"IFERROR(IF($BT$22<>\"\",$BT$22,\"\"),\"\")","v":""},{"$f":"IFERROR(IF($BU$22<>\"\",$BU$22,\"\"),\"\")","v":""},null,null,null,null,null,null,null,null,null,null,null,null,null,null,null,null,null,null,null,null,null,null,null,null,null,null,null,null,null,null,null,null,0,0,null,0,150,22.5,0,150,null,-150,null,null,null,null,null,null,null,null,null,null,0,-2422.5,0]
[{"$f":"IFERROR(IF($BR$23<>\"\",$BR$23,\"\"),\"\")","v":""},{"$f":"IFERROR(IF($BS$23<>\"\",$BS$23,\"\"),\"\")","v":""},{"$f":"IFERROR(IF($BT$23<>\"\",$BT$23,\"\"),\"\")","v":""},{"$f":"IFERROR(IF($BU$23<>\"\",$BU$23,\"\"),\"\")","v":""},null,null,null,null,null,null,null,null,null,null,null,null,null,null,null,null,null,null,null,null,null,null,null,null,null,null,null,null,null,null,null,null,0,0,null,0,150,22.5,0,150,null,-150,null,null,null,null,null,null,null,null,null,null,0,-2422.5,0]
[{"$f":"IFERROR(IF($BR$24<>\"\",$BR$24,\"\"),\"\")","v":""},{"$f":"IFERROR(IF($BS$24<>\"\",$BS$24,\"\"),\"\")","v":""},{"$f":"IFERROR(IF($BT$24<>\"\",$BT$24,\"\"),\"\")","v":""},{"$f":"IFERROR(IF($BU$24<>\"\",$BU$24,\"\"),\"\")","v":""},null,null,null,null,null,null,null,null,null,null,null,null,null,null,null,null,null,null,null,null,null,null,null,null,null,null,null,null,null,null,null,null,0,0,null,0,150,22.5,0,150,null,-150,null,null,null,null,null,null,null,null,null,null,0,-2422.5,0]
[{"$f":"IFERROR(IF($BR$25<>\"\",$BR$25,\"\"),\"\")","v":""},{"$f":"IFERROR(IF($BS$25<>\"\",$BS$25,\"\"),\"\")","v":""},{"$f":"IFERROR(IF($BT$25<>\"\",$BT$25,\"\"),\"\")","v":""},{"$f":"IFERROR(IF($BU$25<>\"\",$BU$25,\"\"),\"\")","v":""},null,null,null,null,null,null,null,null,null,null,null,null,null,null,null,null,null,null,null,null,null,null,null,null,null,null,null,null,null,null,null,null,0,0,null,0,150,22.5,0,150,null,-150,null,null,null,null,null,null,null,null,null,null,0,-2422.5,0]
[{"$f":"IFERROR(IF($BR$26<>\"\",$BR$26,\"\"),\"\")","v":""},{"$f":"IFERROR(IF($BS$26<>\"\",$BS$26,\"\"),\"\")","v":""},{"$f":"IFERROR(IF($BT$26<>\"\",$BT$26,\"\"),\"\")","v":""},{"$f":"IFERROR(IF($BU$26<>\"\",$BU$26,\"\"),\"\")","v":""},null,null,null,null,null,null,null,null,null,null,null,null,null,null,null,null,null,null,null,null,null,null,null,null,null,null,null,null,null,null,null,null,0,0,null,0,150,22.5,0,150,null,-150,null,null,null,null,null,null,null,null,null,null,0,-2422.5,0]
[{"$f":"IFERROR(IF($BR$27<>\"\",$BR$27,\"\"),\"\")","v":""},{"$f":"IFERROR(IF($BS$27<>\"\",$BS$27,\"\"),\"\")","v":""},{"$f":"IFERROR(IF($BT$27<>\"\",$BT$27,\"\"),\"\")","v":""},{"$f":"IFERROR(IF($BU$27<>\"\",$BU$27,\"\"),\"\")","v":""},null,null,null,null,null,null,null,null,null,null,null,null,null,null,null,null,null,null,null,null,null,null,null,null,null,null,null,null,null,null,null,null,0,0,null,0,150,22.5,0,150,null,-150,null,null,null,null,null,null,null,null,null,null,0,-2422.5,0]
[{"$f":"IFERROR(IF($BR$28<>\"\",$BR$28,\"\"),\"\")","v":""},{"$f":"IFERROR(IF($BS$28<>\"\",$BS$28,\"\"),\"\")","v":""},{"$f":"IFERROR(IF($BT$28<>\"\",$BT$28,\"\"),\"\")","v":""},{"$f":"IFERROR(IF($BU$28<>\"\",$BU$28,\"\"),\"\")","v":""},null,null,null,null,null,null,null,null,null,null,null,null,null,null,null,null,null,null,null,null,null,null,null,null,null,null,null,null,null,null,null,null,0,0,null,0,150,22.5,0,150,null,-150,null,null,null,null,null,null,null,null,null,null,0,-2422.5,0]
[{"$f":"IFERROR(IF($BR$29<>\"\",$BR$29,\"\"),\"\")","v":""},{"$f":"IFERROR(IF($BS$29<>\"\",$BS$29,\"\"),\"\")","v":""},{"$f":"IFERROR(IF($BT$29<>\"\",$BT$29,\"\"),\"\")","v":""},{"$f":"IFERROR(IF($BU$29<>\"\",$BU$29,\"\"),\"\")","v":""},null,null,null,null,null,null,null,null,null,null,null,null,null,null,null,null,null,null,null,null,null,null,null,null,null,null,null,null,null,null,null,null,0,0,null,0,150,22.5,0,150,null,-150,null,null,null,null,null,null,null,null,null,null,0,-2422.5,0]
[{"$f":"IFERROR(IF($BR$30<>\"\",$BR$30,\"\"),\"\")","v":""},{"$f":"IFERROR(IF($BS$30<>\"\",$BS$30,\"\"),\"\")","v":""},{"$f":"IFERROR(IF($BT$30<>\"\",$BT$30,\"\"),\"\")","v":""},{"$f":"IFERROR(IF($BU$30<>\"\",$BU$30,\"\"),\"\")","v":""},null,null,null,null,null,null,null,null,null,null,null,null,null,null,null,null,null,null,null,null,null,null,null,null,null,null,null,null,null,null,null,null,0,0,null,0,150,22.5,0,150,null,-150,null,null,null,null,null,null,null,null,null,null,0,-2422.5,0]
[{"$f":"IFERROR(IF($BR$31<>\"\",$BR$31,\"\"),\"\")","v":""},{"$f":"IFERROR(IF($BS$31<>\"\",$BS$31,\"\"),\"\")","v":""},{"$f":"IFERROR(IF($BT$31<>\"\",$BT$31,\"\"),\"\")","v":""},{"$f":"IFERROR(IF($BU$31<>\"\",$BU$31,\"\"),\"\")","v":""},null,null,null,null,null,null,null,null,null,null,null,null,null,null,null,null,null,null,null,null,null,null,null,null,null,null,null,null,null,null,null,null,0,0,null,0,150,22.5,0,150,null,-150,null,null,null,null,null,null,null,null,null,null,0,-2422.5,0]
[{"$f":"IFERROR(IF($BR$32<>\"\",$BR$32,\"\"),\"\")","v":""},{"$f":"IFERROR(IF($BS$32<>\"\",$BS$32,\"\"),\"\")","v":""},{"$f":"IFERROR(IF($BT$32<>\"\",$BT$32,\"\"),\"\")","v":""},{"$f":"IFERROR(IF($BU$32<>\"\",$BU$32,\"\"),\"\")","v":""},null,null,null,null,null,null,null,null,null,null,null,null,null,null,null,null,null,null,null,null,null,null,null,null,null,null,null,null,null,null,null,null,0,0,null,0,150,22.5,0,150,null,-150,null,null,null,null,null,null,null,null,null,null,0,-2422.5,0]
["TOTAL",null,null,null,null,null,null,null,null,null,null,null,null,null,null,null,null,null,null,null,null,null,null,null,null,null,null,null,null,null,null,null,null,null,null,null,null,{"$f":"SUM(AL144:AL168)","v":0},{"$f":"SUM(AM144:AM168)","v":0},0,3750,562.5,0,3750,0,-3750,0,0,0]
[]
[]
[]
[]
[]
[]
["June"]
["EMP NO:","NAMES","ID NO","PHONE NO.","RATE",1,2,3,4,5,6,7,8,9,10,11,12,13,14,15,16,17,18,19,20,21,22,23,24,25,26,27,28,29,30,31,"TOTAL  DAYS","BASIC PAY","ADVANCE","PAYEE","NHIF","NHIF RELIEF","NSSF","TOTAL-D","LOAN REPAYMENT","NET PAYABLE","LEAVE DAYS","PAID END MONTH","NITA",null,null,null,null,null,null,null,"Basic Salary for Paye"]
[{"$f":"IFERROR(IF($BR$8<>\"\",$BR$8,\"\"),\"\")","v":1},{"$f":"IFERROR(IF($BS$8<>\"\",$BS$8,\"\"),\"\")","v":"Brian Kombe Gode"},{"$f":"IFERROR(IF($BT$8<>\"\",$BT$8,\"\"),\"\")","v":334567890},{"$f":"IFERROR(IF($BU$8<>\"\",$BU$8,\"\"),\"\")","v":7896543},null,null,null,null,null,null,null,null,null,null,null,null,null,null,null,null,null,null,null,null,null,null,null,null,null,null,null,null,null,null,null,null,{"$f":"IFERROR(SUM(F178:AJ178)+AU178,0)","v":0},{"$f":"IFERROR(E178*AK178,0)","v":0},null,{"$f":"BG178","v":0},{"$f":"IFERROR(VLOOKUP(AL178,$BH$24:$BI$40,2,TRUE),0)","v":150},{"$f":"AO178*0.15","v":22.5},{"$f":"IF(AL178>=18000,1080,AL178*0.06)","v":0},{"$f":"IFERROR(AO178+AQ178,0)","v":150},null,{"$f":"AL178-AM178-AN178-AO178-AQ178-AS178","v":-150},null,null,null,null,null,null,null,null,null,null,{"$f":"AL178-AQ178","v":0},{"$f":"(IFERROR(IF((BE178-$BH$10)>1,$BH$10*$BI$10,0)+IF((BE178-$BH$10)>$BH$11,$BH$11*$BI$11,IF(AND((BE178-$BH$10)<$BH$11,(BE178-$BH$10)>0),((BE178-$BH$10)/$BH$11*($BH$11*$BI$11)),0))+IF((BE178-$BH$10-$BH$11)>$BH$12,(BE178-$BH$12)*$BI$12,IF(AND((BE178-$BH$10-$BH$11)<$BH$12,(BE178-$BH$10-$BH$11)>0),((BE178-$BH$10-$BH$11)/$BH$12*($BH$12*$BI$12)),0)),0))-2400-AP178","v":-2422.5},{"$f":"IFERROR(IF(BF178<=0,0,BF178),0)","v":0}]
[{"$f":"IFERROR(IF($BR$9<>\"\",$BR$9,\"\"),\"\")","v":2},{"$f":"IFERROR(IF($BS$9<>\"\",$BS$9,\"\"),\"\")","v":"Timothy Brian Odongo"},{"$f":"IFERROR(IF($BT$9<>\"\",$BT$9,\"\"),\"\")","v":2345671},{"$f":"IFERROR(IF($BU$9<>\"\",$BU$9,\"\"),\"\")","v":737456712},null,null,null,null,null,null,null,null,null,null,null,null,null,null,null,null,null,null,null,null,null,null,null,null,null,null,null,null,null,null,null,null,{"$f":"IFERROR(SUM(F179:AJ179)+AU179,0)","v":0},{"$f":"IFERROR(E179*AK179,0)","v":0},null,{"$f":"BG179","v":0},150,{"$f":"AO179*0.15","v":22.5},{"$f":"IF(AL179>=18000,1080,AL179*0.06)","v":0},{"$f":"IFERROR(AO179+AQ179,0)","v":150},null,{"$f":"AL179-AM179-AN179-AO179-AQ179","v":-150},null,null,null,null,null,null,null,null,null,null,0,-2422.5,{"$f":"IFERROR(IF(BF179<=0,0,BF179),0)","v":0}]
[{"$f":"IFERROR(IF($BR$10<>\"\",$BR$10,\"\"),\"\")","v":3},{"$f":"IFERROR(IF($BS$10<>\"\",$BS$10,\"\"),\"\")","v":"Bshora Wayu Nzamo"},{"$f":"IFERROR(IF($BT$10<>\"\",$BT$10,\"\"),\"\")","v":29675430},{"$f":"IFERROR(IF($BU$10<>\"\",$BU$10,\"\"),\"\")","v":734567820},null,null,null,null,null,null,null,null,null,null,null,null,null,null,null,null,null,null,null,null,null,null,null,null,null,null,null,null,null,null,null,null,0,0,null,0,150,22.5,0,150,null,-150,null,null,null,null,null,null,null,null,null,null,0,-2422.5,0]
[{"$f":"IFERROR(IF($BR$11<>\"\",$BR$11,\"\"),\"\")","v":4},{"$f":"IFERROR(IF($BS$11<>\"\",$BS$11,\"\"),\"\")","v":"Wanyoni Agala Musando"},{"$f":"IFERROR(IF($BT$11<>\"\",$BT$11,\"\"),\"\")","v":33456789},{"$f":"IFERROR(IF($BU$11<>\"\",$BU$11,\"\"),\"\")","v":786543221},null,null,null,null,null,null,null,null,null,null,null,null,null,null,null,null,null,null,null,null,null,null,null,null,null,null,null,null,null,null,null,null,0,0,null,0,150,22.5,0,150,null,-150,null,null,null,null,null,null,null,null,null,null,0,-2422.5,0]
[{"$f":"IFERROR(IF($BR$12<>\"\",$BR$12,\"\"),\"\")","v":5},{"$f":"IFERROR(IF($BS$12<>\"\",$BS$12,\"\"),\"\")","v":"Benerd Kimani Njorioge"},{"$f":"IFERROR(IF($BT$12<>\"\",$BT$12,\"\"),\"\")","v":30456789},{"$f":"IFERROR(IF($BU$12<>\"\",$BU$12,\"\"),\"\")","v":789654321},null,null,null,null,null,null,null,null,null,null,null,null,null,null,null,null,null,null,null,null,null,null,null,null,null,null,null,null,null,null,null,null,0,0,null,0,150,22.5,0,150,null,-150,null,null,null,null,null,null,null,null,null,null,0,-2422.5,0]
[{"$f":"IFERROR(IF($BR$13<>\"\",$BR$13,\"\"),\"\")","v":6},{"$f":"IFERROR(IF($BS$13<>\"\",$BS$13,\"\"),\"\")","v":"Sam Jacob Mroki"},{"$f":"IFERROR(IF($BT$13<>\"\",$BT$13,\"\"),\"\")","v":31567823},{"$f":"IFERROR(IF($BU$13<>\"\",$BU$13,\"\"),\"\")","v":768942345},null,null,null,null,null,null,null,null,null,null,null,null,null,null,null,null,null,null,null,null,null,null,null,null,null,null,null,null,null,null,null,null,0,0,null,0,150,22.5,0,150,null,-150,null,null,null,null,null,null,null,null,null,null,0,-2422.5,0]
[{"$f":"IFERROR(IF($BR$14<>\"\",$BR$14,\"\"),\"\")","v":7},{"$f":"IFERROR(IF($BS$14<>\"\",$BS$14,\"\"),\"\")","v":"Joy Mueni Mutinda"},{"$f":"IFERROR(IF($BT$14<>\"\",$BT$14,\"\"),\"\")","v":32897938},{"$f":"IFERROR(IF($BU$14<>\"\",$BU$14,\"\"),\"\")","v":723456765},null,null,null,null,null,null,null,null,null,null,null,null,null,null,null,null,null,null,null,null,null,null,null,null,null,null,null,null,null,null,null,null,0,0,null,0,150,22.5,0,150,null,-150,null,null,null,null,null,null,null,null,null,null,0,-2422.5,0]
[{"$f":"IFERROR(IF($BR$15<>\"\",$BR$15,\"\"),\"\")","v":8},{"$f":"IFERROR(IF($BS$15<>\"\",$BS$15,\"\"),\"\")","v":"Kahindi Mwero Boga"},{"$f":"IFERROR(IF($BT$15<>\"\",$BT$15,\"\"),\"\")","v":2934567},{"$f":"IFERROR(IF($BU$15<>\"\",$BU$15,\"\"),\"\")","v":798654312},null,null,null,null,null,null,null,null,null,null,null,null,null,null,null,null,null,null,null,null,null,null,null,null,null,null,null,null,null,null,null,null,0,0,null,0,150,22.5,0,150,null,-150,null,null,null,null,null,null,null,null,null,null,0,-2422.5,0]
[{"$f":"IFERROR(IF($BR$16<>\"\",$BR$16,\"\"),\"\")","v":9},{"$f":"IFERROR(IF($BS$16<>\"\",$BS$16,\"\"),\"\")","v":"John Boscco Bosire"},{"$f":"IFERROR(IF($BT$16<>\"\",$BT$16,\"\"),\"\")","v":98347897},{"$f":"IFERROR(IF($BU$16<>\"\",$BU$16,\"\"),\"\")","v":734567128},null,null,null,null,null,null,null,null,null,null,null,null,null,null,null,null,null,null,null,null,null,null,null,null,null,null,null,null,null,null,null,null,0,0,null,0,150,22.5,0,150,null,-150,null,null,null,null,null,null,null,null,null,null,0,-2422.5,0]
[{"$f":"IFERROR(IF($BR$17<>\"\",$BR$17,\"\"),\"\")","v":10},{"$f":"IFERROR(IF($BS$17<>\"\",$BS$17,\"\"),\"\")","v":"Hassan Abdulnasir Wario"},{"$f":"IFERROR(IF($BT$17<>\"\",$BT$17,\"\"),\"\")","v":2156789},{"$f":"IFERROR(IF($BU$17<>\"\",$BU$17,\"\"),\"\")","v":731256789},null,null,null,null,null,null,null,null,null,null,null,null,null,null,null,null,null,null,null,null,null,null,null,null,null,null,null,null,null,null,null,null,0,0,null,0,150,22.5,0,150,null,-150,null,null,null,null,null,null,null,null,null,null,0,-2422.5,0]
[{"$f":"IFERROR(IF($BR$18<>\"\",$BR$18,\"\"),\"\")","v":11},{"$f":"IFERROR(IF($BS$18<>\"\",$BS$18,\"\"),\"\")","v":"Jastine Makemba Batogo"},{"$f":"IFERROR(IF($BT$18<>\"\",$BT$18,\"\"),\"\")","v":34567890},{"$f":"IFERROR(IF($BU$18<>\"\",$BU$18,\"\"),\"\")","v":786885432},null,null,null,null,null,null,null,null,null,null,null,null,null,null,null,null,null,null,null,null,null,null,null,null,null,null,null,null,null,null,null,null,0,0,null,0,150,22.5,0,150,null,-150,null,null,null,null,null,null,null,null,null,null,0,-2422.5,0]
[{"$f":"IFERROR(IF($BR$19<>\"\",$BR$19,\"\"),\"\")","v":12},{"$f":"IFERROR(IF($BS$19<>\"\",$BS$19,\"\"),\"\")","v":"Janet Wairimu Wamatagi"},{"$f":"IFERROR(IF($BT$19<>\"\",$BT$19,\"\"),\"\")","v":35678910},{"$f":"IFERROR(IF($BU$19<>\"\",$BU$19,\"\"),\"\")","v":745683412},null,null,null,null,null,null,null,null,null,null,null,null,null,null,null,null,null,null,null,null,null,null,null,null,null,null,null,null,null,null,null,null,0,0,null,0,150,22.5,0,150,null,-150,null,null,null,null,null,null,null,null,null,null,0,-2422.5,0]
[{"$f":"IFERROR(IF($BR$20<>\"\",$BR$20,\"\"),\"\")","v":13},{"$f":"IFERROR(IF($BS$20<>\"\",$BS$20,\"\"),\"\")","v":"Denis Brian Ochola"},{"$f":"IFERROR(IF($BT$20<>\"\",$BT$20,\"\"),\"\")","v":34567812},{"$f":"IFERROR(IF($BU$20<>\"\",$BU$20,\"\"),\"\")","v":798345675},null,null,null,null,null,null,null,null,null,null,null,null,null,null,null,null,null,null,null,null,null,null,null,null,null,null,null,null,null,null,null,null,0,0,null,0,150,22.5,0,150,null,-150,null,null,null,null,null,null,null,null,null,null,0,-2422.5,0]
[{"$f":"IFERROR(IF($BR$21<>\"\",$BR$21,\"\"),\"\")","v":14},{"$f":"IFERROR(IF($BS$21<>\"\",$BS$21,\"\"),\"\")","v":"Gitau Harrison Kithi"},{"$f":"IFERROR(IF($BT$21<>\"\",$BT$21,\"\"),\"\")","v":35267812},{"$f":"IFERROR(IF($BU$21<>\"\",$BU$21,\"\"),\"\")","v":739456712},null,null,null,null,null,null,null,null,null,null,null,null,null,null,null,null,null,null,null,null,null,null,null,null,null,null,null,null,null,null,null,null,0,0,null,0,150,22.5,0,150,null,-150,null,null,null,null,null,null,null,null,null,null,0,-2422.5,0]
[{"$f":"IFERROR(IF($BR$22<>\"\",$BR$22,\"\"),\"\")","v":""},{"$f":"IFERROR(IF($BS$22<>\"\",$BS$22,\"\"),\"\")","v":""},{"$f":"IFERROR(IF($BT$22<>\"\",$BT$22,\"\"),\"\")","v":""},{"$f":"IFERROR(IF($BU$22<>\"\",$BU$22,\"\"),\"\")","v":""},null,null,null,null,null,null,null,null,null,null,null,null,null,null,null,null,null,null,null,null,null,null,null,null,null,null,null,null,null,null,null,null,0,0,null,0,150,22.5,0,150,null,-150,null,null,null,null,null,null,null,null,null,null,0,-2422.5,0]
[{"$f":"IFERROR(IF($BR$23<>\"\",$BR$23,\"\"),\"\")","v":""},{"$f":"IFERROR(IF($BS$23<>\"\",$BS$23,\"\"),\"\")","v":""},{"$f":"IFERROR(IF($BT$23<>\"\",$BT$23,\"\"),\"\")","v":""},{"$f":"IFERROR(IF($BU$23<>\"\",$BU$23,\"\"),\"\")","v":""},null,null,null,null,null,null,null,null,null,null,null,null,null,null,null,null,null,null,null,null,null,null,null,null,null,null,null,null,null,null,null,null,0,0,null,0,150,22.5,0,150,null,-150,null,null,null,null,null,null,null,null,null,null,0,-2422.5,0]
[{"$f":"IFERROR(IF($BR$24<>\"\",$BR$24,\"\"),\"\")","v":""},{"$f":"IFERROR(IF($BS$24<>\"\",$BS$24,\"\"),\"\")","v":""},{"$f":"IFERROR(IF($BT$24<>\"\",$BT$24,\"\"),\"\")","v":""},{"$f":"IFERROR(IF($BU$24<>\"\",$BU$24,\"\"),\"\")","v":""},null,null,null,null,null,null,null,null,null,null,null,null,null,null,null,null,null,null,null,null,null,null,null,null,null,null,null,null,null,null,null,null,0,0,null,0,150,22.5,0,150,null,-150,null,null,null,null,null,null,null,null,null,null,0,-2422.5,0]
[{"$f":"IFERROR(IF($BR$25<>\"\",$BR$25,\"\"),\"\")","v":""},{"$f":"IFERROR(IF($BS$25<>\"\",$BS$25,\"\"),\"\")","v":""},{"$f":"IFERROR(IF($BT$25<>\"\",$BT$25,\"\"),\"\")","v":""},{"$f":"IFERROR(IF($BU$25<>\"\",$BU$25,\"\"),\"\")","v":""},null,null,null,null,null,null,null,null,null,null,null,null,null,null,null,null,null,null,null,null,null,null,null,null,null,null,null,null,null,null,null,null,0,0,null,0,150,22.5,0,150,null,-150,null,null,null,null,null,null,null,null,null,null,0,-2422.5,0]
[{"$f":"IFERROR(IF($BR$26<>\"\",$BR$26,\"\"),\"\")","v":""},{"$f":"IFERROR(IF($BS$26<>\"\",$BS$26,\"\"),\"\")","v":""},{"$f":"IFERROR(IF($BT$26<>\"\",$BT$26,\"\"),\"\")","v":""},{"$f":"IFERROR(IF($BU$26<>\"\",$BU$26,\"\"),\"\")","v":""},null,null,null,null,null,null,null,null,null,null,null,null,null,null,null,null,null,null,null,null,null,null,null,null,null,null,null,null,null,null,null,null,0,0,null,0,150,22.5,0,150,null,-150,null,null,null,null,null,null,null,null,null,null,0,-2422.5,0]
[{"$f":"IFERROR(IF($BR$27<>\"\",$BR$27,\"\"),\"\")","v":""},{"$f":"IFERROR(IF($BS$27<>\"\",$BS$27,\"\"),\"\")","v":""},{"$f":"IFERROR(IF($BT$27<>\"\",$BT$27,\"\"),\"\")","v":""},{"$f":"IFERROR(IF($BU$27<>\"\",$BU$27,\"\"),\"\")","v":""},null,null,null,null,null,null,null,null,null,null,null,null,null,null,null,null,null,null,null,null,null,null,null,null,null,null,null,null,null,null,null,null,0,0,null,0,150,22.5,0,150,null,-150,null,null,null,null,null,null,null,null,null,null,0,-2422.5,0]
[{"$f":"IFERROR(IF($BR$28<>\"\",$BR$28,\"\"),\"\")","v":""},{"$f":"IFERROR(IF($BS$28<>\"\",$BS$28,\"\"),\"\")","v":""},{"$f":"IFERROR(IF($BT$28<>\"\",$BT$28,\"\"),\"\")","v":""},{"$f":"IFERROR(IF($BU$28<>\"\",$BU$28,\"\"),\"\")","v":""},null,null,null,null,null,null,null,null,null,null,null,null,null,null,null,null,null,null,null,null,null,null,null,null,null,null,null,null,null,null,null,null,0,0,null,0,150,22.5,0,150,null,-150,null,null,null,null,null,null,null,null,null,null,0,-2422.5,0]
[{"$f":"IFERROR(IF($BR$29<>\"\",$BR$29,\"\"),\"\")","v":""},{"$f":"IFERROR(IF($BS$29<>\"\",$BS$29,\"\"),\"\")","v":""},{"$f":"IFERROR(IF($BT$29<>\"\",$BT$29,\"\"),\"\")","v":""},{"$f":"IFERROR(IF($BU$29<>\"\",$BU$29,\"\"),\"\")","v":""},null,null,null,null,null,null,null,null,null,null,null,null,null,null,null,null,null,null,null,null,null,null,null,null,null,null,null,null,null,null,null,null,0,0,null,0,150,22.5,0,150,null,-150,null,null,null,null,null,null,null,null,null,null,0,-2422.5,0]
[{"$f":"IFERROR(IF($BR$30<>\"\",$BR$30,\"\"),\"\")","v":""},{"$f":"IFERROR(IF($BS$30<>\"\",$BS$30,\"\"),\"\")","v":""},{"$f":"IFERROR(IF($BT$30<>\"\",$BT$30,\"\"),\"\")","v":""},{"$f":"IFERROR(IF($BU$30<>\"\",$BU$30,\"\"),\"\")","v":""},null,null,null,null,null,null,null,null,null,null,null,null,null,null,null,null,null,null,null,null,null,null,null,null,null,null,null,null,null,null,null,null,0,0,null,0,150,22.5,0,150,null,-150,null,null,null,null,null,null,null,null,null,null,0,-2422.5,0]
[{"$f":"IFERROR(IF($BR$31<>\"\",$BR$31,\"\"),\"\")","v":""},{"$f":"IFERROR(IF($BS$31<>\"\",$BS$31,\"\"),\"\")","v":""},{"$f":"IFERROR(IF($BT$31<>\"\",$BT$31,\"\"),\"\")","v":""},{"$f":"IFERROR(IF($BU$31<>\"\",$BU$31,\"\"),\"\")","v":""},null,null,null,null,null,null,null,null,null,null,null,null,null,null,null,null,null,null,null,null,null,null,null,null,null,null,null,null,null,null,null,null,0,0,null,0,150,22.5,0,150,null,-150,null,null,null,null,null,null,null,null,null,null,0,-2422.5,0]
[{"$f":"IFERROR(IF($BR$32<>\"\",$BR$32,\"\"),\"\")","v":""},{"$f":"IFERROR(IF($BS$32<>\"\",$BS$32,\"\"),\"\")","v":""},{"$f":"IFERROR(IF($BT$32<>\"\",$BT$32,\"\"),\"\")","v":""},{"$f":"IFERROR(IF($BU$32<>\"\",$BU$32,\"\"),\"\")","v":""},null,null,null,null,null,null,null,null,null,null,null,null,null,null,null,null,null,null,null,null,null,null,null,null,null,null,null,null,null,null,null,null,0,0,null,0,150,22.5,0,150,null,-150,null,null,null,null,null,null,null,null,null,null,0,-2422.5,0]
["TOTAL",null,null,null,null,null,null,null,null,null,null,null,null,null,null,null,null,null,null,null,null,null,null,null,null,null,null,null,null,null,null,null,null,null,null,null,null,{"$f":"SUM(AL178:AL202)","v":0},{"$f":"SUM(AM178:AM202)","v":0},0,3750,562.5,0,3750,0,-3750,0,0,0]
[]
[]
[]
[]
[]
[]
["July"]
["EMP NO:","NAMES","ID NO","PHONE NO.","RATE",1,2,3,4,5,6,7,8,9,10,11,12,13,14,15,16,17,18,19,20,21,22,23,24,25,26,27,28,29,30,31,"TOTAL  DAYS","BASIC PAY","ADVANCE","PAYEE","NHIF","NHIF RELIEF","NSSF","TOTAL-D","LOAN REPAYMENT","NET PAYABLE","LEAVE DAYS","PAID END MONTH","NITA",null,null,null,null,null,null,null,"Basic Salary for Paye"]
[{"$f":"IFERROR(IF($BR$8<>\"\",$BR$8,\"\"),\"\")","v":1},{"$f":"IFERROR(IF($BS$8<>\"\",$BS$8,\"\"),\"\")","v":"Brian Kombe Gode"},{"$f":"IFERROR(IF($BT$8<>\"\",$BT$8,\"\"),\"\")","v":334567890},{"$f":"IFERROR(IF($BU$8<>\"\",$BU$8,\"\"),\"\")","v":7896543},null,null,null,null,null,null,null,null,null,null,null,null,null,null,null,null,null,null,null,null,null,null,null,null,null,null,null,null,null,null,null,null,{"$f":"IFERROR(SUM(F212:AJ212)+AU212,0)","v":0},{"$f":"IFERROR(E212*AK212,0)","v":0},null,{"$f":"BG212","v":0},{"$f":"IFERROR(VLOOKUP(AL212,$BH$24:$BI$40,2,TRUE),0)","v":150},{"$f":"AO212*0.15","v":22.5},{"$f":"IF(AL212>=18000,1080,AL212*0.06)","v":0},{"$f":"IFERROR(AO212+AQ212,0)","v":150},null,{"$f":"AL212-AM212-AN212-AO212-AQ212-AS212","v":-150},null,null,null,null,null,null,null,null,null,null,{"$f":"AL212-AQ212","v":0},{"$f":"(IFERROR(IF((BE212-$BH$10)>1,$BH$10*$BI$10,0)+IF((BE212-$BH$10)>$BH$11,$BH$11*$BI$11,IF(AND((BE212-$BH$10)<$BH$11,(BE212-$BH$10)>0),((BE212-$BH$10)/$BH$11*($BH$11*$BI$11)),0))+IF((BE212-$BH$10-$BH$11)>$BH$12,(BE212-$BH$12)*$BI$12,IF(AND((BE212-$BH$10-$BH$11)<$BH$12,(BE212-$BH$10-$BH$11)>0),((BE212-$BH$10-$BH$11)/$BH$12*($BH$12*$BI$12)),0)),0))-2400-AP212","v":-2422.5},{"$f":"IFERROR(IF(BF212<=0,0,BF212),0)","v":0}]
[{"$f":"IFERROR(IF($BR$9<>\"\",$BR$9,\"\"),\"\")","v":2},{"$f":"IFERROR(IF($BS$9<>\"\",$BS$9,\"\"),\"\")","v":"Timothy Brian Odongo"},{"$f":"IFERROR(IF($BT$9<>\"\",$BT$9,\"\"),\"\")","v":2345671},{"$f":"IFERROR(IF($BU$9<>\"\",$BU$9,\"\"),\"\")","v":737456712},null,null,null,null,null,null,null,null,null,null,null,null,null,null,null,null,null,null,null,null,null,null,null,null,null,null,null,null,null,null,null,null,{"$f":"IFERROR(SUM(F213:AJ213)+AU213,0)","v":0},{"$f":"IFERROR(E213*AK213,0)","v":0},null,{"$f":"BG213","v":0},150,{"$f":"AO213*0.15","v":22.5},{"$f":"IF(AL213>=18000,1080,AL213*0.06)","v":0},{"$f":"IFERROR(AO213+AQ213,0)","v":150},null,{"$f":"AL213-AM213-AN213-AO213-AQ213","v":-150},null,null,null,null,null,null,null,null,null,null,0,-2422.5,{"$f":"IFERROR(IF(BF213<=0,0,BF213),0)","v":0}]
[{"$f":"IFERROR(IF($BR$10<>\"\",$BR$10,\"\"),\"\")","v":3},{"$f":"IFERROR(IF($BS$10<>\"\",$BS$10,\"\"),\"\")","v":"Bshora Wayu Nzamo"},{"$f":"IFERROR(IF($BT$10<>\"\",$BT$10,\"\"),\"\")","v":29675430},{"$f":"IFERROR(IF($BU$10<>\"\",$BU$10,\"\"),\"\")","v":734567820},null,null,null,null,null,null,null,null,null,null,null,null,null,null,null,null,null,null,null,null,null,null,null,null,null,null,null,null,null,null,null,null,0,0,null,0,150,22.5,0,150,null,-150,null,null,null,null,null,null,null,null,null,null,0,-2422.5,0]
[{"$f":"IFERROR(IF($BR$11<>\"\",$BR$11,\"\"),\"\")","v":4},{"$f":"IFERROR(IF($BS$11<>\"\",$BS$11,\"\"),\"\")","v":"Wanyoni Agala Musando"},{"$f":"IFERROR(IF($BT$11<>\"\",$BT$11,\"\"),\"\")","v":33456789},{"$f":"IFERROR(IF($BU$11<>\"\",$BU$11,\"\"),\"\")","v":786543221},null,null,null,null,null,null,null,null,null,null,null,null,null,null,null,null,null,null,null,null,null,null,null,null,null,null,null,null,null,null,null,null,0,0,null,0,150,22.5,0,150,null,-150,null,null,null,null,null,null,null,null,null,null,0,-2422.5,0]
[{"$f":"IFERROR(IF($BR$12<>\"\",$BR$12,\"\"),\"\")","v":5},{"$f":"IFERROR(IF($BS$12<>\"\",$BS$12,\"\"),\"\")","v":"Benerd Kimani Njorioge"},{"$f":"IFERROR(IF($BT$12<>\"\",$BT$12,\"\"),\"\")","v":30456789},{"$f":"IFERROR(IF($BU$12<>\"\",$BU$12,\"\"),\"\")","v":789654321},null,null,null,null,null,null,null,null,null,null,null,null,null,null,null,null,null,null,null,null,null,null,null,null,null,null,null,null,null,null,null,null,0,0,null,0,150,22.5,0,150,null,-150,null,null,null,null,null,null,null,null,null,null,0,-2422.5,0]
[{"$f":"IFERROR(IF($BR$13<>\"\",$BR$13,\"\"),\"\")","v":6},{"$f":"IFERROR(IF($BS$13<>\"\",$BS$13,\"\"),\"\")","v":"Sam Jacob Mroki"},{"$f":"IFERROR(IF($BT$13<>\"\",$BT$13,\"\"),\"\")","v":31567823},{"$f":"IFERROR(IF($BU$13<>\"\",$BU$13,\"\"),\"\")","v":768942345},null,null,null,null,null,null,null,null,null,null,null,null,null,null,null,null,null,null,null,null,null,null,null,null,null,null,null,null,null,null,null,null,0,0,null,0,150,22.5,0,150,null,-150,null,null,null,null,null,null,null,null,null,null,0,-2422.5,0]
[{"$f":"IFERROR(IF($BR$14<>\"\",$BR$14,\"\"),\"\")","v":7},{"$f":"IFERROR(IF($BS$14<>\"\",$BS$14,\"\"),\"\")","v":"Joy Mueni Mutinda"},{"$f":"IFERROR(IF($BT$14<>\"\",$BT$14,\"\"),\"\")","v":32897938},{"$f":"IFERROR(IF($BU$14<>\"\",$BU$14,\"\"),\"\")","v":723456765},null,null,null,null,null,null,null,null,null,null,null,null,null,null,null,null,null,null,null,null,null,null,null,null,null,null,null,null,null,null,null,null,0,0,null,0,150,22.5,0,150,null,-150,null,null,null,null,null,null,null,null,null,null,0,-2422.5,0]
[{"$f":"IFERROR(IF($BR$15<>\"\",$BR$15,\"\"),\"\")","v":8},{"$f":"IFERROR(IF($BS$15<>\"\",$BS$15,\"\"),\"\")","v":"Kahindi Mwero Boga"},{"$f":"IFERROR(IF($BT$15<>\"\",$BT$15,\"\"),\"\")","v":2934567},{"$f":"IFERROR(IF($BU$15<>\"\",$BU$15,\"\"),\"\")","v":798654312},null,null,null,null,null,null,null,null,null,null,null,null,null,null,null,null,null,null,null,null,null,null,null,null,null,null,null,null,null,null,null,null,0,0,null,0,150,22.5,0,150,null,-150,null,null,null,null,null,null,null,null,null,null,0,-2422.5,0]
[{"$f":"IFERROR(IF($BR$16<>\"\",$BR$16,\"\"),\"\")","v":9},{"$f":"IFERROR(IF($BS$16<>\"\",$BS$16,\"\"),\"\")","v":"John Boscco Bosire"},{"$f":"IFERROR(IF($BT$16<>\"\",$BT$16,\"\"),\"\")","v":98347897},{"$f":"IFERROR(IF($BU$16<>\"\",$BU$16,\"\"),\"\")","v":734567128},null,null,null,null,null,null,null,null,null,null,null,null,null,null,null,null,null,null,null,null,null,null,null,null,null,null,null,null,null,null,null,null,0,0,null,0,150,22.5,0,150,null,-150,null,null,null,null,null,null,null,null,null,null,0,-2422.5,0]
[{"$f":"IFERROR(IF($BR$17<>\"\",$BR$17,\"\"),\"\")","v":10},{"$f":"IFERROR(IF($BS$17<>\"\",$BS$17,\"\"),\"\")","v":"Hassan Abdulnasir Wario"},{"$f":"IFERROR(IF($BT$17<>\"\",$BT$17,\"\"),\"\")","v":2156789},{"$f":"IFERROR(IF($BU$17<>\"\",$BU$17,\"\"),\"\")","v":731256789},null,null,null,null,null,null,null,null,null,null,null,null,null,null,null,null,null,null,null,null,null,null,null,null,null,null,null,null,null,null,null,null,0,0,null,0,150,22.5,0,150,null,-150,null,null,null,null,null,null,null,null,null,null,0,-2422.5,0]
[{"$f":"IFERROR(IF($BR$18<>\"\",$BR$18,\"\"),\"\")","v":11},{"$f":"IFERROR(IF($BS$18<>\"\",$BS$18,\"\"),\"\")","v":"Jastine Makemba Batogo"},{"$f":"IFERROR(IF($BT$18<>\"\",$BT$18,\"\"),\"\")","v":34567890},{"$f":"IFERROR(IF($BU$18<>\"\",$BU$18,\"\"),\"\")","v":786885432},null,null,null,null,null,null,null,null,null,null,null,null,null,null,null,null,null,null,null,null,null,null,null,null,null,null,null,null,null,null,null,null,0,0,null,0,150,22.5,0,150,null,-150,null,null,null,null,null,null,null,null,null,null,0,-2422.5,0]
[{"$f":"IFERROR(IF($BR$19<>\"\",$BR$19,\"\"),\"\")","v":12},{"$f":"IFERROR(IF($BS$19<>\"\",$BS$19,\"\"),\"\")","v":"Janet Wairimu Wamatagi"},{"$f":"IFERROR(IF($BT$19<>\"\",$BT$19,\"\"),\"\")","v":35678910},{"$f":"IFERROR(IF($BU$19<>\"\",$BU$19,\"\"),\"\")","v":745683412},null,null,null,null,null,null,null,null,null,null,null,null,null,null,null,null,null,null,null,null,null,null,null,null,null,null,null,null,null,null,null,null,0,0,null,0,150,22.5,0,150,null,-150,null,null,null,null,null,null,null,null,null,null,0,-2422.5,0]
[{"$f":"IFERROR(IF($BR$20<>\"\",$BR$20,\"\"),\"\")","v":13},{"$f":"IFERROR(IF($BS$20<>\"\",$BS$20,\"\"),\"\")","v":"Denis Brian Ochola"},{"$f":"IFERROR(IF($BT$20<>\"\",$BT$20,\"\"),\"\")","v":34567812},{"$f":"IFERROR(IF($BU$20<>\"\",$BU$20,\"\"),\"\")","v":798345675},null,null,null,null,null,null,null,null,null,null,null,null,null,null,null,null,null,null,null,null,null,null,null,null,null,null,null,null,null,null,null,null,0,0,null,0,150,22.5,0,150,null,-150,null,null,null,null,null,null,null,null,null,null,0,-2422.5,0]
[{"$f":"IFERROR(IF($BR$21<>\"\",$BR$21,\"\"),\"\")","v":14},{"$f":"IFERROR(IF($BS$21<>\"\",$BS$21,\"\"),\"\")","v":"Gitau Harrison Kithi"},{"$f":"IFERROR(IF($BT$21<>\"\",$BT$21,\"\"),\"\")","v":35267812},{"$f":"IFERROR(IF($BU$21<>\"\",$BU$21,\"\"),\"\")","v":739456712},null,null,null,null,null,null,null,null,null,null,null,null,null,null,null,null,null,null,null,null,null,null,null,null,null,null,null,null,null,null,null,null,0,0,null,0,150,22.5,0,150,null,-150,null,null,null,null,null,null,null,null,null,null,0,-2422.5,0]
[{"$f":"IFERROR(IF($BR$22<>\"\",$BR$22,\"\"),\"\")","v":""},{"$f":"IFERROR(IF($BS$22<>\"\",$BS$22,\"\"),\"\")","v":""},{"$f":"IFERROR(IF($BT$22<>\"\",$BT$22,\"\"),\"\")","v":""},{"$f":"IFERROR(IF($BU$22<>\"\",$BU$22,\"\"),\"\")","v":""},null,null,null,null,null,null,null,null,null,null,null,null,null,null,null,null,null,null,null,null,null,null,null,null,null,null,null,null,null,null,null,null,0,0,null,0,150,22.5,0,150,null,-150,null,null,null,null,null,null,null,null,null,null,0,-2422.5,0]
[{"$f":"IFERROR(IF($BR$23<>\"\",$BR$23,\"\"),\"\")","v":""},{"$f":"IFERROR(IF($BS$23<>\"\",$BS$23,\"\"),\"\")","v":""},{"$f":"IFERROR(IF($BT$23<>\"\",$BT$23,\"\"),\"\")","v":""},{"$f":"IFERROR(IF($BU$23<>\"\",$BU$23,\"\"),\"\")","v":""},null,null,null,null,null,null,null,null,null,null,null,null,null,null,null,null,null,null,null,null,null,null,null,null,null,null,null,null,null,null,null,null,0,0,null,0,150,22.5,0,150,null,-150,null,null,null,null,null,null,null,null,null,null,0,-2422.5,0]
[{"$f":"IFERROR(IF($BR$24<>\"\",$BR$24,\"\"),\"\")","v":""},{"$f":"IFERROR(IF($BS$24<>\"\",$BS$24,\"\"),\"\")","v":""},{"$f":"IFERROR(IF($BT$24<>\"\",$BT$24,\"\"),\"\")","v":""},{"$f":"IFERROR(IF($BU$24<>\"\",$BU$24,\"\"),\"\")","v":""},null,null,null,null,null,null,null,null,null,null,null,null,null,null,null,null,null,null,null,null,null,null,null,null,null,null,null,null,null,null,null,null,0,0,null,0,150,22.5,0,150,null,-150,null,null,null,null,null,null,null,null,null,null,0,-2422.5,0]
[{"$f":"IFERROR(IF($BR$25<>\"\",$BR$25,\"\"),\"\")","v":""},{"$f":"IFERROR(IF($BS$25<>\"\",$BS$25,\"\"),\"\")","v":""},{"$f":"IFERROR(IF($BT$25<>\"\",$BT$25,\"\"),\"\")","v":""},{"$f":"IFERROR(IF($BU$25<>\"\",$BU$25,\"\"),\"\")","v":""},null,null,null,null,null,null,null,null,null,null,null,null,null,null,null,null,null,null,null,null,null,null,null,null,null,null,null,null,null,null,null,null,0,0,null,0,150,22.5,0,150,null,-150,null,null,null,null,null,null,null,null,null,null,0,-2422.5,0]
[{"$f":"IFERROR(IF($BR$26<>\"\",$BR$26,\"\"),\"\")","v":""},{"$f":"IFERROR(IF($BS$26<>\"\",$BS$26,\"\"),\"\")","v":""},{"$f":"IFERROR(IF($BT$26<>\"\",$BT$26,\"\"),\"\")","v":""},{"$f":"IFERROR(IF($BU$26<>\"\",$BU$26,\"\"),\"\")","v":""},null,null,null,null,null,null,null,null,null,null,null,null,null,null,null,null,null,null,null,null,null,null,null,null,null,null,null,null,null,null,null,null,0,0,null,0,150,22.5,0,150,null,-150,null,null,null,null,null,null,null,null,null,null,0,-2422.5,0]
[{"$f":"IFERROR(IF($BR$27<>\"\",$BR$27,\"\"),\"\")","v":""},{"$f":"IFERROR(IF($BS$27<>\"\",$BS$27,\"\"),\"\")","v":""},{"$f":"IFERROR(IF($BT$27<>\"\",$BT$27,\"\"),\"\")","v":""},{"$f":"IFERROR(IF($BU$27<>\"\",$BU$27,\"\"),\"\")","v":""},null,null,null,null,null,null,null,null,null,null,null,null,null,null,null,null,null,null,null,null,null,null,null,null,null,null,null,null,null,null,null,null,0,0,null,0,150,22.5,0,150,null,-150,null,null,null,null,null,null,null,null,null,null,0,-2422.5,0]
[{"$f":"IFERROR(IF($BR$28<>\"\",$BR$28,\"\"),\"\")","v":""},{"$f":"IFERROR(IF($BS$28<>\"\",$BS$28,\"\"),\"\")","v":""},{"$f":"IFERROR(IF($BT$28<>\"\",$BT$28,\"\"),\"\")","v":""},{"$f":"IFERROR(IF($BU$28<>\"\",$BU$28,\"\"),\"\")","v":""},null,null,null,null,null,null,null,null,null,null,null,null,null,null,null,null,null,null,null,null,null,null,null,null,null,null,null,null,null,null,null,null,0,0,null,0,150,22.5,0,150,null,-150,null,null,null,null,null,null,null,null,null,null,0,-2422.5,0]
[{"$f":"IFERROR(IF($BR$29<>\"\",$BR$29,\"\"),\"\")","v":""},{"$f":"IFERROR(IF($BS$29<>\"\",$BS$29,\"\"),\"\")","v":""},{"$f":"IFERROR(IF($BT$29<>\"\",$BT$29,\"\"),\"\")","v":""},{"$f":"IFERROR(IF($BU$29<>\"\",$BU$29,\"\"),\"\")","v":""},null,null,null,null,null,null,null,null,null,null,null,null,null,null,null,null,null,null,null,null,null,null,null,null,null,null,null,null,null,null,null,null,0,0,null,0,150,22.5,0,150,null,-150,null,null,null,null,null,null,null,null,null,null,0,-2422.5,0]
[{"$f":"IFERROR(IF($BR$30<>\"\",$BR$30,\"\"),\"\")","v":""},{"$f":"IFERROR(IF($BS$30<>\"\",$BS$30,\"\"),\"\")","v":""},{"$f":"IFERROR(IF($BT$30<>\"\",$BT$30,\"\"),\"\")","v":""},{"$f":"IFERROR(IF($BU$30<>\"\",$BU$30,\"\"),\"\")","v":""},null,null,null,null,null,null,null,null,null,null,null,null,null,null,null,null,null,null,null,null,null,null,null,null,null,null,null,null,null,null,null,null,0,0,null,0,150,22.5,0,150,null,-150,null,null,null,null,null,null,null,null,null,null,0,-2422.5,0]
[{"$f":"IFERROR(IF($BR$31<>\"\",$BR$31,\"\"),\"\")","v":""},{"$f":"IFERROR(IF($BS$31<>\"\",$BS$31,\"\"),\"\")","v":""},{"$f":"IFERROR(IF($BT$31<>\"\",$BT$31,\"\"),\"\")","v":""},{"$f":"IFERROR(IF($BU$31<>\"\",$BU$31,\"\"),\"\")","v":""},null,null,null,null,null,null,null,null,null,null,null,null,null,null,null,null,null,null,null,null,null,null,null,null,null,null,null,null,null,null,null,null,0,0,null,0,150,22.5,0,150,null,-150,null,null,null,null,null,null,null,null,null,null,0,-2422.5,0]
[{"$f":"IFERROR(IF($BR$32<>\"\",$BR$32,\"\"),\"\")","v":""},{"$f":"IFERROR(IF($BS$32<>\"\",$BS$32,\"\"),\"\")","v":""},{"$f":"IFERROR(IF($BT$32<>\"\",$BT$32,\"\"),\"\")","v":""},{"$f":"IFERROR(IF($BU$32<>\"\",$BU$32,\"\"),\"\")","v":""},null,null,null,null,null,null,null,null,null,null,null,null,null,null,null,null,null,null,null,null,null,null,null,null,null,null,null,null,null,null,null,null,0,0,null,0,150,22.5,0,150,null,-150,null,null,null,null,null,null,null,null,null,null,0,-2422.5,0]
["TOTAL",null,null,null,null,null,null,null,null,null,null,null,null,null,null,null,null,null,null,null,null,null,null,null,null,null,null,null,null,null,null,null,null,null,null,null,null,{"$f":"SUM(AL212:AL236)","v":0},{"$f":"SUM(AM212:AM236)","v":0},0,3750,562.5,0,3750,0,-3750,0,0,0]
[]
[]
[]
[]
[]
[]
["August"]
["EMP NO:","NAMES","ID NO","PHONE NO.","RATE",1,2,3,4,5,6,7,8,9,10,11,12,13,14,15,16,17,18,19,20,21,22,23,24,25,26,27,28,29,30,31,"TOTAL  DAYS","BASIC PAY","ADVANCE","PAYEE","NHIF","NHIF RELIEF","NSSF","TOTAL-D","LOAN REPAYMENT","NET PAYABLE","LEAVE DAYS","PAID END MONTH","NITA",null,null,null,null,null,null,null,"Basic Salary for Paye"]
[{"$f":"IFERROR(IF($BR$8<>\"\",$BR$8,\"\"),\"\")","v":1},{"$f":"IFERROR(IF($BS$8<>\"\",$BS$8,\"\"),\"\")","v":"Brian Kombe Gode"},{"$f":"IFERROR(IF($BT$8<>\"\",$BT$8,\"\"),\"\")","v":334567890},{"$f":"IFERROR(IF($BU$8<>\"\",$BU$8,\"\"),\"\")","v":7896543},null,null,null,null,null,null,null,null,null,null,null,null,null,null,null,null,null,null,null,null,null,null,null,null,null,null,null,null,null,null,null,null,{"$f":"IFERROR(SUM(F246:AJ246)+AU246,0)","v":0},{"$f":"IFERROR(E246*AK246,0)","v":0},null,{"$f":"BG246","v":0},{"$f":"IFERROR(VLOOKUP(AL246,$BH$24:$BI$40,2,TRUE),0)","v":150},{"$f":"AO246*0.15","v":22.5},{"$f":"IF(AL246>=18000,1080,AL246*0.06)","v":0},{"$f":"IFERROR(AO246+AQ246,0)","v":150},null,{"$f":"AL246-AM246-AN246-AO246-AQ246-AS246","v":-150},null,null,null,null,null,null,null,null,null,null,{"$f":"AL246-AQ246","v":0},{"$f":"(IFERROR(IF((BE246-$BH$10)>1,$BH$10*$BI$10,0)+IF((BE246-$BH$10)>$BH$11,$BH$11*$BI$11,IF(AND((BE246-$BH$10)<$BH$11,(BE246-$BH$10)>0),((BE246-$BH$10)/$BH$11*($BH$11*$BI$11)),0))+IF((BE246-$BH$10-$BH$11)>$BH$12,(BE246-$BH$12)*$BI$12,IF(AND((BE246-$BH$10-$BH$11)<$BH$12,(BE246-$BH$10-$BH$11)>0),((BE246-$BH$10-$BH$11)/$BH$12*($BH$12*$BI$12)),0)),0))-2400-AP246","v":-2422.5},{"$f":"IFERROR(IF(BF246<=0,0,BF246),0)","v":0}]
[{"$f":"IFERROR(IF($BR$9<>\"\",$BR$9,\"\"),\"\")","v":2},{"$f":"IFERROR(IF($BS$9<>\"\",$BS$9,\"\"),\"\")","v":"Timothy Brian Odongo"},{"$f":"IFERROR(IF($BT$9<>\"\",$BT$9,\"\"),\"\")","v":2345671},{"$f":"IFERROR(IF($BU$9<>\"\",$BU$9,\"\"),\"\")","v":737456712},null,null,null,null,null,null,null,null,null,null,null,null,null,null,null,null,null,null,null,null,null,null,null,null,null,null,null,null,null,null,null,null,{"$f":"IFERROR(SUM(F247:AJ247)+AU247,0)","v":0},{"$f":"IFERROR(E247*AK247,0)","v":0},null,{"$f":"BG247","v":0},150,{"$f":"AO247*0.15","v":22.5},{"$f":"IF(AL247>=18000,1080,AL247*0.06)","v":0},{"$f":"IFERROR(AO247+AQ247,0)","v":150},null,{"$f":"AL247-AM247-AN247-AO247-AQ247","v":-150},null,null,null,null,null,null,null,null,null,null,0,-2422.5,{"$f":"IFERROR(IF(BF247<=0,0,BF247),0)","v":0}]
[{"$f":"IFERROR(IF($BR$10<>\"\",$BR$10,\"\"),\"\")","v":3},{"$f":"IFERROR(IF($BS$10<>\"\",$BS$10,\"\"),\"\")","v":"Bshora Wayu Nzamo"},{"$f":"IFERROR(IF($BT$10<>\"\",$BT$10,\"\"),\"\")","v":29675430},{"$f":"IFERROR(IF($BU$10<>\"\",$BU$10,\"\"),\"\")","v":734567820},null,null,null,null,null,null,null,null,null,null,null,null,null,null,null,null,null,null,null,null,null,null,null,null,null,null,null,null,null,null,null,null,0,0,null,0,150,22.5,0,150,null,-150,null,null,null,null,null,null,null,null,null,null,0,-2422.5,0]
[{"$f":"IFERROR(IF($BR$11<>\"\",$BR$11,\"\"),\"\")","v":4},{"$f":"IFERROR(IF($BS$11<>\"\",$BS$11,\"\"),\"\")","v":"Wanyoni Agala Musando"},{"$f":"IFERROR(IF($BT$11<>\"\",$BT$11,\"\"),\"\")","v":33456789},{"$f":"IFERROR(IF($BU$11<>\"\",$BU$11,\"\"),\"\")","v":786543221},null,null,null,null,null,null,null,null,null,null,null,null,null,null,null,null,null,null,null,null,null,null,null,null,null,null,null,null,null,null,null,null,0,0,null,0,150,22.5,0,150,null,-150,null,null,null,null,null,null,null,null,null,null,0,-2422.5,0]
[{"$f":"IFERROR(IF($BR$12<>\"\",$BR$12,\"\"),\"\")","v":5},{"$f":"IFERROR(IF($BS$12<>\"\",$BS$12,\"\"),\"\")","v":"Benerd Kimani Njorioge"},{"$f":"IFERROR(IF($BT$12<>\"\",$BT$12,\"\"),\"\")","v":30456789},{"$f":"IFERROR(IF($BU$12<>\"\",$BU$12,\"\"),\"\")","v":789654321},null,null,null,null,null,null,null,null,null,null,null,null,null,null,null,null,null,null,null,null,null,null,null,null,null,null,null,null,null,null,null,null,0,0,null,0,150,22.5,0,150,null,-150,null,null,null,null,null,null,null,null,null,null,0,-2422.5,0]
[{"$f":"IFERROR(IF($BR$13<>\"\",$BR$13,\"\"),\"\")","v":6},{"$f":"IFERROR(IF($BS$13<>\"\",$BS$13,\"\"),\"\")","v":"Sam Jacob Mroki"},{"$f":"IFERROR(IF($BT$13<>\"\",$BT$13,\"\"),\"\")","v":31567823},{"$f":"IFERROR(IF($BU$13<>\"\",$BU$13,\"\"),\"\")","v":768942345},null,null,null,null,null,null,null,null,null,null,null,null,null,null,null,null,null,null,null,null,null,null,null,null,null,null,null,null,null,null,null,null,0,0,null,0,150,22.5,0,150,null,-150,null,null,null,null,null,null,null,null,null,null,0,-2422.5,0]
[{"$f":"IFERROR(IF($BR$14<>\"\",$BR$14,\"\"),\"\")","v":7},{"$f":"IFERROR(IF($BS$14<>\"\",$BS$14,\"\"),\"\")","v":"Joy Mueni Mutinda"},{"$f":"IFERROR(IF($BT$14<>\"\",$BT$14,\"\"),\"\")","v":32897938},{"$f":"IFERROR(IF($BU$14<>\"\",$BU$14,\"\"),\"\")","v":723456765},null,null,null,null,null,null,null,null,null,null,null,null,null,null,null,null,null,null,null,null,null,null,null,null,null,null,null,null,null,null,null,null,0,0,null,0,150,22.5,0,150,null,-150,null,null,null,null,null,null,null,null,null,null,0,-2422.5,0]
[{"$f":"IFERROR(IF($BR$15<>\"\",$BR$15,\"\"),\"\")","v":8},{"$f":"IFERROR(IF($BS$15<>\"\",$BS$15,\"\"),\"\")","v":"Kahindi Mwero Boga"},{"$f":"IFERROR(IF($BT$15<>\"\",$BT$15,\"\"),\"\")","v":2934567},{"$f":"IFERROR(IF($BU$15<>\"\",$BU$15,\"\"),\"\")","v":798654312},null,null,null,null,null,null,null,null,null,null,null,null,null,null,null,null,null,null,null,null,null,null,null,null,null,null,null,null,null,null,null,null,0,0,null,0,150,22.5,0,150,null,-150,null,null,null,null,null,null,null,null,null,null,0,-2422.5,0]
[{"$f":"IFERROR(IF($BR$16<>\"\",$BR$16,\"\"),\"\")","v":9},{"$f":"IFERROR(IF($BS$16<>\"\",$BS$16,\"\"),\"\")","v":"John Boscco Bosire"},{"$f":"IFERROR(IF($BT$16<>\"\",$BT$16,\"\"),\"\")","v":98347897},{"$f":"IFERROR(IF($BU$16<>\"\",$BU$16,\"\"),\"\")","v":734567128},null,null,null,null,null,null,null,null,null,null,null,null,null,null,null,null,null,null,null,null,null,null,null,null,null,null,null,null,null,null,null,null,0,0,null,0,150,22.5,0,150,null,-150,null,null,null,null,null,null,null,null,null,null,0,-2422.5,0]
[{"$f":"IFERROR(IF($BR$17<>\"\",$BR$17,\"\"),\"\")","v":10},{"$f":"IFERROR(IF($BS$17<>\"\",$BS$17,\"\"),\"\")","v":"Hassan Abdulnasir Wario"},{"$f":"IFERROR(IF($BT$17<>\"\",$BT$17,\"\"),\"\")","v":2156789},{"$f":"IFERROR(IF($BU$17<>\"\",$BU$17,\"\"),\"\")","v":731256789},null,null,null,null,null,null,null,null,null,null,null,null,null,null,null,null,null,null,null,null,null,null,null,null,null,null,null,null,null,null,null,null,0,0,null,0,150,22.5,0,150,null,-150,null,null,null,null,null,null,null,null,null,null,0,-2422.5,0]
[{"$f":"IFERROR(IF($BR$18<>\"\",$BR$18,\"\"),\"\")","v":11},{"$f":"IFERROR(IF($BS$18<>\"\",$BS$18,\"\"),\"\")","v":"Jastine Makemba Batogo"},{"$f":"IFERROR(IF($BT$18<>\"\",$BT$18,\"\"),\"\")","v":34567890},{"$f":"IFERROR(IF($BU$18<>\"\",$BU$18,\"\"),\"\")","v":786885432},null,null,null,null,null,null,null,null,null,null,null,null,null,null,null,null,null,null,null,null,null,null,null,null,null,null,null,null,null,null,null,null,0,0,null,0,150,22.5,0,150,null,-150,null,null,null,null,null,null,null,null,null,null,0,-2422.5,0]
[{"$f":"IFERROR(IF($BR$19<>\"\",$BR$19,\"\"),\"\")","v":12},{"$f":"IFERROR(IF($BS$19<>\"\",$BS$19,\"\"),\"\")","v":"Janet Wairimu Wamatagi"},{"$f":"IFERROR(IF($BT$19<>\"\",$BT$19,\"\"),\"\")","v":35678910},{"$f":"IFERROR(IF($BU$19<>\"\",$BU$19,\"\"),\"\")","v":745683412},null,null,null,null,null,null,null,null,null,null,null,null,null,null,null,null,null,null,null,null,null,null,null,null,null,null,null,null,null,null,null,null,0,0,null,0,150,22.5,0,150,null,-150,null,null,null,null,null,null,null,null,null,null,0,-2422.5,0]
[{"$f":"IFERROR(IF($BR$20<>\"\",$BR$20,\"\"),\"\")","v":13},{"$f":"IFERROR(IF($BS$20<>\"\",$BS$20,\"\"),\"\")","v":"Denis Brian Ochola"},{"$f":"IFERROR(IF($BT$20<>\"\",$BT$20,\"\"),\"\")","v":34567812},{"$f":"IFERROR(IF($BU$20<>\"\",$BU$20,\"\"),\"\")","v":798345675},null,null,null,null,null,null,null,null,null,null,null,null,null,null,null,null,null,null,null,null,null,null,null,null,null,null,null,null,null,null,null,null,0,0,null,0,150,22.5,0,150,null,-150,null,null,null,null,null,null,null,null,null,null,0,-2422.5,0]
[{"$f":"IFERROR(IF($BR$21<>\"\",$BR$21,\"\"),\"\")","v":14},{"$f":"IFERROR(IF($BS$21<>\"\",$BS$21,\"\"),\"\")","v":"Gitau Harrison Kithi"},{"$f":"IFERROR(IF($BT$21<>\"\",$BT$21,\"\"),\"\")","v":35267812},{"$f":"IFERROR(IF($BU$21<>\"\",$BU$21,\"\"),\"\")","v":739456712},null,null,null,null,null,null,null,null,null,null,null,null,null,null,null,null,null,null,null,null,null,null,null,null,null,null,null,null,null,null,null,null,0,0,null,0,150,22.5,0,150,null,-150,null,null,null,null,null,null,null,null,null,null,0,-2422.5,0]
[{"$f":"IFERROR(IF($BR$22<>\"\",$BR$22,\"\"),\"\")","v":""},{"$f":"IFERROR(IF($BS$22<>\"\",$BS$22,\"\"),\"\")","v":""},{"$f":"IFERROR(IF($BT$22<>\"\",$BT$22,\"\"),\"\")","v":""},{"$f":"IFERROR(IF($BU$22<>\"\",$BU$22,\"\"),\"\")","v":""},null,null,null,null,null,null,null,null,null,null,null,null,null,null,null,null,null,null,null,null,null,null,null,null,null,null,null,null,null,null,null,null,0,0,null,0,150,22.5,0,150,null,-150,null,null,null,null,null,null,null,null,null,null,0,-2422.5,0]
[{"$f":"IFERROR(IF($BR$23<>\"\",$BR$23,\"\"),\"\")","v":""},{"$f":"IFERROR(IF($BS$23<>\"\",$BS$23,\"\"),\"\")","v":""},{"$f":"IFERROR(IF($BT$23<>\"\",$BT$23,\"\"),\"\")","v":""},{"$f":"IFERROR(IF($BU$23<>\"\",$BU$23,\"\"),\"\")","v":""},null,null,null,null,null,null,null,null,null,null,null,null,null,null,null,null,null,null,null,null,null,null,null,null,null,null,null,null,null,null,null,null,0,0,null,0,150,22.5,0,150,null,-150,null,null,null,null,null,null,null,null,null,null,0,-2422.5,0]
[{"$f":"IFERROR(IF($BR$24<>\"\",$BR$24,\"\"),\"\")","v":""},{"$f":"IFERROR(IF($BS$24<>\"\",$BS$24,\"\"),\"\")","v":""},{"$f":"IFERROR(IF($BT$24<>\"\",$BT$24,\"\"),\"\")","v":""},{"$f":"IFERROR(IF($BU$24<>\"\",$BU$24,\"\"),\"\")","v":""},null,null,null,null,null,null,null,null,null,null,null,null,null,null,null,null,null,null,null,null,null,null,null,null,null,null,null,null,null,null,null,null,0,0,null,0,150,22.5,0,150,null,-150,null,null,null,null,null,null,null,null,null,null,0,-2422.5,0]
[{"$f":"IFERROR(IF($BR$25<>\"\",$BR$25,\"\"),\"\")","v":""},{"$f":"IFERROR(IF($BS$25<>\"\",$BS$25,\"\"),\"\")","v":""},{"$f":"IFERROR(IF($BT$25<>\"\",$BT$25,\"\"),\"\")","v":""},{"$f":"IFERROR(IF($BU$25<>\"\",$BU$25,\"\"),\"\")","v":""},null,null,null,null,null,null,null,null,null,null,null,null,null,null,null,null,null,null,null,null,null,null,null,null,null,null,null,null,null,null,null,null,0,0,null,0,150,22.5,0,150,null,-150,null,null,null,null,null,null,null,null,null,null,0,-2422.5,0]
[{"$f":"IFERROR(IF($BR$26<>\"\",$BR$26,\"\"),\"\")","v":""},{"$f":"IFERROR(IF($BS$26<>\"\",$BS$26,\"\"),\"\")","v":""},{"$f":"IFERROR(IF($BT$26<>\"\",$BT$26,\"\"),\"\")","v":""},{"$f":"IFERROR(IF($BU$26<>\"\",$BU$26,\"\"),\"\")","v":""},null,null,null,null,null,null,null,null,null,null,null,null,null,null,null,null,null,null,null,null,null,null,null,null,null,null,null,null,null,null,null,null,0,0,null,0,150,22.5,0,150,null,-150,null,null,null,null,null,null,null,null,null,null,0,-2422.5,0]
[{"$f":"IFERROR(IF($BR$27<>\"\",$BR$27,\"\"),\"\")","v":""},{"$f":"IFERROR(IF($BS$27<>\"\",$BS$27,\"\"),\"\")","v":""},{"$f":"IFERROR(IF($BT$27<>\"\",$BT$27,\"\"),\"\")","v":""},{"$f":"IFERROR(IF($BU$27<>\"\",$BU$27,\"\"),\"\")","v":""},null,null,null,null,null,null,null,null,null,null,null,null,null,null,null,null,null,null,null,null,null,null,null,null,null,null,null,null,null,null,null,null,0,0,null,0,150,22.5,0,150,null,-150,null,null,null,null,null,null,null,null,null,null,0,-2422.5,0]
[{"$f":"IFERROR(IF($BR$28<>\"\",$BR$28,\"\"),\"\")","v":""},{"$f":"IFERROR(IF($BS$28<>\"\",$BS$28,\"\"),\"\")","v":""},{"$f":"IFERROR(IF($BT$28<>\"\",$BT$28,\"\"),\"\")","v":""},{"$f":"IFERROR(IF($BU$28<>\"\",$BU$28,\"\"),\"\")","v":""},null,null,null,null,null,null,null,null,null,null,null,null,null,null,null,null,null,null,null,null,null,null,null,null,null,null,null,null,null,null,null,null,0,0,null,0,150,22.5,0,150,null,-150,null,null,null,null,null,null,null,null,null,null,0,-2422.5,0]
[{"$f":"IFERROR(IF($BR$29<>\"\",$BR$29,\"\"),\"\")","v":""},{"$f":"IFERROR(IF($BS$29<>\"\",$BS$29,\"\"),\"\")","v":""},{"$f":"IFERROR(IF($BT$29<>\"\",$BT$29,\"\"),\"\")","v":""},{"$f":"IFERROR(IF($BU$29<>\"\",$BU$29,\"\"),\"\")","v":""},null,null,null,null,null,null,null,null,null,null,null,null,null,null,null,null,null,null,null,null,null,null,null,null,null,null,null,null,null,null,null,null,0,0,null,0,150,22.5,0,150,null,-150,null,null,null,null,null,null,null,null,null,null,0,-2422.5,0]
[{"$f":"IFERROR(IF($BR$30<>\"\",$BR$30,\"\"),\"\")","v":""},{"$f":"IFERROR(IF($BS$30<>\"\",$BS$30,\"\"),\"\")","v":""},{"$f":"IFERROR(IF($BT$30<>\"\",$BT$30,\"\"),\"\")","v":""},{"$f":"IFERROR(IF($BU$30<>\"\",$BU$30,\"\"),\"\")","v":""},null,null,null,null,null,null,null,null,null,null,null,null,null,null,null,null,null,null,null,null,null,null,null,null,null,null,null,null,null,null,null,null,0,0,null,0,150,22.5,0,150,null,-150,null,null,null,null,null,null,null,null,null,null,0,-2422.5,0]
[{"$f":"IFERROR(IF($BR$31<>\"\",$BR$31,\"\"),\"\")","v":""},{"$f":"IFERROR(IF($BS$31<>\"\",$BS$31,\"\"),\"\")","v":""},{"$f":"IFERROR(IF($BT$31<>\"\",$BT$31,\"\"),\"\")","v":""},{"$f":"IFERROR(IF($BU$31<>\"\",$BU$31,\"\"),\"\")","v":""},null,null,null,null,null,null,null,null,null,null,null,null,null,null,null,null,null,null,null,null,null,null,null,null,null,null,null,null,null,null,null,null,0,0,null,0,150,22.5,0,150,null,-150,null,null,null,null,null,null,null,null,null,null,0,-2422.5,0]
[{"$f":"IFERROR(IF($BR$32<>\"\",$BR$32,\"\"),\"\")","v":""},{"$f":"IFERROR(IF($BS$32<>\"\",$BS$32,\"\"),\"\")","v":""},{"$f":"IFERROR(IF($BT$32<>\"\",$BT$32,\"\"),\"\")","v":""},{"$f":"IFERROR(IF($BU$32<>\"\",$BU$32,\"\"),\"\")","v":""},null,null,null,null,null,null,null,null,null,null,null,null,null,null,null,null,null,null,null,null,null,null,null,null,null,null,null,null,null,null,null,null,0,0,null,0,150,22.5,0,150,null,-150,null,null,null,null,null,null,null,null,null,null,0,-2422.5,0]
["TOTAL",null,null,null,null,null,null,null,null,null,null,null,null,null,null,null,null,null,null,null,null,null,null,null,null,null,null,null,null,null,null,null,null,null,null,null,null,{"$f":"SUM(AL246:AL270)","v":0},{"$f":"SUM(AM246:AM270)","v":0},0,3750,562.5,0,3750,0,-3750,0,0,0]
[]
[]
[]
[]
[]
[]
["September"]
["EMP NO:","NAMES","ID NO","PHONE NO.","RATE",1,2,3,4,5,6,7,8,9,10,11,12,13,14,15,16,17,18,19,20,21,22,23,24,25,26,27,28,29,30,31,"TOTAL  DAYS","BASIC PAY","ADVANCE","PAYEE","NHIF","NHIF RELIEF","NSSF","TOTAL-D","LOAN REPAYMENT","NET PAYABLE","LEAVE DAYS","PAID END MONTH","NITA",null,null,null,null,null,null,null,"Basic Salary for Paye"]
[{"$f":"IFERROR(IF($BR$8<>\"\",$BR$8,\"\"),\"\")","v":1},{"$f":"IFERROR(IF($BS$8<>\"\",$BS$8,\"\"),\"\")","v":"Brian Kombe Gode"},{"$f":"IFERROR(IF($BT$8<>\"\",$BT$8,\"\"),\"\")","v":334567890},{"$f":"IFERROR(IF($BU$8<>\"\",$BU$8,\"\"),\"\")","v":7896543},null,null,null,null,null,null,null,null,null,null,null,null,null,null,null,null,null,null,null,null,null,null,null,null,null,null,null,null,null,null,null,null,{"$f":"IFERROR(SUM(F280:AJ280)+AU280,0)","v":0},{"$f":"IFERROR(E280*AK280,0)","v":0},null,{"$f":"BG280","v":0},{"$f":"IFERROR(VLOOKUP(AL280,$BH$24:$BI$40,2,TRUE),0)","v":150},{"$f":"AO280*0.15","v":22.5},{"$f":"IF(AL280>=18000,1080,AL280*0.06)","v":0},{"$f":"IFERROR(AO280+AQ280,0)","v":150},null,{"$f":"AL280-AM280-AN280-AO280-AQ280-AS280","v":-150},null,null,null,null,null,null,null,null,null,null,{"$f":"AL280-AQ280","v":0},{"$f":"(IFERROR(IF((BE280-$BH$10)>1,$BH$10*$BI$10,0)+IF((BE280-$BH$10)>$BH$11,$BH$11*$BI$11,IF(AND((BE280-$BH$10)<$BH$11,(BE280-$BH$10)>0),((BE280-$BH$10)/$BH$11*($BH$11*$BI$11)),0))+IF((BE280-$BH$10-$BH$11)>$BH$12,(BE280-$BH$12)*$BI$12,IF(AND((BE280-$BH$10-$BH$11)<$BH$12,(BE280-$BH$10-$BH$11)>0),((BE280-$BH$10-$BH$11)/$BH$12*($BH$12*$BI$12)),0)),0))-2400-AP280","v":-2422.5},{"$f":"IFERROR(IF(BF280<=0,0,BF280),0)","v":0}]
[{"$f":"IFERROR(IF($BR$9<>\"\",$BR$9,\"\"),\"\")","v":2},{"$f":"IFERROR(IF($BS$9<>\"\",$BS$9,\"\"),\"\")","v":"Timothy Brian Odongo"},{"$f":"IFERROR(IF($BT$9<>\"\",$BT$9,\"\"),\"\")","v":2345671},{"$f":"IFERROR(IF($BU$9<>\"\",$BU$9,\"\"),\"\")","v":737456712},null,null,null,null,null,null,null,null,null,null,null,null,null,null,null,null,null,null,null,null,null,null,null,null,null,null,null,null,null,null,null,null,{"$f":"IFERROR(SUM(F281:AJ281)+AU281,0)","v":0},{"$f":"IFERROR(E281*AK281,0)","v":0},null,{"$f":"BG281","v":0},150,{"$f":"AO281*0.15","v":22.5},{"$f":"IF(AL281>=18000,1080,AL281*0.06)","v":0},{"$f":"IFERROR(AO281+AQ281,0)","v":150},null,{"$f":"AL281-AM281-AN281-AO281-AQ281","v":-150},null,null,null,null,null,null,null,null,null,null,0,-2422.5,{"$f":"IFERROR(IF(BF281<=0,0,BF281),0)","v":0}]
[{"$f":"IFERROR(IF($BR$10<>\"\",$BR$10,\"\"),\"\")","v":3},{"$f":"IFERROR(IF($BS$10<>\"\",$BS$10,\"\"),\"\")","v":"Bshora Wayu Nzamo"},{"$f":"IFERROR(IF($BT$10<>\"\",$BT$10,\"\"),\"\")","v":29675430},{"$f":"IFERROR(IF($BU$10<>\"\",$BU$10,\"\"),\"\")","v":734567820},null,null,null,null,null,null,null,null,null,null,null,null,null,null,null,null,null,null,null,null,null,null,null,null,null,null,null,null,null,null,null,null,0,0,null,0,150,22.5,0,150,null,-150,null,null,null,null,null,null,null,null,null,null,0,-2422.5,0]
[{"$f":"IFERROR(IF($BR$11<>\"\",$BR$11,\"\"),\"\")","v":4},{"$f":"IFERROR(IF($BS$11<>\"\",$BS$11,\"\"),\"\")","v":"Wanyoni Agala Musando"},{"$f":"IFERROR(IF($BT$11<>\"\",$BT$11,\"\"),\"\")","v":33456789},{"$f":"IFERROR(IF($BU$11<>\"\",$BU$11,\"\"),\"\")","v":786543221},null,null,null,null,null,null,null,null,null,null,null,null,null,null,null,null,null,null,null,null,null,null,null,null,null,null,null,null,null,null,null,null,0,0,null,0,150,22.5,0,150,null,-150,null,null,null,null,null,null,null,null,null,null,0,-2422.5,0]
[{"$f":"IFERROR(IF($BR$12<>\"\",$BR$12,\"\"),\"\")","v":5},{"$f":"IFERROR(IF($BS$12<>\"\",$BS$12,\"\"),\"\")","v":"Benerd Kimani Njorioge"},{"$f":"IFERROR(IF($BT$12<>\"\",$BT$12,\"\"),\"\")","v":30456789},{"$f":"IFERROR(IF($BU$12<>\"\",$BU$12,\"\"),\"\")","v":789654321},null,null,null,null,null,null,null,null,null,null,null,null,null,null,null,null,null,null,null,null,null,null,null,null,null,null,null,null,null,null,null,null,0,0,null,0,150,22.5,0,150,null,-150,null,null,null,null,null,null,null,null,null,null,0,-2422.5,0]
[{"$f":"IFERROR(IF($BR$13<>\"\",$BR$13,\"\"),\"\")","v":6},{"$f":"IFERROR(IF($BS$13<>\"\",$BS$13,\"\"),\"\")","v":"Sam Jacob Mroki"},{"$f":"IFERROR(IF($BT$13<>\"\",$BT$13,\"\"),\"\")","v":31567823},{"$f":"IFERROR(IF($BU$13<>\"\",$BU$13,\"\"),\"\")","v":768942345},null,null,null,null,null,null,null,null,null,null,null,null,null,null,null,null,null,null,null,null,null,null,null,null,null,null,null,null,null,null,null,null,0,0,null,0,150,22.5,0,150,null,-150,null,null,null,null,null,null,null,null,null,null,0,-2422.5,0]
[{"$f":"IFERROR(IF($BR$14<>\"\",$BR$14,\"\"),\"\")","v":7},{"$f":"IFERROR(IF($BS$14<>\"\",$BS$14,\"\"),\"\")","v":"Joy Mueni Mutinda"},{"$f":"IFERROR(IF($BT$14<>\"\",$BT$14,\"\"),\"\")","v":32897938},{"$f":"IFERROR(IF($BU$14<>\"\",$BU$14,\"\"),\"\")","v":723456765},null,null,null,null,null,null,null,null,null,null,null,null,null,null,null,null,null,null,null,null,null,null,null,null,null,null,null,null,null,null,null,null,0,0,null,0,150,22.5,0,150,null,-150,null,null,null,null,null,null,null,null,null,null,0,-2422.5,0]
[{"$f":"IFERROR(IF($BR$15<>\"\",$BR$15,\"\"),\"\")","v":8},{"$f":"IFERROR(IF($BS$15<>\"\",$BS$15,\"\"),\"\")","v":"Kahindi Mwero Boga"},{"$f":"IFERROR(IF($BT$15<>\"\",$BT$15,\"\"),\"\")","v":2934567},{"$f":"IFERROR(IF($BU$15<>\"\",$BU$15,\"\"),\"\")","v":798654312},null,null,null,null,null,null,null,null,null,null,null,null,null,null,null,null,null,null,null,null,null,null,null,null,null,null,null,null,null,null,null,null,0,0,null,0,150,22.5,0,150,null,-150,null,null,null,null,null,null,null,null,null,null,0,-2422.5,0]
[{"$f":"IFERROR(IF($BR$16<>\"\",$BR$16,\"\"),\"\")","v":9},{"$f":"IFERROR(IF($BS$16<>\"\",$BS$16,\"\"),\"\")","v":"John Boscco Bosire"},{"$f":"IFERROR(IF($BT$16<>\"\",$BT$16,\"\"),\"\")","v":98347897},{"$f":"IFERROR(IF($BU$16<>\"\",$BU$16,\"\"),\"\")","v":734567128},null,null,null,null,null,null,null,null,null,null,null,null,null,null,null,null,null,null,null,null,null,null,null,null,null,null,null,null,null,null,null,null,0,0,null,0,150,22.5,0,150,null,-150,null,null,null,null,null,null,null,null,null,null,0,-2422.5,0]
[{"$f":"IFERROR(IF($BR$17<>\"\",$BR$17,\"\"),\"\")","v":10},{"$f":"IFERROR(IF($BS$17<>\"\",$BS$17,\"\"),\"\")","v":"Hassan Abdulnasir Wario"},{"$f":"IFERROR(IF($BT$17<>\"\",$BT$17,\"\"),\"\")","v":2156789},{"$f":"IFERROR(IF($BU$17<>\"\",$BU$17,\"\"),\"\")","v":731256789},null,null,null,null,null,null,null,null,null,null,null,null,null,null,null,null,null,null,null,null,null,null,null,null,null,null,null,null,null,null,null,null,0,0,null,0,150,22.5,0,150,null,-150,null,null,null,null,null,null,null,null,null,null,0,-2422.5,0]
[{"$f":"IFERROR(IF($BR$18<>\"\",$BR$18,\"\"),\"\")","v":11},{"$f":"IFERROR(IF($BS$18<>\"\",$BS$18,\"\"),\"\")","v":"Jastine Makemba Batogo"},{"$f":"IFERROR(IF($BT$18<>\"\",$BT$18,\"\"),\"\")","v":34567890},{"$f":"IFERROR(IF($BU$18<>\"\",$BU$18,\"\"),\"\")","v":786885432},null,null,null,null,null,null,null,null,null,null,null,null,null,null,null,null,null,null,null,null,null,null,null,null,null,null,null,null,null,null,null,null,0,0,null,0,150,22.5,0,150,null,-150,null,null,null,null,null,null,null,null,null,null,0,-2422.5,0]
[{"$f":"IFERROR(IF($BR$19<>\"\",$BR$19,\"\"),\"\")","v":12},{"$f":"IFERROR(IF($BS$19<>\"\",$BS$19,\"\"),\"\")","v":"Janet Wairimu Wamatagi"},{"$f":"IFERROR(IF($BT$19<>\"\",$BT$19,\"\"),\"\")","v":35678910},{"$f":"IFERROR(IF($BU$19<>\"\",$BU$19,\"\"),\"\")","v":745683412},null,null,null,null,null,null,null,null,null,null,null,null,null,null,null,null,null,null,null,null,null,null,null,null,null,null,null,null,null,null,null,null,0,0,null,0,150,22.5,0,150,null,-150,null,null,null,null,null,null,null,null,null,null,0,-2422.5,0]
[{"$f":"IFERROR(IF($BR$20<>\"\",$BR$20,\"\"),\"\")","v":13},{"$f":"IFERROR(IF($BS$20<>\"\",$BS$20,\"\"),\"\")","v":"Denis Brian Ochola"},{"$f":"IFERROR(IF($BT$20<>\"\",$BT$20,\"\"),\"\")","v":34567812},{"$f":"IFERROR(IF($BU$20<>\"\",$BU$20,\"\"),\"\")","v":798345675},null,null,null,null,null,null,null,null,null,null,null,null,null,null,null,null,null,null,null,null,null,null,null,null,null,null,null,null,null,null,null,null,0,0,null,0,150,22.5,0,150,null,-150,null,null,null,null,null,null,null,null,null,null,0,-2422.5,0]
[{"$f":"IFERROR(IF($BR$21<>\"\",$BR$21,\"\"),\"\")","v":14},{"$f":"IFERROR(IF($BS$21<>\"\",$BS$21,\"\"),\"\")","v":"Gitau Harrison Kithi"},{"$f":"IFERROR(IF($BT$21<>\"\",$BT$21,\"\"),\"\")","v":35267812},{"$f":"IFERROR(IF($BU$21<>\"\",$BU$21,\"\"),\"\")","v":739456712},null,null,null,null,null,null,null,null,null,null,null,null,null,null,null,null,null,null,null,null,null,null,null,null,null,null,null,null,null,null,null,null,0,0,null,0,150,22.5,0,150,null,-150,null,null,null,null,null,null,null,null,null,null,0,-2422.5,0]
[{"$f":"IFERROR(IF($BR$22<>\"\",$BR$22,\"\"),\"\")","v":""},{"$f":"IFERROR(IF($BS$22<>\"\",$BS$22,\"\"),\"\")","v":""},{"$f":"IFERROR(IF($BT$22<>\"\",$BT$22,\"\"),\"\")","v":""},{"$f":"IFERROR(IF($BU$22<>\"\",$BU$22,\"\"),\"\")","v":""},null,null,null,null,null,null,null,null,null,null,null,null,null,null,null,null,null,null,null,null,null,null,null,null,null,null,null,null,null,null,null,null,0,0,null,0,150,22.5,0,150,null,-150,null,null,null,null,null,null,null,null,null,null,0,-2422.5,0]
[{"$f":"IFERROR(IF($BR$23<>\"\",$BR$23,\"\"),\"\")","v":""},{"$f":"IFERROR(IF($BS$23<>\"\",$BS$23,\"\"),\"\")","v":""},{"$f":"IFERROR(IF($BT$23<>\"\",$BT$23,\"\"),\"\")","v":""},{"$f":"IFERROR(IF($BU$23<>\"\",$BU$23,\"\"),\"\")","v":""},null,null,null,null,null,null,null,null,null,null,null,null,null,null,null,null,null,null,null,null,null,null,null,null,null,null,null,null,null,null,null,null,0,0,null,0,150,22.5,0,150,null,-150,null,null,null,null,null,null,null,null,null,null,0,-2422.5,0]
[{"$f":"IFERROR(IF($BR$24<>\"\",$BR$24,\"\"),\"\")","v":""},{"$f":"IFERROR(IF($BS$24<>\"\",$BS$24,\"\"),\"\")","v":""},{"$f":"IFERROR(IF($BT$24<>\"\",$BT$24,\"\"),\"\")","v":""},{"$f":"IFERROR(IF($BU$24<>\"\",$BU$24,\"\"),\"\")","v":""},null,null,null,null,null,null,null,null,null,null,null,null,null,null,null,null,null,null,null,null,null,null,null,null,null,null,null,null,null,null,null,null,0,0,null,0,150,22.5,0,150,null,-150,null,null,null,null,null,null,null,null,null,null,0,-2422.5,0]
[{"$f":"IFERROR(IF($BR$25<>\"\",$BR$25,\"\"),\"\")","v":""},{"$f":"IFERROR(IF($BS$25<>\"\",$BS$25,\"\"),\"\")","v":""},{"$f":"IFERROR(IF($BT$25<>\"\",$BT$25,\"\"),\"\")","v":""},{"$f":"IFERROR(IF($BU$25<>\"\",$BU$25,\"\"),\"\")","v":""},null,null,null,null,null,null,null,null,null,null,null,null,null,null,null,null,null,null,null,null,null,null,null,null,null,null,null,null,null,null,null,null,0,0,null,0,150,22.5,0,150,null,-150,null,null,null,null,null,null,null,null,null,null,0,-2422.5,0]
[{"$f":"IFERROR(IF($BR$26<>\"\",$BR$26,\"\"),\"\")","v":""},{"$f":"IFERROR(IF($BS$26<>\"\",$BS$26,\"\"),\"\")","v":""},{"$f":"IFERROR(IF($BT$26<>\"\",$BT$26,\"\"),\"\")","v":""},{"$f":"IFERROR(IF($BU$26<>\"\",$BU$26,\"\"),\"\")","v":""},null,null,null,null,null,null,null,null,null,null,null,null,null,null,null,null,null,null,null,null,null,null,null,null,null,null,null,null,null,null,null,null,0,0,null,0,150,22.5,0,150,null,-150,null,null,null,null,null,null,null,null,null,null,0,-2422.5,0]
[{"$f":"IFERROR(IF($BR$27<>\"\",$BR$27,\"\"),\"\")","v":""},{"$f":"IFERROR(IF($BS$27<>\"\",$BS$27,\"\"),\"\")","v":""},{"$f":"IFERROR(IF($BT$27<>\"\",$BT$27,\"\"),\"\")","v":""},{"$f":"IFERROR(IF($BU$27<>\"\",$BU$27,\"\"),\"\")","v":""},null,null,null,null,null,null,null,null,null,null,null,null,null,null,null,null,null,null,null,null,null,null,null,null,null,null,null,null,null,null,null,null,0,0,null,0,150,22.5,0,150,null,-150,null,null,null,null,null,null,null,null,null,null,0,-2422.5,0]
[{"$f":"IFERROR(IF($BR$28<>\"\",$BR$28,\"\"),\"\")","v":""},{"$f":"IFERROR(IF($BS$28<>\"\",$BS$28,\"\"),\"\")","v":""},{"$f":"IFERROR(IF($BT$28<>\"\",$BT$28,\"\"),\"\")","v":""},{"$f":"IFERROR(IF($BU$28<>\"\",$BU$28,\"\"),\"\")","v":""},null,null,null,null,null,null,null,null,null,null,null,null,null,null,null,null,null,null,null,null,null,null,null,null,null,null,null,null,null,null,null,null,0,0,null,0,150,22.5,0,150,null,-150,null,null,null,null,null,null,null,null,null,null,0,-2422.5,0]
[{"$f":"IFERROR(IF($BR$29<>\"\",$BR$29,\"\"),\"\")","v":""},{"$f":"IFERROR(IF($BS$29<>\"\",$BS$29,\"\"),\"\")","v":""},{"$f":"IFERROR(IF($BT$29<>\"\",$BT$29,\"\"),\"\")","v":""},{"$f":"IFERROR(IF($BU$29<>\"\",$BU$29,\"\"),\"\")","v":""},null,null,null,null,null,null,null,null,null,null,null,null,null,null,null,null,null,null,null,null,null,null,null,null,null,null,null,null,null,null,null,null,0,0,null,0,150,22.5,0,150,null,-150,null,null,null,null,null,null,null,null,null,null,0,-2422.5,0]
[{"$f":"IFERROR(IF($BR$30<>\"\",$BR$30,\"\"),\"\")","v":""},{"$f":"IFERROR(IF($BS$30<>\"\",$BS$30,\"\"),\"\")","v":""},{"$f":"IFERROR(IF($BT$30<>\"\",$BT$30,\"\"),\"\")","v":""},{"$f":"IFERROR(IF($BU$30<>\"\",$BU$30,\"\"),\"\")","v":""},null,null,null,null,null,null,null,null,null,null,null,null,null,null,null,null,null,null,null,null,null,null,null,null,null,null,null,null,null,null,null,null,0,0,null,0,150,22.5,0,150,null,-150,null,null,null,null,null,null,null,null,null,null,0,-2422.5,0]
[{"$f":"IFERROR(IF($BR$31<>\"\",$BR$31,\"\"),\"\")","v":""},{"$f":"IFERROR(IF($BS$31<>\"\",$BS$31,\"\"),\"\")","v":""},{"$f":"IFERROR(IF($BT$31<>\"\",$BT$31,\"\"),\"\")","v":""},{"$f":"IFERROR(IF($BU$31<>\"\",$BU$31,\"\"),\"\")","v":""},null,null,null,null,null,null,null,null,null,null,null,null,null,null,null,null,null,null,null,null,null,null,null,null,null,null,null,null,null,null,null,null,0,0,null,0,150,22.5,0,150,null,-150,null,null,null,null,null,null,null,null,null,null,0,-2422.5,0]
[{"$f":"IFERROR(IF($BR$32<>\"\",$BR$32,\"\"),\"\")","v":""},{"$f":"IFERROR(IF($BS$32<>\"\",$BS$32,\"\"),\"\")","v":""},{"$f":"IFERROR(IF($BT$32<>\"\",$BT$32,\"\"),\"\")","v":""},{"$f":"IFERROR(IF($BU$32<>\"\",$BU$32,\"\"),\"\")","v":""},null,null,null,null,null,null,null,null,null,null,null,null,null,null,null,null,null,null,null,null,null,null,null,null,null,null,null,null,null,null,null,null,0,0,null,0,150,22.5,0,150,null,-150,null,null,null,null,null,null,null,null,null,null,0,-2422.5,0]
["TOTAL",null,null,null,null,null,null,null,null,null,null,null,null,null,null,null,null,null,null,null,null,null,null,null,null,null,null,null,null,null,null,null,null,null,null,null,null,{"$f":"SUM(AL280:AL304)","v":0},{"$f":"SUM(AM280:AM304)","v":0},0,3750,562.5,0,3750,0,-3750,0,0,0]
[]
[]
[]
[]
[]
[]
["October"]
["EMP NO:","NAMES","ID NO","PHONE NO.","RATE",1,2,3,4,5,6,7,8,9,10,11,12,13,14,15,16,17,18,19,20,21,22,23,24,25,26,27,28,29,30,31,"TOTAL  DAYS","BASIC PAY","ADVANCE","PAYEE","NHIF","NHIF RELIEF","NSSF","TOTAL-D","LOAN REPAYMENT","NET PAYABLE","LEAVE DAYS","PAID END MONTH","NITA",null,null,null,null,null,null,null,"Basic Salary for Paye"]
[{"$f":"IFERROR(IF($BR$8<>\"\",$BR$8,\"\"),\"\")","v":1},{"$f":"IFERROR(IF($BS$8<>\"\",$BS$8,\"\"),\"\")","v":"Brian Kombe Gode"},{"$f":"IFERROR(IF($BT$8<>\"\",$BT$8,\"\"),\"\")","v":334567890},{"$f":"IFERROR(IF($BU$8<>\"\",$BU$8,\"\"),\"\")","v":7896543},null,null,null,null,null,null,null,null,null,null,null,null,null,null,null,null,null,null,null,null,null,null,null,null,null,null,null,null,null,null,null,null,{"$f":"IFERROR(SUM(F314:AJ314)+AU314,0)","v":0},{"$f":"IFERROR(E314*AK314,0)","v":0},null,{"$f":"BG314","v":0},{"$f":"IFERROR(VLOOKUP(AL314,$BH$24:$BI$40,2,TRUE),0)","v":150},{"$f":"AO314*0.15","v":22.5},{"$f":"IF(AL314>=18000,1080,AL314*0.06)","v":0},{"$f":"IFERROR(AO314+AQ314,0)","v":150},null,{"$f":"AL314-AM314-AN314-AO314-AQ314-AS314","v":-150},null,null,null,null,null,null,null,null,null,null,{"$f":"AL314-AQ314","v":0},{"$f":"(IFERROR(IF((BE314-$BH$10)>1,$BH$10*$BI$10,0)+IF((BE314-$BH$10)>$BH$11,$BH$11*$BI$11,IF(AND((BE314-$BH$10)<$BH$11,(BE314-$BH$10)>0),((BE314-$BH$10)/$BH$11*($BH$11*$BI$11)),0))+IF((BE314-$BH$10-$BH$11)>$BH$12,(BE314-$BH$12)*$BI$12,IF(AND((BE314-$BH$10-$BH$11)<$BH$12,(BE314-$BH$10-$BH$11)>0),((BE314-$BH$10-$BH$11)/$BH$12*($BH$12*$BI$12)),0)),0))-2400-AP314","v":-2422.5},{"$f":"IFERROR(IF(BF314<=0,0,BF314),0)","v":0}]
[{"$f":"IFERROR(IF($BR$9<>\"\",$BR$9,\"\"),\"\")","v":2},{"$f":"IFERROR(IF($BS$9<>\"\",$BS$9,\"\"),\"\")","v":"Timothy Brian Odongo"},{"$f":"IFERROR(IF($BT$9<>\"\",$BT$9,\"\"),\"\")","v":2345671},{"$f":"IFERROR(IF($BU$9<>\"\",$BU$9,\"\"),\"\")","v":737456712},null,null,null,null,null,null,null,null,null,null,null,null,null,null,null,null,null,null,null,null,null,null,null,null,null,null,null,null,null,null,null,null,{"$f":"IFERROR(SUM(F315:AJ315)+AU315,0)","v":0},{"$f":"IFERROR(E315*AK315,0)","v":0},null,{"$f":"BG315","v":0},150,{"$f":"AO315*0.15","v":22.5},{"$f":"IF(AL315>=18000,1080,AL315*0.06)","v":0},{"$f":"IFERROR(AO315+AQ315,0)","v":150},null,{"$f":"AL315-AM315-AN315-AO315-AQ315","v":-150},null,null,null,null,null,null,null,null,null,null,0,-2422.5,{"$f":"IFERROR(IF(BF315<=0,0,BF315),0)","v":0}]
[{"$f":"IFERROR(IF($BR$10<>\"\",$BR$10,\"\"),\"\")","v":3},{"$f":"IFERROR(IF($BS$10<>\"\",$BS$10,\"\"),\"\")","v":"Bshora Wayu Nzamo"},{"$f":"IFERROR(IF($BT$10<>\"\",$BT$10,\"\"),\"\")","v":29675430},{"$f":"IFERROR(IF($BU$10<>\"\",$BU$10,\"\"),\"\")","v":734567820},null,null,null,null,null,null,null,null,null,null,null,null,null,null,null,null,null,null,null,null,null,null,null,null,null,null,null,null,null,null,null,null,0,0,null,0,150,22.5,0,150,null,-150,null,null,null,null,null,null,null,null,null,null,0,-2422.5,0]
[{"$f":"IFERROR(IF($BR$11<>\"\",$BR$11,\"\"),\"\")","v":4},{"$f":"IFERROR(IF($BS$11<>\"\",$BS$11,\"\"),\"\")","v":"Wanyoni Agala Musando"},{"$f":"IFERROR(IF($BT$11<>\"\",$BT$11,\"\"),\"\")","v":33456789},{"$f":"IFERROR(IF($BU$11<>\"\",$BU$11,\"\"),\"\")","v":786543221},null,null,null,null,null,null,null,null,null,null,null,null,null,null,null,null,null,null,null,null,null,null,null,null,null,null,null,null,null,null,null,null,0,0,null,0,150,22.5,0,150,null,-150,null,null,null,null,null,null,null,null,null,null,0,-2422.5,0]
[{"$f":"IFERROR(IF($BR$12<>\"\",$BR$12,\"\"),\"\")","v":5},{"$f":"IFERROR(IF($BS$12<>\"\",$BS$12,\"\"),\"\")","v":"Benerd Kimani Njorioge"},{"$f":"IFERROR(IF($BT$12<>\"\",$BT$12,\"\"),\"\")","v":30456789},{"$f":"IFERROR(IF($BU$12<>\"\",$BU$12,\"\"),\"\")","v":789654321},null,null,null,null,null,null,null,null,null,null,null,null,null,null,null,null,null,null,null,null,null,null,null,null,null,null,null,null,null,null,null,null,0,0,null,0,150,22.5,0,150,null,-150,null,null,null,null,null,null,null,null,null,null,0,-2422.5,0]
[{"$f":"IFERROR(IF($BR$13<>\"\",$BR$13,\"\"),\"\")","v":6},{"$f":"IFERROR(IF($BS$13<>\"\",$BS$13,\"\"),\"\")","v":"Sam Jacob Mroki"},{"$f":"IFERROR(IF($BT$13<>\"\",$BT$13,\"\"),\"\")","v":31567823},{"$f":"IFERROR(IF($BU$13<>\"\",$BU$13,\"\"),\"\")","v":768942345},null,null,null,null,null,null,null,null,null,null,null,null,null,null,null,null,null,null,null,null,null,null,null,null,null,null,null,null,null,null,null,null,0,0,null,0,150,22.5,0,150,null,-150,null,null,null,null,null,null,null,null,null,null,0,-2422.5,0]
[{"$f":"IFERROR(IF($BR$14<>\"\",$BR$14,\"\"),\"\")","v":7},{"$f":"IFERROR(IF($BS$14<>\"\",$BS$14,\"\"),\"\")","v":"Joy Mueni Mutinda"},{"$f":"IFERROR(IF($BT$14<>\"\",$BT$14,\"\"),\"\")","v":32897938},{"$f":"IFERROR(IF($BU$14<>\"\",$BU$14,\"\"),\"\")","v":723456765},null,null,null,null,null,null,null,null,null,null,null,null,null,null,null,null,null,null,null,null,null,null,null,null,null,null,null,null,null,null,null,null,0,0,null,0,150,22.5,0,150,null,-150,null,null,null,null,null,null,null,null,null,null,0,-2422.5,0]
[{"$f":"IFERROR(IF($BR$15<>\"\",$BR$15,\"\"),\"\")","v":8},{"$f":"IFERROR(IF($BS$15<>\"\",$BS$15,\"\"),\"\")","v":"Kahindi Mwero Boga"},{"$f":"IFERROR(IF($BT$15<>\"\",$BT$15,\"\"),\"\")","v":2934567},{"$f":"IFERROR(IF($BU$15<>\"\",$BU$15,\"\"),\"\")","v":798654312},null,null,null,null,null,null,null,null,null,null,null,null,null,null,null,null,null,null,null,null,null,null,null,null,null,null,null,null,null,null,null,null,0,0,null,0,150,22.5,0,150,null,-150,null,null,null,null,null,null,null,null,null,null,0,-2422.5,0]
[{"$f":"IFERROR(IF($BR$16<>\"\",$BR$16,\"\"),\"\")","v":9},{"$f":"IFERROR(IF($BS$16<>\"\",$BS$16,\"\"),\"\")","v":"John Boscco Bosire"},{"$f":"IFERROR(IF($BT$16<>\"\",$BT$16,\"\"),\"\")","v":98347897},{"$f":"IFERROR(IF($BU$16<>\"\",$BU$16,\"\"),\"\")","v":734567128},null,null,null,null,null,null,null,null,null,null,null,null,null,null,null,null,null,null,null,null,null,null,null,null,null,null,null,null,null,null,null,null,0,0,null,0,150,22.5,0,150,null,-150,null,null,null,null,null,null,null,null,null,null,0,-2422.5,0]
[{"$f":"IFERROR(IF($BR$17<>\"\",$BR$17,\"\"),\"\")","v":10},{"$f":"IFERROR(IF($BS$17<>\"\",$BS$17,\"\"),\"\")","v":"Hassan Abdulnasir Wario"},{"$f":"IFERROR(IF($BT$17<>\"\",$BT$17,\"\"),\"\")","v":2156789},{"$f":"IFERROR(IF($BU$17<>\"\",$BU$17,\"\"),\"\")","v":731256789},null,null,null,null,null,null,null,null,null,null,null,null,null,null,null,null,null,null,null,null,null,null,null,null,null,null,null,null,null,null,null,null,0,0,null,0,150,22.5,0,150,null,-150,null,null,null,null,null,null,null,null,null,null,0,-2422.5,0]
[{"$f":"IFERROR(IF($BR$18<>\"\",$BR$18,\"\"),\"\")","v":11},{"$f":"IFERROR(IF($BS$18<>\"\",$BS$18,\"\"),\"\")","v":"Jastine Makemba Batogo"},{"$f":"IFERROR(IF($BT$18<>\"\",$BT$18,\"\"),\"\")","v":34567890},{"$f":"IFERROR(IF($BU$18<>\"\",$BU$18,\"\"),\"\")","v":786885432},null,null,null,null,null,null,null,null,null,null,null,null,null,null,null,null,null,null,null,null,null,null,null,null,null,null,null,null,null,null,null,null,0,0,null,0,150,22.5,0,150,null,-150,null,null,null,null,null,null,null,null,null,null,0,-2422.5,0]
[{"$f":"IFERROR(IF($BR$19<>\"\",$BR$19,\"\"),\"\")","v":12},{"$f":"IFERROR(IF($BS$19<>\"\",$BS$19,\"\"),\"\")","v":"Janet Wairimu Wamatagi"},{"$f":"IFERROR(IF($BT$19<>\"\",$BT$19,\"\"),\"\")","v":35678910},{"$f":"IFERROR(IF($BU$19<>\"\",$BU$19,\"\"),\"\")","v":745683412},null,null,null,null,null,null,null,null,null,null,null,null,null,null,null,null,null,null,null,null,null,null,null,null,null,null,null,null,null,null,null,null,0,0,null,0,150,22.5,0,150,null,-150,null,null,null,null,null,null,null,null,null,null,0,-2422.5,0]
[{"$f":"IFERROR(IF($BR$20<>\"\",$BR$20,\"\"),\"\")","v":13},{"$f":"IFERROR(IF($BS$20<>\"\",$BS$20,\"\"),\"\")","v":"Denis Brian Ochola"},{"$f":"IFERROR(IF($BT$20<>\"\",$BT$20,\"\"),\"\")","v":34567812},{"$f":"IFERROR(IF($BU$20<>\"\",$BU$20,\"\"),\"\")","v":798345675},null,null,null,null,null,null,null,null,null,null,null,null,null,null,null,null,null,null,null,null,null,null,null,null,null,null,null,null,null,null,null,null,0,0,null,0,150,22.5,0,150,null,-150,null,null,null,null,null,null,null,null,null,null,0,-2422.5,0]
[{"$f":"IFERROR(IF($BR$21<>\"\",$BR$21,\"\"),\"\")","v":14},{"$f":"IFERROR(IF($BS$21<>\"\",$BS$21,\"\"),\"\")","v":"Gitau Harrison Kithi"},{"$f":"IFERROR(IF($BT$21<>\"\",$BT$21,\"\"),\"\")","v":35267812},{"$f":"IFERROR(IF($BU$21<>\"\",$BU$21,\"\"),\"\")","v":739456712},null,null,null,null,null,null,null,null,null,null,null,null,null,null,null,null,null,null,null,null,null,null,null,null,null,null,null,null,null,null,null,null,0,0,null,0,150,22.5,0,150,null,-150,null,null,null,null,null,null,null,null,null,null,0,-2422.5,0]
[{"$f":"IFERROR(IF($BR$22<>\"\",$BR$22,\"\"),\"\")","v":""},{"$f":"IFERROR(IF($BS$22<>\"\",$BS$22,\"\"),\"\")","v":""},{"$f":"IFERROR(IF($BT$22<>\"\",$BT$22,\"\"),\"\")","v":""},{"$f":"IFERROR(IF($BU$22<>\"\",$BU$22,\"\"),\"\")","v":""},null,null,null,null,null,null,null,null,null,null,null,null,null,null,null,null,null,null,null,null,null,null,null,null,null,null,null,null,null,null,null,null,0,0,null,0,150,22.5,0,150,null,-150,null,null,null,null,null,null,null,null,null,null,0,-2422.5,0]
[{"$f":"IFERROR(IF($BR$23<>\"\",$BR$23,\"\"),\"\")","v":""},{"$f":"IFERROR(IF($BS$23<>\"\",$BS$23,\"\"),\"\")","v":""},{"$f":"IFERROR(IF($BT$23<>\"\",$BT$23,\"\"),\"\")","v":""},{"$f":"IFERROR(IF($BU$23<>\"\",$BU$23,\"\"),\"\")","v":""},null,null,null,null,null,null,null,null,null,null,null,null,null,null,null,null,null,null,null,null,null,null,null,null,null,null,null,null,null,null,null,null,0,0,null,0,150,22.5,0,150,null,-150,null,null,null,null,null,null,null,null,null,null,0,-2422.5,0]
[{"$f":"IFERROR(IF($BR$24<>\"\",$BR$24,\"\"),\"\")","v":""},{"$f":"IFERROR(IF($BS$24<>\"\",$BS$24,\"\"),\"\")","v":""},{"$f":"IFERROR(IF($BT$24<>\"\",$BT$24,\"\"),\"\")","v":""},{"$f":"IFERROR(IF($BU$24<>\"\",$BU$24,\"\"),\"\")","v":""},null,null,null,null,null,null,null,null,null,null,null,null,null,null,null,null,null,null,null,null,null,null,null,null,null,null,null,null,null,null,null,null,0,0,null,0,150,22.5,0,150,null,-150,null,null,null,null,null,null,null,null,null,null,0,-2422.5,0]
[{"$f":"IFERROR(IF($BR$25<>\"\",$BR$25,\"\"),\"\")","v":""},{"$f":"IFERROR(IF($BS$25<>\"\",$BS$25,\"\"),\"\")","v":""},{"$f":"IFERROR(IF($BT$25<>\"\",$BT$25,\"\"),\"\")","v":""},{"$f":"IFERROR(IF($BU$25<>\"\",$BU$25,\"\"),\"\")","v":""},null,null,null,null,null,null,null,null,null,null,null,null,null,null,null,null,null,null,null,null,null,null,null,null,null,null,null,null,null,null,null,null,0,0,null,0,150,22.5,0,150,null,-150,null,null,null,null,null,null,null,null,null,null,0,-2422.5,0]
[{"$f":"IFERROR(IF($BR$26<>\"\",$BR$26,\"\"),\"\")","v":""},{"$f":"IFERROR(IF($BS$26<>\"\",$BS$26,\"\"),\"\")","v":""},{"$f":"IFERROR(IF($BT$26<>\"\",$BT$26,\"\"),\"\")","v":""},{"$f":"IFERROR(IF($BU$26<>\"\",$BU$26,\"\"),\"\")","v":""},null,null,null,null,null,null,null,null,null,null,null,null,null,null,null,null,null,null,null,null,null,null,null,null,null,null,null,null,null,null,null,null,0,0,null,0,150,22.5,0,150,null,-150,null,null,null,null,null,null,null,null,null,null,0,-2422.5,0]
[{"$f":"IFERROR(IF($BR$27<>\"\",$BR$27,\"\"),\"\")","v":""},{"$f":"IFERROR(IF($BS$27<>\"\",$BS$27,\"\"),\"\")","v":""},{"$f":"IFERROR(IF($BT$27<>\"\",$BT$27,\"\"),\"\")","v":""},{"$f":"IFERROR(IF($BU$27<>\"\",$BU$27,\"\"),\"\")","v":""},null,null,null,null,null,null,null,null,null,null,null,null,null,null,null,null,null,null,null,null,null,null,null,null,null,null,null,null,null,null,null,null,0,0,null,0,150,22.5,0,150,null,-150,null,null,null,null,null,null,null,null,null,null,0,-2422.5,0]
[{"$f":"IFERROR(IF($BR$28<>\"\",$BR$28,\"\"),\"\")","v":""},{"$f":"IFERROR(IF($BS$28<>\"\",$BS$28,\"\"),\"\")","v":""},{"$f":"IFERROR(IF($BT$28<>\"\",$BT$28,\"\"),\"\")","v":""},{"$f":"IFERROR(IF($BU$28<>\"\",$BU$28,\"\"),\"\")","v":""},null,null,null,null,null,null,null,null,null,null,null,null,null,null,null,null,null,null,null,null,null,null,null,null,null,null,null,null,null,null,null,null,0,0,null,0,150,22.5,0,150,null,-150,null,null,null,null,null,null,null,null,null,null,0,-2422.5,0]
[{"$f":"IFERROR(IF($BR$29<>\"\",$BR$29,\"\"),\"\")","v":""},{"$f":"IFERROR(IF($BS$29<>\"\",$BS$29,\"\"),\"\")","v":""},{"$f":"IFERROR(IF($BT$29<>\"\",$BT$29,\"\"),\"\")","v":""},{"$f":"IFERROR(IF($BU$29<>\"\",$BU$29,\"\"),\"\")","v":""},null,null,null,null,null,null,null,null,null,null,null,null,null,null,null,null,null,null,null,null,null,null,null,null,null,null,null,null,null,null,null,null,0,0,null,0,150,22.5,0,150,null,-150,null,null,null,null,null,null,null,null,null,null,0,-2422.5,0]
[{"$f":"IFERROR(IF($BR$30<>\"\",$BR$30,\"\"),\"\")","v":""},{"$f":"IFERROR(IF($BS$30<>\"\",$BS$30,\"\"),\"\")","v":""},{"$f":"IFERROR(IF($BT$30<>\"\",$BT$30,\"\"),\"\")","v":""},{"$f":"IFERROR(IF($BU$30<>\"\",$BU$30,\"\"),\"\")","v":""},null,null,null,null,null,null,null,null,null,null,null,null,null,null,null,null,null,null,null,null,null,null,null,null,null,null,null,null,null,null,null,null,0,0,null,0,150,22.5,0,150,null,-150,null,null,null,null,null,null,null,null,null,null,0,-2422.5,0]
[{"$f":"IFERROR(IF($BR$31<>\"\",$BR$31,\"\"),\"\")","v":""},{"$f":"IFERROR(IF($BS$31<>\"\",$BS$31,\"\"),\"\")","v":""},{"$f":"IFERROR(IF($BT$31<>\"\",$BT$31,\"\"),\"\")","v":""},{"$f":"IFERROR(IF($BU$31<>\"\",$BU$31,\"\"),\"\")","v":""},null,null,null,null,null,null,null,null,null,null,null,null,null,null,null,null,null,null,null,null,null,null,null,null,null,null,null,null,null,null,null,null,0,0,null,0,150,22.5,0,150,null,-150,null,null,null,null,null,null,null,null,null,null,0,-2422.5,0]
[{"$f":"IFERROR(IF($BR$32<>\"\",$BR$32,\"\"),\"\")","v":""},{"$f":"IFERROR(IF($BS$32<>\"\",$BS$32,\"\"),\"\")","v":""},{"$f":"IFERROR(IF($BT$32<>\"\",$BT$32,\"\"),\"\")","v":""},{"$f":"IFERROR(IF($BU$32<>\"\",$BU$32,\"\"),\"\")","v":""},null,null,null,null,null,null,null,null,null,null,null,null,null,null,null,null,null,null,null,null,null,null,null,null,null,null,null,null,null,null,null,null,0,0,null,0,150,22.5,0,150,null,-150,null,null,null,null,null,null,null,null,null,null,0,-2422.5,0]
["TOTAL",null,null,null,null,null,null,null,null,null,null,null,null,null,null,null,null,null,null,null,null,null,null,null,null,null,null,null,null,null,null,null,null,null,null,null,null,{"$f":"SUM(AL314:AL338)","v":0},{"$f":"SUM(AM314:AM338)","v":0},0,3750,562.5,0,3750,0,-3750,0,0,0]
[]
[]
[]
[]
[]
[]
["November"]
["EMP NO:","NAMES","ID NO","PHONE NO.","RATE",1,2,3,4,5,6,7,8,9,10,11,12,13,14,15,16,17,18,19,20,21,22,23,24,25,26,27,28,29,30,31,"TOTAL  DAYS","BASIC PAY","ADVANCE","PAYEE","NHIF","NHIF RELIEF","NSSF","TOTAL-D","LOAN REPAYMENT","NET PAYABLE","LEAVE DAYS","PAID END MONTH","NITA",null,null,null,null,null,null,null,"Basic Salary for Paye"]
[{"$f":"IFERROR(IF($BR$8<>\"\",$BR$8,\"\"),\"\")","v":1},{"$f":"IFERROR(IF($BS$8<>\"\",$BS$8,\"\"),\"\")","v":"Brian Kombe Gode"},{"$f":"IFERROR(IF($BT$8<>\"\",$BT$8,\"\"),\"\")","v":334567890},{"$f":"IFERROR(IF($BU$8<>\"\",$BU$8,\"\"),\"\")","v":7896543},null,null,null,null,null,null,null,null,null,null,null,null,null,null,null,null,null,null,null,null,null,null,null,null,null,null,null,null,null,null,null,null,{"$f":"IFERROR(SUM(F348:AJ348)+AU348,0)","v":0},{"$f":"IFERROR(E348*AK348,0)","v":0},null,{"$f":"BG348","v":0},{"$f":"IFERROR(VLOOKUP(AL348,$BH$24:$BI$40,2,TRUE),0)","v":150},{"$f":"AO348*0.15","v":22.5},{"$f":"IF(AL348>=18000,1080,AL348*0.06)","v":0},{"$f":"IFERROR(AO348+AQ348,0)","v":150},null,{"$f":"AL348-AM348-AN348-AO348-AQ348-AS348","v":-150},null,null,null,null,null,null,null,null,null,null,{"$f":"AL348-AQ348","v":0},{"$f":"(IFERROR(IF((BE348-$BH$10)>1,$BH$10*$BI$10,0)+IF((BE348-$BH$10)>$BH$11,$BH$11*$BI$11,IF(AND((BE348-$BH$10)<$BH$11,(BE348-$BH$10)>0),((BE348-$BH$10)/$BH$11*($BH$11*$BI$11)),0))+IF((BE348-$BH$10-$BH$11)>$BH$12,(BE348-$BH$12)*$BI$12,IF(AND((BE348-$BH$10-$BH$11)<$BH$12,(BE348-$BH$10-$BH$11)>0),((BE348-$BH$10-$BH$11)/$BH$12*($BH$12*$BI$12)),0)),0))-2400-AP348","v":-2422.5},{"$f":"IFERROR(IF(BF348<=0,0,BF348),0)","v":0}]
[{"$f":"IFERROR(IF($BR$9<>\"\",$BR$9,\"\"),\"\")","v":2},{"$f":"IFERROR(IF($BS$9<>\"\",$BS$9,\"\"),\"\")","v":"Timothy Brian Odongo"},{"$f":"IFERROR(IF($BT$9<>\"\",$BT$9,\"\"),\"\")","v":2345671},{"$f":"IFERROR(IF($BU$9<>\"\",$BU$9,\"\"),\"\")","v":737456712},null,null,null,null,null,null,null,null,null,null,null,null,null,null,null,null,null,null,null,null,null,null,null,null,null,null,null,null,null,null,null,null,{"$f":"IFERROR(SUM(F349:AJ349)+AU349,0)","v":0},{"$f":"IFERROR(E349*AK349,0)","v":0},null,{"$f":"BG349","v":0},150,{"$f":"AO349*0.15","v":22.5},{"$f":"IF(AL349>=18000,1080,AL349*0.06)","v":0},{"$f":"IFERROR(AO349+AQ349,0)","v":150},null,{"$f":"AL349-AM349-AN349-AO349-AQ349","v":-150},null,null,null,null,null,null,null,null,null,null,0,-2422.5,{"$f":"IFERROR(IF(BF349<=0,0,BF349),0)","v":0}]
[{"$f":"IFERROR(IF($BR$10<>\"\",$BR$10,\"\"),\"\")","v":3},{"$f":"IFERROR(IF($BS$10<>\"\",$BS$10,\"\"),\"\")","v":"Bshora Wayu Nzamo"},{"$f":"IFERROR(IF($BT$10<>\"\",$BT$10,\"\"),\"\")","v":29675430},{"$f":"IFERROR(IF($BU$10<>\"\",$BU$10,\"\"),\"\")","v":734567820},null,null,null,null,null,null,null,null,null,null,null,null,null,null,null,null,null,null,null,null,null,null,null,null,null,null,null,null,null,null,null,null,0,0,null,0,150,22.5,0,150,null,-150,null,null,null,null,null,null,null,null,null,null,0,-2422.5,0]
[{"$f":"IFERROR(IF($BR$11<>\"\",$BR$11,\"\"),\"\")","v":4},{"$f":"IFERROR(IF($BS$11<>\"\",$BS$11,\"\"),\"\")","v":"Wanyoni Agala Musando"},{"$f":"IFERROR(IF($BT$11<>\"\",$BT$11,\"\"),\"\")","v":33456789},{"$f":"IFERROR(IF($BU$11<>\"\",$BU$11,\"\"),\"\")","v":786543221},null,null,null,null,null,null,null,null,null,null,null,null,null,null,null,null,null,null,null,null,null,null,null,null,null,null,null,null,null,null,null,null,0,0,null,0,150,22.5,0,150,null,-150,null,null,null,null,null,null,null,null,null,null,0,-2422.5,0]
[{"$f":"IFERROR(IF($BR$12<>\"\",$BR$12,\"\"),\"\")","v":5},{"$f":"IFERROR(IF($BS$12<>\"\",$BS$12,\"\"),\"\")","v":"Benerd Kimani Njorioge"},{"$f":"IFERROR(IF($BT$12<>\"\",$BT$12,\"\"),\"\")","v":30456789},{"$f":"IFERROR(IF($BU$12<>\"\",$BU$12,\"\"),\"\")","v":789654321},null,null,null,null,null,null,null,null,null,null,null,null,null,null,null,null,null,null,null,null,null,null,null,null,null,null,null,null,null,null,null,null,0,0,null,0,150,22.5,0,150,null,-150,null,null,null,null,null,null,null,null,null,null,0,-2422.5,0]
[{"$f":"IFERROR(IF($BR$13<>\"\",$BR$13,\"\"),\"\")","v":6},{"$f":"IFERROR(IF($BS$13<>\"\",$BS$13,\"\"),\"\")","v":"Sam Jacob Mroki"},{"$f":"IFERROR(IF($BT$13<>\"\",$BT$13,\"\"),\"\")","v":31567823},{"$f":"IFERROR(IF($BU$13<>\"\",$BU$13,\"\"),\"\")","v":768942345},null,null,null,null,null,null,null,null,null,null,null,null,null,null,null,null,null,null,null,null,null,null,null,null,null,null,null,null,null,null,null,null,0,0,null,0,150,22.5,0,150,null,-150,null,null,null,null,null,null,null,null,null,null,0,-2422.5,0]
[{"$f":"IFERROR(IF($BR$14<>\"\",$BR$14,\"\"),\"\")","v":7},{"$f":"IFERROR(IF($BS$14<>\"\",$BS$14,\"\"),\"\")","v":"Joy Mueni Mutinda"},{"$f":"IFERROR(IF($BT$14<>\"\",$BT$14,\"\"),\"\")","v":32897938},{"$f":"IFERROR(IF($BU$14<>\"\",$BU$14,\"\"),\"\")","v":723456765},null,null,null,null,null,null,null,null,null,null,null,null,null,null,null,null,null,null,null,null,null,null,null,null,null,null,null,null,null,null,null,null,0,0,null,0,150,22.5,0,150,null,-150,null,null,null,null,null,null,null,null,null,null,0,-2422.5,0]
[{"$f":"IFERROR(IF($BR$15<>\"\",$BR$15,\"\"),\"\")","v":8},{"$f":"IFERROR(IF($BS$15<>\"\",$BS$15,\"\"),\"\")","v":"Kahindi Mwero Boga"},{"$f":"IFERROR(IF($BT$15<>\"\",$BT$15,\"\"),\"\")","v":2934567},{"$f":"IFERROR(IF($BU$15<>\"\",$BU$15,\"\"),\"\")","v":798654312},null,null,null,null,null,null,null,null,null,null,null,null,null,null,null,null,null,null,null,null,null,null,null,null,null,null,null,null,null,null,null,null,0,0,null,0,150,22.5,0,150,null,-150,null,null,null,null,null,null,null,null,null,null,0,-2422.5,0]
[{"$f":"IFERROR(IF($BR$16<>\"\",$BR$16,\"\"),\"\")","v":9},{"$f":"IFERROR(IF($BS$16<>\"\",$BS$16,\"\"),\"\")","v":"John Boscco Bosire"},{"$f":"IFERROR(IF($BT$16<>\"\",$BT$16,\"\"),\"\")","v":98347897},{"$f":"IFERROR(IF($BU$16<>\"\",$BU$16,\"\"),\"\")","v":734567128},null,null,null,null,null,null,null,null,null,null,null,null,null,null,null,null,null,null,null,null,null,null,null,null,null,null,null,null,null,null,null,null,0,0,null,0,150,22.5,0,150,null,-150,null,null,null,null,null,null,null,null,null,null,0,-2422.5,0]
[{"$f":"IFERROR(IF($BR$17<>\"\",$BR$17,\"\"),\"\")","v":10},{"$f":"IFERROR(IF($BS$17<>\"\",$BS$17,\"\"),\"\")","v":"Hassan Abdulnasir Wario"},{"$f":"IFERROR(IF($BT$17<>\"\",$BT$17,\"\"),\"\")","v":2156789},{"$f":"IFERROR(IF($BU$17<>\"\",$BU$17,\"\"),\"\")","v":731256789},null,null,null,null,null,null,null,null,null,null,null,null,null,null,null,null,null,null,null,null,null,null,null,null,null,null,null,null,null,null,null,null,0,0,null,0,150,22.5,0,150,null,-150,null,null,null,null,null,null,null,null,null,null,0,-2422.5,0]
[{"$f":"IFERROR(IF($BR$18<>\"\",$BR$18,\"\"),\"\")","v":11},{"$f":"IFERROR(IF($BS$18<>\"\",$BS$18,\"\"),\"\")","v":"Jastine Makemba Batogo"},{"$f":"IFERROR(IF($BT$18<>\"\",$BT$18,\"\"),\"\")","v":34567890},{"$f":"IFERROR(IF($BU$18<>\"\",$BU$18,\"\"),\"\")","v":786885432},null,null,null,null,null,null,null,null,null,null,null,null,null,null,null,null,null,null,null,null,null,null,null,null,null,null,null,null,null,null,null,null,0,0,null,0,150,22.5,0,150,null,-150,null,null,null,null,null,null,null,null,null,null,0,-2422.5,0]
[{"$f":"IFERROR(IF($BR$19<>\"\",$BR$19,\"\"),\"\")","v":12},{"$f":"IFERROR(IF($BS$19<>\"\",$BS$19,\"\"),\"\")","v":"Janet Wairimu Wamatagi"},{"$f":"IFERROR(IF($BT$19<>\"\",$BT$19,\"\"),\"\")","v":35678910},{"$f":"IFERROR(IF($BU$19<>\"\",$BU$19,\"\"),\"\")","v":745683412},null,null,null,null,null,null,null,null,null,null,null,null,null,null,null,null,null,null,null,null,null,null,null,null,null,null,null,null,null,null,null,null,0,0,null,0,150,22.5,0,150,null,-150,null,null,null,null,null,null,null,null,null,null,0,-2422.5,0]
[{"$f":"IFERROR(IF($BR$20<>\"\",$BR$20,\"\"),\"\")","v":13},{"$f":"IFERROR(IF($BS$20<>\"\",$BS$20,\"\"),\"\")","v":"Denis Brian Ochola"},{"$f":"IFERROR(IF($BT$20<>\"\",$BT$20,\"\"),\"\")","v":34567812},{"$f":"IFERROR(IF($BU$20<>\"\",$BU$20,\"\"),\"\")","v":798345675},null,null,null,null,null,null,null,null,null,null,null,null,null,null,null,null,null,null,null,null,null,null,null,null,null,null,null,null,null,null,null,null,0,0,null,0,150,22.5,0,150,null,-150,null,null,null,null,null,null,null,null,null,null,0,-2422.5,0]
[{"$f":"IFERROR(IF($BR$21<>\"\",$BR$21,\"\"),\"\")","v":14},{"$f":"IFERROR(IF($BS$21<>\"\",$BS$21,\"\"),\"\")","v":"Gitau Harrison Kithi"},{"$f":"IFERROR(IF($BT$21<>\"\",$BT$21,\"\"),\"\")","v":35267812},{"$f":"IFERROR(IF($BU$21<>\"\",$BU$21,\"\"),\"\")","v":739456712},null,null,null,null,null,null,null,null,null,null,null,null,null,null,null,null,null,null,null,null,null,null,null,null,null,null,null,null,null,null,null,null,0,0,null,0,150,22.5,0,150,null,-150,null,null,null,null,null,null,null,null,null,null,0,-2422.5,0]
[{"$f":"IFERROR(IF($BR$22<>\"\",$BR$22,\"\"),\"\")","v":""},{"$f":"IFERROR(IF($BS$22<>\"\",$BS$22,\"\"),\"\")","v":""},{"$f":"IFERROR(IF($BT$22<>\"\",$BT$22,\"\"),\"\")","v":""},{"$f":"IFERROR(IF($BU$22<>\"\",$BU$22,\"\"),\"\")","v":""},null,null,null,null,null,null,null,null,null,null,null,null,null,null,null,null,null,null,null,null,null,null,null,null,null,null,null,null,null,null,null,null,0,0,null,0,150,22.5,0,150,null,-150,null,null,null,null,null,null,null,null,null,null,0,-2422.5,0]
[{"$f":"IFERROR(IF($BR$23<>\"\",$BR$23,\"\"),\"\")","v":""},{"$f":"IFERROR(IF($BS$23<>\"\",$BS$23,\"\"),\"\")","v":""},{"$f":"IFERROR(IF($BT$23<>\"\",$BT$23,\"\"),\"\")","v":""},{"$f":"IFERROR(IF($BU$23<>\"\",$BU$23,\"\"),\"\")","v":""},null,null,null,null,null,null,null,null,null,null,null,null,null,null,null,null,null,null,null,null,null,null,null,null,null,null,null,null,null,null,null,null,0,0,null,0,150,22.5,0,150,null,-150,null,null,null,null,null,null,null,null,null,null,0,-2422.5,0]
[{"$f":"IFERROR(IF($BR$24<>\"\",$BR$24,\"\"),\"\")","v":""},{"$f":"IFERROR(IF($BS$24<>\"\",$BS$24,\"\"),\"\")","v":""},{"$f":"IFERROR(IF($BT$24<>\"\",$BT$24,\"\"),\"\")","v":""},{"$f":"IFERROR(IF($BU$24<>\"\",$BU$24,\"\"),\"\")","v":""},null,null,null,null,null,null,null,null,null,null,null,null,null,null,null,null,null,null,null,null,null,null,null,null,null,null,null,null,null,null,null,null,0,0,null,0,150,22.5,0,150,null,-150,null,null,null,null,null,null,null,null,null,null,0,-2422.5,0]
[{"$f":"IFERROR(IF($BR$25<>\"\",$BR$25,\"\"),\"\")","v":""},{"$f":"IFERROR(IF($BS$25<>\"\",$BS$25,\"\"),\"\")","v":""},{"$f":"IFERROR(IF($BT$25<>\"\",$BT$25,\"\"),\"\")","v":""},{"$f":"IFERROR(IF($BU$25<>\"\",$BU$25,\"\"),\"\")","v":""},null,null,null,null,null,null,null,null,null,null,null,null,null,null,null,null,null,null,null,null,null,null,null,null,null,null,null,null,null,null,null,null,0,0,null,0,150,22.5,0,150,null,-150,null,null,null,null,null,null,null,null,null,null,0,-2422.5,0]
[{"$f":"IFERROR(IF($BR$26<>\"\",$BR$26,\"\"),\"\")","v":""},{"$f":"IFERROR(IF($BS$26<>\"\",$BS$26,\"\"),\"\")","v":""},{"$f":"IFERROR(IF($BT$26<>\"\",$BT$26,\"\"),\"\")","v":""},{"$f":"IFERROR(IF($BU$26<>\"\",$BU$26,\"\"),\"\")","v":""},null,null,null,null,null,null,null,null,null,null,null,null,null,null,null,null,null,null,null,null,null,null,null,null,null,null,null,null,null,null,null,null,0,0,null,0,150,22.5,0,150,null,-150,null,null,null,null,null,null,null,null,null,null,0,-2422.5,0]
[{"$f":"IFERROR(IF($BR$27<>\"\",$BR$27,\"\"),\"\")","v":""},{"$f":"IFERROR(IF($BS$27<>\"\",$BS$27,\"\"),\"\")","v":""},{"$f":"IFERROR(IF($BT$27<>\"\",$BT$27,\"\"),\"\")","v":""},{"$f":"IFERROR(IF($BU$27<>\"\",$BU$27,\"\"),\"\")","v":""},null,null,null,null,null,null,null,null,null,null,null,null,null,null,null,null,null,null,null,null,null,null,null,null,null,null,null,null,null,null,null,null,0,0,null,0,150,22.5,0,150,null,-150,null,null,null,null,null,null,null,null,null,null,0,-2422.5,0]
[{"$f":"IFERROR(IF($BR$28<>\"\",$BR$28,\"\"),\"\")","v":""},{"$f":"IFERROR(IF($BS$28<>\"\",$BS$28,\"\"),\"\")","v":""},{"$f":"IFERROR(IF($BT$28<>\"\",$BT$28,\"\"),\"\")","v":""},{"$f":"IFERROR(IF($BU$28<>\"\",$BU$28,\"\"),\"\")","v":""},null,null,null,null,null,null,null,null,null,null,null,null,null,null,null,null,null,null,null,null,null,null,null,null,null,null,null,null,null,null,null,null,0,0,null,0,150,22.5,0,150,null,-150,null,null,null,null,null,null,null,null,null,null,0,-2422.5,0]
[{"$f":"IFERROR(IF($BR$29<>\"\",$BR$29,\"\"),\"\")","v":""},{"$f":"IFERROR(IF($BS$29<>\"\",$BS$29,\"\"),\"\")","v":""},{"$f":"IFERROR(IF($BT$29<>\"\",$BT$29,\"\"),\"\")","v":""},{"$f":"IFERROR(IF($BU$29<>\"\",$BU$29,\"\"),\"\")","v":""},null,null,null,null,null,null,null,null,null,null,null,null,null,null,null,null,null,null,null,null,null,null,null,null,null,null,null,null,null,null,null,null,0,0,null,0,150,22.5,0,150,null,-150,null,null,null,null,null,null,null,null,null,null,0,-2422.5,0]
[{"$f":"IFERROR(IF($BR$30<>\"\",$BR$30,\"\"),\"\")","v":""},{"$f":"IFERROR(IF($BS$30<>\"\",$BS$30,\"\"),\"\")","v":""},{"$f":"IFERROR(IF($BT$30<>\"\",$BT$30,\"\"),\"\")","v":""},{"$f":"IFERROR(IF($BU$30<>\"\",$BU$30,\"\"),\"\")","v":""},null,null,null,null,null,null,null,null,null,null,null,null,null,null,null,null,null,null,null,null,null,null,null,null,null,null,null,null,null,null,null,null,0,0,null,0,150,22.5,0,150,null,-150,null,null,null,null,null,null,null,null,null,null,0,-2422.5,0]
[{"$f":"IFERROR(IF($BR$31<>\"\",$BR$31,\"\"),\"\")","v":""},{"$f":"IFERROR(IF($BS$31<>\"\",$BS$31,\"\"),\"\")","v":""},{"$f":"IFERROR(IF($BT$31<>\"\",$BT$31,\"\"),\"\")","v":""},{"$f":"IFERROR(IF($BU$31<>\"\",$BU$31,\"\"),\"\")","v":""},null,null,null,null,null,null,null,null,null,null,null,null,null,null,null,null,null,null,null,null,null,null,null,null,null,null,null,null,null,null,null,null,0,0,null,0,150,22.5,0,150,null,-150,null,null,null,null,null,null,null,null,null,null,0,-2422.5,0]
[{"$f":"IFERROR(IF($BR$32<>\"\",$BR$32,\"\"),\"\")","v":""},{"$f":"IFERROR(IF($BS$32<>\"\",$BS$32,\"\"),\"\")","v":""},{"$f":"IFERROR(IF($BT$32<>\"\",$BT$32,\"\"),\"\")","v":""},{"$f":"IFERROR(IF($BU$32<>\"\",$BU$32,\"\"),\"\")","v":""},null,null,null,null,null,null,null,null,null,null,null,null,null,null,null,null,null,null,null,null,null,null,null,null,null,null,null,null,null,null,null,null,0,0,null,0,150,22.5,0,150,null,-150,null,null,null,null,null,null,null,null,null,null,0,-2422.5,0]
["TOTAL",null,null,null,null,null,null,null,null,null,null,null,null,null,null,null,null,null,null,null,null,null,null,null,null,null,null,null,null,null,null,null,null,null,null,null,null,{"$f":"SUM(AL348:AL372)","v":0},{"$f":"SUM(AM348:AM372)","v":0},0,3750,562.5,0,3750,0,-3750,0,0,0]
[]
[]
[]
[]
[]
[]
["December"]
["EMP NO:","NAMES","ID NO","PHONE NO.","RATE",1,2,3,4,5,6,7,8,9,10,11,12,13,14,15,16,17,18,19,20,21,22,23,24,25,26,27,28,29,30,31,"TOTAL  DAYS","BASIC PAY","ADVANCE","PAYEE","NHIF","NHIF RELIEF","NSSF","TOTAL-D","LOAN REPAYMENT","NET PAYABLE","LEAVE DAYS","PAID END MONTH","NITA",null,null,null,null,null,null,null,"Basic Salary for Paye"]
[{"$f":"IFERROR(IF($BR$8<>\"\",$BR$8,\"\"),\"\")","v":1},{"$f":"IFERROR(IF($BS$8<>\"\",$BS$8,\"\"),\"\")","v":"Brian Kombe Gode"},{"$f":"IFERROR(IF($BT$8<>\"\",$BT$8,\"\"),\"\")","v":334567890},{"$f":"IFERROR(IF($BU$8<>\"\",$BU$8,\"\"),\"\")","v":7896543},null,null,null,null,null,null,null,null,null,null,null,null,null,null,null,null,null,null,null,null,null,null,null,null,null,null,null,null,null,null,null,null,{"$f":"IFERROR(SUM(F382:AJ382)+AU382,0)","v":0},{"$f":"IFERROR(E382*AK382,0)","v":0},null,{"$f":"BG382","v":0},{"$f":"IFERROR(VLOOKUP(AL382,$BH$24:$BI$40,2,TRUE),0)","v":150},{"$f":"AO382*0.15","v":22.5},{"$f":"IF(AL382>=18000,1080,AL382*0.06)","v":0},{"$f":"IFERROR(AO382+AQ382,0)","v":150},null,{"$f":"AL382-AM382-AN382-AO382-AQ382-AS382","v":-150},null,null,null,null,null,null,null,null,null,null,{"$f":"AL382-AQ382","v":0},{"$f":"(IFERROR(IF((BE382-$BH$10)>1,$BH$10*$BI$10,0)+IF((BE382-$BH$10)>$BH$11,$BH$11*$BI$11,IF(AND((BE382-$BH$10)<$BH$11,(BE382-$BH$10)>0),((BE382-$BH$10)/$BH$11*($BH$11*$BI$11)),0))+IF((BE382-$BH$10-$BH$11)>$BH$12,(BE382-$BH$12)*$BI$12,IF(AND((BE382-$BH$10-$BH$11)<$BH$12,(BE382-$BH$10-$BH$11)>0),((BE382-$BH$10-$BH$11)/$BH$12*($BH$12*$BI$12)),0)),0))-2400-AP382","v":-2422.5},{"$f":"IFERROR(IF(BF382<=0,0,BF382),0)","v":0}]
[{"$f":"IFERROR(IF($BR$9<>\"\",$BR$9,\"\"),\"\")","v":2},{"$f":"IFERROR(IF($BS$9<>\"\",$BS$9,\"\"),\"\")","v":"Timothy Brian Odongo"},{"$f":"IFERROR(IF($BT$9<>\"\",$BT$9,\"\"),\"\")","v":2345671},{"$f":"IFERROR(IF($BU$9<>\"\",$BU$9,\"\"),\"\")","v":737456712},null,null,null,null,null,null,null,null,null,null,null,null,null,null,null,null,null,null,null,null,null,null,null,null,null,null,null,null,null,null,null,null,{"$f":"IFERROR(SUM(F383:AJ383)+AU383,0)","v":0},{"$f":"IFERROR(E383*AK383,0)","v":0},null,{"$f":"BG383","v":0},150,{"$f":"AO383*0.15","v":22.5},{"$f":"IF(AL383>=18000,1080,AL383*0.06)","v":0},{"$f":"IFERROR(AO383+AQ383,0)","v":150},null,{"$f":"AL383-AM383-AN383-AO383-AQ383","v":-150},null,null,null,null,null,null,null,null,null,null,0,-2422.5,{"$f":"IFERROR(IF(BF383<=0,0,BF383),0)","v":0}]
[{"$f":"IFERROR(IF($BR$10<>\"\",$BR$10,\"\"),\"\")","v":3},{"$f":"IFERROR(IF($BS$10<>\"\",$BS$10,\"\"),\"\")","v":"Bshora Wayu Nzamo"},{"$f":"IFERROR(IF($BT$10<>\"\",$BT$10,\"\"),\"\")","v":29675430},{"$f":"IFERROR(IF($BU$10<>\"\",$BU$10,\"\"),\"\")","v":734567820},null,null,null,null,null,null,null,null,null,null,null,null,null,null,null,null,null,null,null,null,null,null,null,null,null,null,null,null,null,null,null,null,0,0,null,0,150,22.5,0,150,null,-150,null,null,null,null,null,null,null,null,null,null,0,-2422.5,0]
[{"$f":"IFERROR(IF($BR$11<>\"\",$BR$11,\"\"),\"\")","v":4},{"$f":"IFERROR(IF($BS$11<>\"\",$BS$11,\"\"),\"\")","v":"Wanyoni Agala Musando"},{"$f":"IFERROR(IF($BT$11<>\"\",$BT$11,\"\"),\"\")","v":33456789},{"$f":"IFERROR(IF($BU$11<>\"\",$BU$11,\"\"),\"\")","v":786543221},null,null,null,null,null,null,null,null,null,null,null,null,null,null,null,null,null,null,null,null,null,null,null,null,null,null,null,null,null,null,null,null,0,0,null,0,150,22.5,0,150,null,-150,null,null,null,null,null,null,null,null,null,null,0,-2422.5,0]
[{"$f":"IFERROR(IF($BR$12<>\"\",$BR$12,\"\"),\"\")","v":5},{"$f":"IFERROR(IF($BS$12<>\"\",$BS$12,\"\"),\"\")","v":"Benerd Kimani Njorioge"},{"$f":"IFERROR(IF($BT$12<>\"\",$BT$12,\"\"),\"\")","v":30456789},{"$f":"IFERROR(IF($BU$12<>\"\",$BU$12,\"\"),\"\")","v":789654321},null,null,null,null,null,null,null,null,null,null,null,null,null,null,null,null,null,null,null,null,null,null,null,null,null,null,null,null,null,null,null,null,0,0,null,0,150,22.5,0,150,null,-150,null,null,null,null,null,null,null,null,null,null,0,-2422.5,0]
[{"$f":"IFERROR(IF($BR$13<>\"\",$BR$13,\"\"),\"\")","v":6},{"$f":"IFERROR(IF($BS$13<>\"\",$BS$13,\"\"),\"\")","v":"Sam Jacob Mroki"},{"$f":"IFERROR(IF($BT$13<>\"\",$BT$13,\"\"),\"\")","v":31567823},{"$f":"IFERROR(IF($BU$13<>\"\",$BU$13,\"\"),\"\")","v":768942345},null,null,null,null,null,null,null,null,null,null,null,null,null,null,null,null,null,null,null,null,null,null,null,null,null,null,null,null,null,null,null,null,0,0,null,0,150,22.5,0,150,null,-150,null,null,null,null,null,null,null,null,null,null,0,-2422.5,0]
[{"$f":"IFERROR(IF($BR$14<>\"\",$BR$14,\"\"),\"\")","v":7},{"$f":"IFERROR(IF($BS$14<>\"\",$BS$14,\"\"),\"\")","v":"Joy Mueni Mutinda"},{"$f":"IFERROR(IF($BT$14<>\"\",$BT$14,\"\"),\"\")","v":32897938},{"$f":"IFERROR(IF($BU$14<>\"\",$BU$14,\"\"),\"\")","v":723456765},null,null,null,null,null,null,null,null,null,null,null,null,null,null,null,null,null,null,null,null,null,null,null,null,null,null,null,null,null,null,null,null,0,0,null,0,150,22.5,0,150,null,-150,null,null,null,null,null,null,null,null,null,null,0,-2422.5,0]
[{"$f":"IFERROR(IF($BR$15<>\"\",$BR$15,\"\"),\"\")","v":8},{"$f":"IFERROR(IF($BS$15<>\"\",$BS$15,\"\"),\"\")","v":"Kahindi Mwero Boga"},{"$f":"IFERROR(IF($BT$15<>\"\",$BT$15,\"\"),\"\")","v":2934567},{"$f":"IFERROR(IF($BU$15<>\"\",$BU$15,\"\"),\"\")","v":798654312},null,null,null,null,null,null,null,null,null,null,null,null,null,null,null,null,null,null,null,null,null,null,null,null,null,null,null,null,null,null,null,null,0,0,null,0,150,22.5,0,150,null,-150,null,null,null,null,null,null,null,null,null,null,0,-2422.5,0]
[{"$f":"IFERROR(IF($BR$16<>\"\",$BR$16,\"\"),\"\")","v":9},{"$f":"IFERROR(IF($BS$16<>\"\",$BS$16,\"\"),\"\")","v":"John Boscco Bosire"},{"$f":"IFERROR(IF($BT$16<>\"\",$BT$16,\"\"),\"\")","v":98347897},{"$f":"IFERROR(IF($BU$16<>\"\",$BU$16,\"\"),\"\")","v":734567128},null,null,null,null,null,null,null,null,null,null,null,null,null,null,null,null,null,null,null,null,null,null,null,null,null,null,null,null,null,null,null,null,0,0,null,0,150,22.5,0,150,null,-150,null,null,null,null,null,null,null,null,null,null,0,-2422.5,0]
[{"$f":"IFERROR(IF($BR$17<>\"\",$BR$17,\"\"),\"\")","v":10},{"$f":"IFERROR(IF($BS$17<>\"\",$BS$17,\"\"),\"\")","v":"Hassan Abdulnasir Wario"},{"$f":"IFERROR(IF($BT$17<>\"\",$BT$17,\"\"),\"\")","v":2156789},{"$f":"IFERROR(IF($BU$17<>\"\",$BU$17,\"\"),\"\")","v":731256789},null,null,null,null,null,null,null,null,null,null,null,null,null,null,null,null,null,null,null,null,null,null,null,null,null,null,null,null,null,null,null,null,0,0,null,0,150,22.5,0,150,null,-150,null,null,null,null,null,null,null,null,null,null,0,-2422.5,0]
[{"$f":"IFERROR(IF($BR$18<>\"\",$BR$18,\"\"),\"\")","v":11},{"$f":"IFERROR(IF($BS$18<>\"\",$BS$18,\"\"),\"\")","v":"Jastine Makemba Batogo"},{"$f":"IFERROR(IF($BT$18<>\"\",$BT$18,\"\"),\"\")","v":34567890},{"$f":"IFERROR(IF($BU$18<>\"\",$BU$18,\"\"),\"\")","v":786885432},null,null,null,null,null,null,null,null,null,null,null,null,null,null,null,null,null,null,null,null,null,null,null,null,null,null,null,null,null,null,null,null,0,0,null,0,150,22.5,0,150,null,-150,null,null,null,null,null,null,null,null,null,null,0,-2422.5,0]
[{"$f":"IFERROR(IF($BR$19<>\"\",$BR$19,\"\"),\"\")","v":12},{"$f":"IFERROR(IF($BS$19<>\"\",$BS$19,\"\"),\"\")","v":"Janet Wairimu Wamatagi"},{"$f":"IFERROR(IF($BT$19<>\"\",$BT$19,\"\"),\"\")","v":35678910},{"$f":"IFERROR(IF($BU$19<>\"\",$BU$19,\"\"),\"\")","v":745683412},null,null,null,null,null,null,null,null,null,null,null,null,null,null,null,null,null,null,null,null,null,null,null,null,null,null,null,null,null,null,null,null,0,0,null,0,150,22.5,0,150,null,-150,null,null,null,null,null,null,null,null,null,null,0,-2422.5,0]
[{"$f":"IFERROR(IF($BR$20<>\"\",$BR$20,\"\"),\"\")","v":13},{"$f":"IFERROR(IF($BS$20<>\"\",$BS$20,\"\"),\"\")","v":"Denis Brian Ochola"},{"$f":"IFERROR(IF($BT$20<>\"\",$BT$20,\"\"),\"\")","v":34567812},{"$f":"IFERROR(IF($BU$20<>\"\",$BU$20,\"\"),\"\")","v":798345675},null,null,null,null,null,null,null,null,null,null,null,null,null,null,null,null,null,null,null,null,null,null,null,null,null,null,null,null,null,null,null,null,0,0,null,0,150,22.5,0,150,null,-150,null,null,null,null,null,null,null,null,null,null,0,-2422.5,0]
[{"$f":"IFERROR(IF($BR$21<>\"\",$BR$21,\"\"),\"\")","v":14},{"$f":"IFERROR(IF($BS$21<>\"\",$BS$21,\"\"),\"\")","v":"Gitau Harrison Kithi"},{"$f":"IFERROR(IF($BT$21<>\"\",$BT$21,\"\"),\"\")","v":35267812},{"$f":"IFERROR(IF($BU$21<>\"\",$BU$21,\"\"),\"\")","v":739456712},null,null,null,null,null,null,null,null,null,null,null,null,null,null,null,null,null,null,null,null,null,null,null,null,null,null,null,null,null,null,null,null,0,0,null,0,150,22.5,0,150,null,-150,null,null,null,null,null,null,null,null,null,null,0,-2422.5,0]
[{"$f":"IFERROR(IF($BR$22<>\"\",$BR$22,\"\"),\"\")","v":""},{"$f":"IFERROR(IF($BS$22<>\"\",$BS$22,\"\"),\"\")","v":""},{"$f":"IFERROR(IF($BT$22<>\"\",$BT$22,\"\"),\"\")","v":""},{"$f":"IFERROR(IF($BU$22<>\"\",$BU$22,\"\"),\"\")","v":""},null,null,null,null,null,null,null,null,null,null,null,null,null,null,null,null,null,null,null,null,null,null,null,null,null,null,null,null,null,null,null,null,0,0,null,0,150,22.5,0,150,null,-150,null,null,null,null,null,null,null,null,null,null,0,-2422.5,0]
[{"$f":"IFERROR(IF($BR$23<>\"\",$BR$23,\"\"),\"\")","v":""},{"$f":"IFERROR(IF($BS$23<>\"\",$BS$23,\"\"),\"\")","v":""},{"$f":"IFERROR(IF($BT$23<>\"\",$BT$23,\"\"),\"\")","v":""},{"$f":"IFERROR(IF($BU$23<>\"\",$BU$23,\"\"),\"\")","v":""},null,null,null,null,null,null,null,null,null,null,null,null,null,null,null,null,null,null,null,null,null,null,null,null,null,null,null,null,null,null,null,null,0,0,null,0,150,22.5,0,150,null,-150,null,null,null,null,null,null,null,null,null,null,0,-2422.5,0]
[{"$f":"IFERROR(IF($BR$24<>\"\",$BR$24,\"\"),\"\")","v":""},{"$f":"IFERROR(IF($BS$24<>\"\",$BS$24,\"\"),\"\")","v":""},{"$f":"IFERROR(IF($BT$24<>\"\",$BT$24,\"\"),\"\")","v":""},{"$f":"IFERROR(IF($BU$24<>\"\",$BU$24,\"\"),\"\")","v":""},null,null,null,null,null,null,null,null,null,null,null,null,null,null,null,null,null,null,null,null,null,null,null,null,null,null,null,null,null,null,null,null,0,0,null,0,150,22.5,0,150,null,-150,null,null,null,null,null,null,null,null,null,null,0,-2422.5,0]
[{"$f":"IFERROR(IF($BR$25<>\"\",$BR$25,\"\"),\"\")","v":""},{"$f":"IFERROR(IF($BS$25<>\"\",$BS$25,\"\"),\"\")","v":""},{"$f":"IFERROR(IF($BT$25<>\"\",$BT$25,\"\"),\"\")","v":""},{"$f":"IFERROR(IF($BU$25<>\"\",$BU$25,\"\"),\"\")","v":""},null,null,null,null,null,null,null,null,null,null,null,null,null,null,null,null,null,null,null,null,null,null,null,null,null,null,null,null,null,null,null,null,0,0,null,0,150,22.5,0,150,null,-150,null,null,null,null,null,null,null,null,null,null,0,-2422.5,0]
[{"$f":"IFERROR(IF($BR$26<>\"\",$BR$26,\"\"),\"\")","v":""},{"$f":"IFERROR(IF($BS$26<>\"\",$BS$26,\"\"),\"\")","v":""},{"$f":"IFERROR(IF($BT$26<>\"\",$BT$26,\"\"),\"\")","v":""},{"$f":"IFERROR(IF($BU$26<>\"\",$BU$26,\"\"),\"\")","v":""},null,null,null,null,null,null,null,null,null,null,null,null,null,null,null,null,null,null,null,null,null,null,null,null,null,null,null,null,null,null,null,null,0,0,null,0,150,22.5,0,150,null,-150,null,null,null,null,null,null,null,null,null,null,0,-2422.5,0]
[{"$f":"IFERROR(IF($BR$27<>\"\",$BR$27,\"\"),\"\")","v":""},{"$f":"IFERROR(IF($BS$27<>\"\",$BS$27,\"\"),\"\")","v":""},{"$f":"IFERROR(IF($BT$27<>\"\",$BT$27,\"\"),\"\")","v":""},{"$f":"IFERROR(IF($BU$27<>\"\",$BU$27,\"\"),\"\")","v":""},null,null,null,null,null,null,null,null,null,null,null,null,null,null,null,null,null,null,null,null,null,null,null,null,null,null,null,null,null,null,null,null,0,0,null,0,150,22.5,0,150,null,-150,null,null,null,null,null,null,null,null,null,null,0,-2422.5,0]
[{"$f":"IFERROR(IF($BR$28<>\"\",$BR$28,\"\"),\"\")","v":""},{"$f":"IFERROR(IF($BS$28<>\"\",$BS$28,\"\"),\"\")","v":""},{"$f":"IFERROR(IF($BT$28<>\"\",$BT$28,\"\"),\"\")","v":""},{"$f":"IFERROR(IF($BU$28<>\"\",$BU$28,\"\"),\"\")","v":""},null,null,null,null,null,null,null,null,null,null,null,null,null,null,null,null,null,null,null,null,null,null,null,null,null,null,null,null,null,null,null,null,0,0,null,0,150,22.5,0,150,null,-150,null,null,null,null,null,null,null,null,null,null,0,-2422.5,0]
[{"$f":"IFERROR(IF($BR$29<>\"\",$BR$29,\"\"),\"\")","v":""},{"$f":"IFERROR(IF($BS$29<>\"\",$BS$29,\"\"),\"\")","v":""},{"$f":"IFERROR(IF($BT$29<>\"\",$BT$29,\"\"),\"\")","v":""},{"$f":"IFERROR(IF($BU$29<>\"\",$BU$29,\"\"),\"\")","v":""},null,null,null,null,null,null,null,null,null,null,null,null,null,null,null,null,null,null,null,null,null,null,null,null,null,null,null,null,null,null,null,null,0,0,null,0,150,22.5,0,150,null,-150,null,null,null,null,null,null,null,null,null,null,0,-2422.5,0]
[{"$f":"IFERROR(IF($BR$30<>\"\",$BR$30,\"\"),\"\")","v":""},{"$f":"IFERROR(IF($BS$30<>\"\",$BS$30,\"\"),\"\")","v":""},{"$f":"IFERROR(IF($BT$30<>\"\",$BT$30,\"\"),\"\")","v":""},{"$f":"IFERROR(IF($BU$30<>\"\",$BU$30,\"\"),\"\")","v":""},null,null,null,null,null,null,null,null,null,null,null,null,null,null,null,null,null,null,null,null,null,null,null,null,null,null,null,null,null,null,null,null,0,0,null,0,150,22.5,0,150,null,-150,null,null,null,null,null,null,null,null,null,null,0,-2422.5,0]
[{"$f":"IFERROR(IF($BR$31<>\"\",$BR$31,\"\"),\"\")","v":""},{"$f":"IFERROR(IF($BS$31<>\"\",$BS$31,\"\"),\"\")","v":""},{"$f":"IFERROR(IF($BT$31<>\"\",$BT$31,\"\"),\"\")","v":""},{"$f":"IFERROR(IF($BU$31<>\"\",$BU$31,\"\"),\"\")","v":""},null,null,null,null,null,null,null,null,null,null,null,null,null,null,null,null,null,null,null,null,null,null,null,null,null,null,null,null,null,null,null,null,0,0,null,0,150,22.5,0,150,null,-150,null,null,null,null,null,null,null,null,null,null,0,-2422.5,0]
[{"$f":"IFERROR(IF($BR$32<>\"\",$BR$32,\"\"),\"\")","v":""},{"$f":"IFERROR(IF($BS$32<>\"\",$BS$32,\"\"),\"\")","v":""},{"$f":"IFERROR(IF($BT$32<>\"\",$BT$32,\"\"),\"\")","v":""},{"$f":"IFERROR(IF($BU$32<>\"\",$BU$32,\"\"),\"\")","v":""},null,null,null,null,null,null,null,null,null,null,null,null,null,null,null,null,null,null,null,null,null,null,null,null,null,null,null,null,null,null,null,null,0,0,null,0,150,22.5,0,150,null,-150,null,null,null,null,null,null,null,null,null,null,0,-2422.5,0]
["TOTAL",null,null,null,null,null,null,null,null,null,null,null,null,null,null,null,null,null,null,null,null,null,null,null,null,null,null,null,null,null,null,null,null,null,null,null,null,{"$f":"SUM(AL382:AL406)","v":0},{"$f":"SUM(AM382:AM406)","v":0},0,3750,562.5,0,3750,0,-3750,0,0,0]